{"text_format":"1","workbook":"xlsx","n_sheets":6,"sheets":["会員名簿","大会名簿","組別名簿","スコアカード","成績表","操作説明"],"not_rendered":{"charts":0,"images":3,"macros":1,"external_links":0,"defined_names":5,"comments":0,"pivot_tables":0},"unopened":[],"bounds":{"document_bytes":16777216,"sheet_cells":100000,"rows_first":2000,"rows_last":500,"rows_between":2000,"halvings":0,"cell_chars":16384,"cell_head_chars":4096},"cells_cut":0,"cells_raw":0,"read":"whole","date_system":"1900"}

{"sheet":"会員名簿","index":0,"n_rows":998,"n_cols":7,"rows_kept":998,"cut":false,"hidden":false,"merged":[[0,0,0,2],[0,3,0,5]]}
["◆会員登録簿",null,null,"チーム名～生年月日まで直接入力"]
["選手NO","チーム","選手名","ふりがな","性別","生年月日","備　　考"]
[1,"美東","美東　一郎","みとう　いちろう","男","1949-12-19"]
[2,"秋芳","秋芳　花子","しゅうほう　はなこ","女","1947-12-10"]
[3,"美祢","美祢　幸子","みね　さちこ","女","1945-10-10"]
[4,"小郡","小郡　三郎","おごおり　さぶろう","男","1948-05-05","協会長"]
[5,"山口","山口　五郎","やまぐち　ごろう","男","1948-12-14"]
[6,"美東","美東　二郎","みとう　じろう","男","1976-09-03"]
[7,"山口","山口　六郎","やまぐち　ろくろう","男","1950-12-24"]
[8,"宇部","宇部　夢子","うべ　ゆめこ","女","1953-11-10","会計"]
[9,"萩","萩　　四朗","はぎ　しろう","男","1922-05-03"]
[10]
[11]
[12]
[13]
[14]
[15]
[16]
[17]
[18]
[19]
[20]
[21]
[22]
[23]
[24]
[25]
[26]
[27]
[28]
[29]
[30]
[31]
[32]
[33]
[34]
[35]
[36]
[37]
[38]
[39]
[40]
[41]
[42]
[43]
[44]
[45]
[46]
[47]
[48]
[49]
[50]
[51]
[52]
[53]
[54]
[55]
[56]
[57]
[58]
[59]
[60]
[61]
[62]
[63]
[64]
[65]
[66]
[67]
[68]
[69]
[70]
[71]
[72]
[73]
[74]
[75]
[76]
[77]
[78]
[79]
[80]
[81]
[82]
[83]
[84]
[85]
[86]
[87]
[88]
[89]
[90]
[91]
[92]
[93]
[94]
[95]
[96]
[97]
[98]
[99]
[100]
[101]
[102]
[103]
[104]
[105]
[106]
[107]
[108]
[109]
[110]
[111]
[112]
[113]
[114]
[115]
[116]
[117]
[118]
[119]
[120]
[121]
[122]
[123]
[124]
[125]
[126]
[127]
[128]
[129]
[130]
[131]
[132]
[133]
[134]
[135]
[136]
[137]
[138]
[139]
[140]
[141]
[142]
[143]
[144]
[145]
[146]
[147]
[148]
[149]
[150]
[151]
[152]
[153]
[154]
[155]
[156]
[157]
[158]
[159]
[160]
[161]
[162]
[163]
[164]
[165]
[166]
[167]
[168]
[169]
[170]
[171]
[172]
[173]
[174]
[175]
[176]
[177]
[178]
[179]
[180]
[181]
[182]
[183]
[184]
[185]
[186]
[187]
[188]
[189]
[190]
[191]
[192]
[193]
[194]
[195]
[196]
[197]
[198]
[199]
[200]
[201]
[202]
[203]
[204]
[205]
[206]
[207]
[208]
[209]
[210]
[211]
[212]
[213]
[214]
[215]
[216]
[217]
[218]
[219]
[220]
[221]
[222]
[223]
[224]
[225]
[226]
[227]
[228]
[229]
[230]
[231]
[232]
[233]
[234]
[235]
[236]
[237]
[238]
[239]
[240]
[241]
[242]
[243]
[244]
[245]
[246]
[247]
[248]
[249]
[250]
[251]
[252]
[253]
[254]
[255]
[256]
[257]
[258]
[259]
[260]
[261]
[262]
[263]
[264]
[265]
[266]
[267]
[268]
[269]
[270]
[271]
[272]
[273]
[274]
[275]
[276]
[277]
[278]
[279]
[280]
[281]
[282]
[283]
[284]
[285]
[286]
[287]
[288]
[289]
[290]
[291]
[292]
[293]
[294]
[295]
[296]
[297]
[298]
[299]
[300]
[301]
[302]
[303]
[304]
[305]
[306]
[307]
[308]
[309]
[310]
[311]
[312]
[313]
[314]
[315]
[316]
[317]
[318]
[319]
[320]
[321]
[322]
[323]
[324]
[325]
[326]
[327]
[328]
[329]
[330]
[331]
[332]
[333]
[334]
[335]
[336]
[337]
[338]
[339]
[340]
[341]
[342]
[343]
[344]
[345]
[346]
[347]
[348]
[349]
[350]
[351]
[352]
[353]
[354]
[355]
[356]
[357]
[358]
[359]
[360]
[361]
[362]
[363]
[364]
[365]
[366]
[367]
[368]
[369]
[370]
[371]
[372]
[373]
[374]
[375]
[376]
[377]
[378]
[379]
[380]
[381]
[382]
[383]
[384]
[385]
[386]
[387]
[388]
[389]
[390]
[391]
[392]
[393]
[394]
[395]
[396]
[397]
[398]
[399]
[400]
[401]
[402]
[403]
[404]
[405]
[406]
[407]
[408]
[409]
[410]
[411]
[412]
[413]
[414]
[415]
[416]
[417]
[418]
[419]
[420]
[421]
[422]
[423]
[424]
[425]
[426]
[427]
[428]
[429]
[430]
[431]
[432]
[433]
[434]
[435]
[436]
[437]
[438]
[439]
[440]
[441]
[442]
[443]
[444]
[445]
[446]
[447]
[448]
[449]
[450]
[451]
[452]
[453]
[454]
[455]
[456]
[457]
[458]
[459]
[460]
[461]
[462]
[463]
[464]
[465]
[466]
[467]
[468]
[469]
[470]
[471]
[472]
[473]
[474]
[475]
[476]
[477]
[478]
[479]
[480]
[481]
[482]
[483]
[484]
[485]
[486]
[487]
[488]
[489]
[490]
[491]
[492]
[493]
[494]
[495]
[496]
[497]
[498]
[499]
[500]
[501]
[502]
[503]
[504]
[505]
[506]
[507]
[508]
[509]
[510]
[511]
[512]
[513]
[514]
[515]
[516]
[517]
[518]
[519]
[520]
[521]
[522]
[523]
[524]
[525]
[526]
[527]
[528]
[529]
[530]
[531]
[532]
[533]
[534]
[535]
[536]
[537]
[538]
[539]
[540]
[541]
[542]
[543]
[544]
[545]
[546]
[547]
[548]
[549]
[550]
[551]
[552]
[553]
[554]
[555]
[556]
[557]
[558]
[559]
[560]
[561]
[562]
[563]
[564]
[565]
[566]
[567]
[568]
[569]
[570]
[571]
[572]
[573]
[574]
[575]
[576]
[577]
[578]
[579]
[580]
[581]
[582]
[583]
[584]
[585]
[586]
[587]
[588]
[589]
[590]
[591]
[592]
[593]
[594]
[595]
[596]
[597]
[598]
[599]
[600]
[601]
[602]
[603]
[604]
[605]
[606]
[607]
[608]
[609]
[610]
[611]
[612]
[613]
[614]
[615]
[616]
[617]
[618]
[619]
[620]
[621]
[622]
[623]
[624]
[625]
[626]
[627]
[628]
[629]
[630]
[631]
[632]
[633]
[634]
[635]
[636]
[637]
[638]
[639]
[640]
[641]
[642]
[643]
[644]
[645]
[646]
[647]
[648]
[649]
[650]
[651]
[652]
[653]
[654]
[655]
[656]
[657]
[658]
[659]
[660]
[661]
[662]
[663]
[664]
[665]
[666]
[667]
[668]
[669]
[670]
[671]
[672]
[673]
[674]
[675]
[676]
[677]
[678]
[679]
[680]
[681]
[682]
[683]
[684]
[685]
[686]
[687]
[688]
[689]
[690]
[691]
[692]
[693]
[694]
[695]
[696]
[697]
[698]
[699]
[700]
[701]
[702]
[703]
[704]
[705]
[706]
[707]
[708]
[709]
[710]
[711]
[712]
[713]
[714]
[715]
[716]
[717]
[718]
[719]
[720]
[721]
[722]
[723]
[724]
[725]
[726]
[727]
[728]
[729]
[730]
[731]
[732]
[733]
[734]
[735]
[736]
[737]
[738]
[739]
[740]
[741]
[742]
[743]
[744]
[745]
[746]
[747]
[748]
[749]
[750]
[751]
[752]
[753]
[754]
[755]
[756]
[757]
[758]
[759]
[760]
[761]
[762]
[763]
[764]
[765]
[766]
[767]
[768]
[769]
[770]
[771]
[772]
[773]
[774]
[775]
[776]
[777]
[778]
[779]
[780]
[781]
[782]
[783]
[784]
[785]
[786]
[787]
[788]
[789]
[790]
[791]
[792]
[793]
[794]
[795]
[796]
[797]
[798]
[799]
[800]
[801]
[802]
[803]
[804]
[805]
[806]
[807]
[808]
[809]
[810]
[811]
[812]
[813]
[814]
[815]
[816]
[817]
[818]
[819]
[820]
[821]
[822]
[823]
[824]
[825]
[826]
[827]
[828]
[829]
[830]
[831]
[832]
[833]
[834]
[835]
[836]
[837]
[838]
[839]
[840]
[841]
[842]
[843]
[844]
[845]
[846]
[847]
[848]
[849]
[850]
[851]
[852]
[853]
[854]
[855]
[856]
[857]
[858]
[859]
[860]
[861]
[862]
[863]
[864]
[865]
[866]
[867]
[868]
[869]
[870]
[871]
[872]
[873]
[874]
[875]
[876]
[877]
[878]
[879]
[880]
[881]
[882]
[883]
[884]
[885]
[886]
[887]
[888]
[889]
[890]
[891]
[892]
[893]
[894]
[895]
[896]
[897]
[898]
[899]
[900]
[901]
[902]
[903]
[904]
[905]
[906]
[907]
[908]
[909]
[910]
[911]
[912]
[913]
[914]
[915]
[916]
[917]
[918]
[919]
[920]
[921]
[922]
[923]
[924]
[925]
[926]
[927]
[928]
[929]
[930]
[931]
[932]
[933]
[934]
[935]
[936]
[937]
[938]
[939]
[940]
[941]
[942]
[943]
[944]
[945]
[946]
[947]
[948]
[949]
[950]
[951]
[952]
[953]
[954]
[955]
[956]
[957]
[958]
[959]
[960]
[961]
[962]
[963]
[964]
[965]
[966]
[967]
[968]
[969]
[970]
[971]
[972]
[973]
[974]
[975]
[976]
[977]
[978]
[979]
[980]
[981]
[982]
[983]
[984]
[985]
[986]
[987]
[988]
[989]
[990]
[991]
[992]
[993]
[994]
[995]
[996]

{"sheet":"大会名簿","index":1,"n_rows":324,"n_cols":11,"rows_kept":324,"cut":false,"hidden":false,"merged":[[2,7,2,10],[2,0,2,5],[0,0,0,2],[1,0,1,2],[1,3,1,5],[0,3,0,10],[1,7,1,10]]}
["大会名",null,null,"第○○回　○○杯グラウンド・ゴルフ大会"]
["組　名",null,null,"Ａ組",null,null,"大会日","令和○年○月○日"]
["選手NOは会員名簿シートから選択",null,null,null,null,null,"○は班長","選手名、生年月日は記入必須です。"]
["選手NO","ＮＯ","組","番号","リーダー","チーム名","選手名","ふりがな","男女","生年月日","年齢"]
[9,1,"１","１","〇",{"$f":"IF($A5=\"\",\"\",VLOOKUP($A5,会員名簿!$A$3:$F$998,2))","v":"萩"},{"$f":"IF($A5=\"\",\"\",VLOOKUP($A5,会員名簿!$A$3:$F$998,3))","v":"萩　　四朗"},{"$f":"IF($A5=\"\",\"\",VLOOKUP($A5,会員名簿!$A$3:$F$998,4))","v":"はぎ　しろう"},{"$f":"IF($A5=\"\",\"\",VLOOKUP($A5,会員名簿!$A$3:$F$998,5))","v":"男"},{"$f":"IF($A5=\"\",\"\",VLOOKUP($A5,会員名簿!$A$3:$F$998,6))","v":"1922-05-03"},{"$f":"IF(J5=\"\",\"\",DATEDIF(J5,TODAY(),\"y\"))","v":100}]
[2,2,"１","２",null,{"$f":"IF($A6=\"\",\"\",VLOOKUP($A6,会員名簿!$A$3:$F$998,2))","v":"秋芳"},{"$f":"IF($A6=\"\",\"\",VLOOKUP($A6,会員名簿!$A$3:$F$998,3))","v":"秋芳　花子"},{"$f":"IF($A6=\"\",\"\",VLOOKUP($A6,会員名簿!$A$3:$F$998,4))","v":"しゅうほう　はなこ"},{"$f":"IF($A6=\"\",\"\",VLOOKUP($A6,会員名簿!$A$3:$F$998,5))","v":"女"},{"$f":"IF($A6=\"\",\"\",VLOOKUP($A6,会員名簿!$A$3:$F$998,6))","v":"1947-12-10"},75]
[5,3,"１","３",null,{"$f":"IF($A7=\"\",\"\",VLOOKUP($A7,会員名簿!$A$3:$F$998,2))","v":"山口"},{"$f":"IF($A7=\"\",\"\",VLOOKUP($A7,会員名簿!$A$3:$F$998,3))","v":"山口　五郎"},{"$f":"IF($A7=\"\",\"\",VLOOKUP($A7,会員名簿!$A$3:$F$998,4))","v":"やまぐち　ごろう"},{"$f":"IF($A7=\"\",\"\",VLOOKUP($A7,会員名簿!$A$3:$F$998,5))","v":"男"},{"$f":"IF($A7=\"\",\"\",VLOOKUP($A7,会員名簿!$A$3:$F$998,6))","v":"1948-12-14"},74]
[null,4,"１","４",null,{"$f":"IF($A8=\"\",\"\",VLOOKUP($A8,会員名簿!$A$3:$F$998,2))","v":""},{"$f":"IF($A8=\"\",\"\",VLOOKUP($A8,会員名簿!$A$3:$F$998,3))","v":""},{"$f":"IF($A8=\"\",\"\",VLOOKUP($A8,会員名簿!$A$3:$F$998,4))","v":""},{"$f":"IF($A8=\"\",\"\",VLOOKUP($A8,会員名簿!$A$3:$F$998,5))","v":""},{"$f":"IF($A8=\"\",\"\",VLOOKUP($A8,会員名簿!$A$3:$F$998,6))","v":""},""]
[null,5,"１","５",null,{"$f":"IF($A9=\"\",\"\",VLOOKUP($A9,会員名簿!$A$3:$F$998,2))","v":""},{"$f":"IF($A9=\"\",\"\",VLOOKUP($A9,会員名簿!$A$3:$F$998,3))","v":""},{"$f":"IF($A9=\"\",\"\",VLOOKUP($A9,会員名簿!$A$3:$F$998,4))","v":""},{"$f":"IF($A9=\"\",\"\",VLOOKUP($A9,会員名簿!$A$3:$F$998,5))","v":""},{"$f":"IF($A9=\"\",\"\",VLOOKUP($A9,会員名簿!$A$3:$F$998,6))","v":""},""]
[null,6,"１","６",null,{"$f":"IF($A10=\"\",\"\",VLOOKUP($A10,会員名簿!$A$3:$F$998,2))","v":""},{"$f":"IF($A10=\"\",\"\",VLOOKUP($A10,会員名簿!$A$3:$F$998,3))","v":""},{"$f":"IF($A10=\"\",\"\",VLOOKUP($A10,会員名簿!$A$3:$F$998,4))","v":""},{"$f":"IF($A10=\"\",\"\",VLOOKUP($A10,会員名簿!$A$3:$F$998,5))","v":""},{"$f":"IF($A10=\"\",\"\",VLOOKUP($A10,会員名簿!$A$3:$F$998,6))","v":""},""]
[null,7,"１","７",null,{"$f":"IF($A11=\"\",\"\",VLOOKUP($A11,会員名簿!$A$3:$F$998,2))","v":""},{"$f":"IF($A11=\"\",\"\",VLOOKUP($A11,会員名簿!$A$3:$F$998,3))","v":""},{"$f":"IF($A11=\"\",\"\",VLOOKUP($A11,会員名簿!$A$3:$F$998,4))","v":""},{"$f":"IF($A11=\"\",\"\",VLOOKUP($A11,会員名簿!$A$3:$F$998,5))","v":""},{"$f":"IF($A11=\"\",\"\",VLOOKUP($A11,会員名簿!$A$3:$F$998,6))","v":""},""]
[null,8,"１","８",null,{"$f":"IF($A12=\"\",\"\",VLOOKUP($A12,会員名簿!$A$3:$F$998,2))","v":""},{"$f":"IF($A12=\"\",\"\",VLOOKUP($A12,会員名簿!$A$3:$F$998,3))","v":""},{"$f":"IF($A12=\"\",\"\",VLOOKUP($A12,会員名簿!$A$3:$F$998,4))","v":""},{"$f":"IF($A12=\"\",\"\",VLOOKUP($A12,会員名簿!$A$3:$F$998,5))","v":""},{"$f":"IF($A12=\"\",\"\",VLOOKUP($A12,会員名簿!$A$3:$F$998,6))","v":""},""]
[null,9,"２","１",null,{"$f":"IF($A13=\"\",\"\",VLOOKUP($A13,会員名簿!$A$3:$F$998,2))","v":""},{"$f":"IF($A13=\"\",\"\",VLOOKUP($A13,会員名簿!$A$3:$F$998,3))","v":""},{"$f":"IF($A13=\"\",\"\",VLOOKUP($A13,会員名簿!$A$3:$F$998,4))","v":""},{"$f":"IF($A13=\"\",\"\",VLOOKUP($A13,会員名簿!$A$3:$F$998,5))","v":""},{"$f":"IF($A13=\"\",\"\",VLOOKUP($A13,会員名簿!$A$3:$F$998,6))","v":""},""]
[null,10,"２","２",null,{"$f":"IF($A14=\"\",\"\",VLOOKUP($A14,会員名簿!$A$3:$F$998,2))","v":""},{"$f":"IF($A14=\"\",\"\",VLOOKUP($A14,会員名簿!$A$3:$F$998,3))","v":""},{"$f":"IF($A14=\"\",\"\",VLOOKUP($A14,会員名簿!$A$3:$F$998,4))","v":""},{"$f":"IF($A14=\"\",\"\",VLOOKUP($A14,会員名簿!$A$3:$F$998,5))","v":""},{"$f":"IF($A14=\"\",\"\",VLOOKUP($A14,会員名簿!$A$3:$F$998,6))","v":""},""]
[null,11,"２","３",null,{"$f":"IF($A15=\"\",\"\",VLOOKUP($A15,会員名簿!$A$3:$F$998,2))","v":""},{"$f":"IF($A15=\"\",\"\",VLOOKUP($A15,会員名簿!$A$3:$F$998,3))","v":""},{"$f":"IF($A15=\"\",\"\",VLOOKUP($A15,会員名簿!$A$3:$F$998,4))","v":""},{"$f":"IF($A15=\"\",\"\",VLOOKUP($A15,会員名簿!$A$3:$F$998,5))","v":""},{"$f":"IF($A15=\"\",\"\",VLOOKUP($A15,会員名簿!$A$3:$F$998,6))","v":""},""]
[null,12,"２","４",null,{"$f":"IF($A16=\"\",\"\",VLOOKUP($A16,会員名簿!$A$3:$F$998,2))","v":""},{"$f":"IF($A16=\"\",\"\",VLOOKUP($A16,会員名簿!$A$3:$F$998,3))","v":""},{"$f":"IF($A16=\"\",\"\",VLOOKUP($A16,会員名簿!$A$3:$F$998,4))","v":""},{"$f":"IF($A16=\"\",\"\",VLOOKUP($A16,会員名簿!$A$3:$F$998,5))","v":""},{"$f":"IF($A16=\"\",\"\",VLOOKUP($A16,会員名簿!$A$3:$F$998,6))","v":""},""]
[null,13,"２","５",null,{"$f":"IF($A17=\"\",\"\",VLOOKUP($A17,会員名簿!$A$3:$F$998,2))","v":""},{"$f":"IF($A17=\"\",\"\",VLOOKUP($A17,会員名簿!$A$3:$F$998,3))","v":""},{"$f":"IF($A17=\"\",\"\",VLOOKUP($A17,会員名簿!$A$3:$F$998,4))","v":""},{"$f":"IF($A17=\"\",\"\",VLOOKUP($A17,会員名簿!$A$3:$F$998,5))","v":""},{"$f":"IF($A17=\"\",\"\",VLOOKUP($A17,会員名簿!$A$3:$F$998,6))","v":""},""]
[null,14,"２","６",null,{"$f":"IF($A18=\"\",\"\",VLOOKUP($A18,会員名簿!$A$3:$F$998,2))","v":""},{"$f":"IF($A18=\"\",\"\",VLOOKUP($A18,会員名簿!$A$3:$F$998,3))","v":""},{"$f":"IF($A18=\"\",\"\",VLOOKUP($A18,会員名簿!$A$3:$F$998,4))","v":""},{"$f":"IF($A18=\"\",\"\",VLOOKUP($A18,会員名簿!$A$3:$F$998,5))","v":""},{"$f":"IF($A18=\"\",\"\",VLOOKUP($A18,会員名簿!$A$3:$F$998,6))","v":""},""]
[null,15,"２","７",null,{"$f":"IF($A19=\"\",\"\",VLOOKUP($A19,会員名簿!$A$3:$F$998,2))","v":""},{"$f":"IF($A19=\"\",\"\",VLOOKUP($A19,会員名簿!$A$3:$F$998,3))","v":""},{"$f":"IF($A19=\"\",\"\",VLOOKUP($A19,会員名簿!$A$3:$F$998,4))","v":""},{"$f":"IF($A19=\"\",\"\",VLOOKUP($A19,会員名簿!$A$3:$F$998,5))","v":""},{"$f":"IF($A19=\"\",\"\",VLOOKUP($A19,会員名簿!$A$3:$F$998,6))","v":""},""]
[null,16,"２","８",null,{"$f":"IF($A20=\"\",\"\",VLOOKUP($A20,会員名簿!$A$3:$F$998,2))","v":""},{"$f":"IF($A20=\"\",\"\",VLOOKUP($A20,会員名簿!$A$3:$F$998,3))","v":""},{"$f":"IF($A20=\"\",\"\",VLOOKUP($A20,会員名簿!$A$3:$F$998,4))","v":""},{"$f":"IF($A20=\"\",\"\",VLOOKUP($A20,会員名簿!$A$3:$F$998,5))","v":""},{"$f":"IF($A20=\"\",\"\",VLOOKUP($A20,会員名簿!$A$3:$F$998,6))","v":""},""]
[null,17,"３","１",null,{"$f":"IF($A21=\"\",\"\",VLOOKUP($A21,会員名簿!$A$3:$F$998,2))","v":""},{"$f":"IF($A21=\"\",\"\",VLOOKUP($A21,会員名簿!$A$3:$F$998,3))","v":""},{"$f":"IF($A21=\"\",\"\",VLOOKUP($A21,会員名簿!$A$3:$F$998,4))","v":""},{"$f":"IF($A21=\"\",\"\",VLOOKUP($A21,会員名簿!$A$3:$F$998,5))","v":""},{"$f":"IF($A21=\"\",\"\",VLOOKUP($A21,会員名簿!$A$3:$F$998,6))","v":""},""]
[null,18,"３","２",null,{"$f":"IF($A22=\"\",\"\",VLOOKUP($A22,会員名簿!$A$3:$F$998,2))","v":""},{"$f":"IF($A22=\"\",\"\",VLOOKUP($A22,会員名簿!$A$3:$F$998,3))","v":""},{"$f":"IF($A22=\"\",\"\",VLOOKUP($A22,会員名簿!$A$3:$F$998,4))","v":""},{"$f":"IF($A22=\"\",\"\",VLOOKUP($A22,会員名簿!$A$3:$F$998,5))","v":""},{"$f":"IF($A22=\"\",\"\",VLOOKUP($A22,会員名簿!$A$3:$F$998,6))","v":""},""]
[null,19,"３","３",null,{"$f":"IF($A23=\"\",\"\",VLOOKUP($A23,会員名簿!$A$3:$F$998,2))","v":""},{"$f":"IF($A23=\"\",\"\",VLOOKUP($A23,会員名簿!$A$3:$F$998,3))","v":""},{"$f":"IF($A23=\"\",\"\",VLOOKUP($A23,会員名簿!$A$3:$F$998,4))","v":""},{"$f":"IF($A23=\"\",\"\",VLOOKUP($A23,会員名簿!$A$3:$F$998,5))","v":""},{"$f":"IF($A23=\"\",\"\",VLOOKUP($A23,会員名簿!$A$3:$F$998,6))","v":""},""]
[null,20,"３","４",null,{"$f":"IF($A24=\"\",\"\",VLOOKUP($A24,会員名簿!$A$3:$F$998,2))","v":""},{"$f":"IF($A24=\"\",\"\",VLOOKUP($A24,会員名簿!$A$3:$F$998,3))","v":""},{"$f":"IF($A24=\"\",\"\",VLOOKUP($A24,会員名簿!$A$3:$F$998,4))","v":""},{"$f":"IF($A24=\"\",\"\",VLOOKUP($A24,会員名簿!$A$3:$F$998,5))","v":""},{"$f":"IF($A24=\"\",\"\",VLOOKUP($A24,会員名簿!$A$3:$F$998,6))","v":""},""]
[null,21,"３","５",null,{"$f":"IF($A25=\"\",\"\",VLOOKUP($A25,会員名簿!$A$3:$F$998,2))","v":""},{"$f":"IF($A25=\"\",\"\",VLOOKUP($A25,会員名簿!$A$3:$F$998,3))","v":""},{"$f":"IF($A25=\"\",\"\",VLOOKUP($A25,会員名簿!$A$3:$F$998,4))","v":""},{"$f":"IF($A25=\"\",\"\",VLOOKUP($A25,会員名簿!$A$3:$F$998,5))","v":""},{"$f":"IF($A25=\"\",\"\",VLOOKUP($A25,会員名簿!$A$3:$F$998,6))","v":""},""]
[null,22,"３","６",null,{"$f":"IF($A26=\"\",\"\",VLOOKUP($A26,会員名簿!$A$3:$F$998,2))","v":""},{"$f":"IF($A26=\"\",\"\",VLOOKUP($A26,会員名簿!$A$3:$F$998,3))","v":""},{"$f":"IF($A26=\"\",\"\",VLOOKUP($A26,会員名簿!$A$3:$F$998,4))","v":""},{"$f":"IF($A26=\"\",\"\",VLOOKUP($A26,会員名簿!$A$3:$F$998,5))","v":""},{"$f":"IF($A26=\"\",\"\",VLOOKUP($A26,会員名簿!$A$3:$F$998,6))","v":""},""]
[null,23,"３","７",null,{"$f":"IF($A27=\"\",\"\",VLOOKUP($A27,会員名簿!$A$3:$F$998,2))","v":""},{"$f":"IF($A27=\"\",\"\",VLOOKUP($A27,会員名簿!$A$3:$F$998,3))","v":""},{"$f":"IF($A27=\"\",\"\",VLOOKUP($A27,会員名簿!$A$3:$F$998,4))","v":""},{"$f":"IF($A27=\"\",\"\",VLOOKUP($A27,会員名簿!$A$3:$F$998,5))","v":""},{"$f":"IF($A27=\"\",\"\",VLOOKUP($A27,会員名簿!$A$3:$F$998,6))","v":""},""]
[null,24,"３","８",null,{"$f":"IF($A28=\"\",\"\",VLOOKUP($A28,会員名簿!$A$3:$F$998,2))","v":""},{"$f":"IF($A28=\"\",\"\",VLOOKUP($A28,会員名簿!$A$3:$F$998,3))","v":""},{"$f":"IF($A28=\"\",\"\",VLOOKUP($A28,会員名簿!$A$3:$F$998,4))","v":""},{"$f":"IF($A28=\"\",\"\",VLOOKUP($A28,会員名簿!$A$3:$F$998,5))","v":""},{"$f":"IF($A28=\"\",\"\",VLOOKUP($A28,会員名簿!$A$3:$F$998,6))","v":""},""]
[null,25,"４","１",null,{"$f":"IF($A29=\"\",\"\",VLOOKUP($A29,会員名簿!$A$3:$F$998,2))","v":""},{"$f":"IF($A29=\"\",\"\",VLOOKUP($A29,会員名簿!$A$3:$F$998,3))","v":""},{"$f":"IF($A29=\"\",\"\",VLOOKUP($A29,会員名簿!$A$3:$F$998,4))","v":""},{"$f":"IF($A29=\"\",\"\",VLOOKUP($A29,会員名簿!$A$3:$F$998,5))","v":""},{"$f":"IF($A29=\"\",\"\",VLOOKUP($A29,会員名簿!$A$3:$F$998,6))","v":""},""]
[null,26,"４","２",null,{"$f":"IF($A30=\"\",\"\",VLOOKUP($A30,会員名簿!$A$3:$F$998,2))","v":""},{"$f":"IF($A30=\"\",\"\",VLOOKUP($A30,会員名簿!$A$3:$F$998,3))","v":""},{"$f":"IF($A30=\"\",\"\",VLOOKUP($A30,会員名簿!$A$3:$F$998,4))","v":""},{"$f":"IF($A30=\"\",\"\",VLOOKUP($A30,会員名簿!$A$3:$F$998,5))","v":""},{"$f":"IF($A30=\"\",\"\",VLOOKUP($A30,会員名簿!$A$3:$F$998,6))","v":""},""]
[null,27,"４","３",null,{"$f":"IF($A31=\"\",\"\",VLOOKUP($A31,会員名簿!$A$3:$F$998,2))","v":""},{"$f":"IF($A31=\"\",\"\",VLOOKUP($A31,会員名簿!$A$3:$F$998,3))","v":""},{"$f":"IF($A31=\"\",\"\",VLOOKUP($A31,会員名簿!$A$3:$F$998,4))","v":""},{"$f":"IF($A31=\"\",\"\",VLOOKUP($A31,会員名簿!$A$3:$F$998,5))","v":""},{"$f":"IF($A31=\"\",\"\",VLOOKUP($A31,会員名簿!$A$3:$F$998,6))","v":""},""]
[null,28,"４","４",null,{"$f":"IF($A32=\"\",\"\",VLOOKUP($A32,会員名簿!$A$3:$F$998,2))","v":""},{"$f":"IF($A32=\"\",\"\",VLOOKUP($A32,会員名簿!$A$3:$F$998,3))","v":""},{"$f":"IF($A32=\"\",\"\",VLOOKUP($A32,会員名簿!$A$3:$F$998,4))","v":""},{"$f":"IF($A32=\"\",\"\",VLOOKUP($A32,会員名簿!$A$3:$F$998,5))","v":""},{"$f":"IF($A32=\"\",\"\",VLOOKUP($A32,会員名簿!$A$3:$F$998,6))","v":""},""]
[null,29,"４","５",null,{"$f":"IF($A33=\"\",\"\",VLOOKUP($A33,会員名簿!$A$3:$F$998,2))","v":""},{"$f":"IF($A33=\"\",\"\",VLOOKUP($A33,会員名簿!$A$3:$F$998,3))","v":""},{"$f":"IF($A33=\"\",\"\",VLOOKUP($A33,会員名簿!$A$3:$F$998,4))","v":""},{"$f":"IF($A33=\"\",\"\",VLOOKUP($A33,会員名簿!$A$3:$F$998,5))","v":""},{"$f":"IF($A33=\"\",\"\",VLOOKUP($A33,会員名簿!$A$3:$F$998,6))","v":""},""]
[null,30,"４","６",null,{"$f":"IF($A34=\"\",\"\",VLOOKUP($A34,会員名簿!$A$3:$F$998,2))","v":""},{"$f":"IF($A34=\"\",\"\",VLOOKUP($A34,会員名簿!$A$3:$F$998,3))","v":""},{"$f":"IF($A34=\"\",\"\",VLOOKUP($A34,会員名簿!$A$3:$F$998,4))","v":""},{"$f":"IF($A34=\"\",\"\",VLOOKUP($A34,会員名簿!$A$3:$F$998,5))","v":""},{"$f":"IF($A34=\"\",\"\",VLOOKUP($A34,会員名簿!$A$3:$F$998,6))","v":""},""]
[null,31,"４","７",null,{"$f":"IF($A35=\"\",\"\",VLOOKUP($A35,会員名簿!$A$3:$F$998,2))","v":""},{"$f":"IF($A35=\"\",\"\",VLOOKUP($A35,会員名簿!$A$3:$F$998,3))","v":""},{"$f":"IF($A35=\"\",\"\",VLOOKUP($A35,会員名簿!$A$3:$F$998,4))","v":""},{"$f":"IF($A35=\"\",\"\",VLOOKUP($A35,会員名簿!$A$3:$F$998,5))","v":""},{"$f":"IF($A35=\"\",\"\",VLOOKUP($A35,会員名簿!$A$3:$F$998,6))","v":""},""]
[null,32,"４","８",null,{"$f":"IF($A36=\"\",\"\",VLOOKUP($A36,会員名簿!$A$3:$F$998,2))","v":""},{"$f":"IF($A36=\"\",\"\",VLOOKUP($A36,会員名簿!$A$3:$F$998,3))","v":""},{"$f":"IF($A36=\"\",\"\",VLOOKUP($A36,会員名簿!$A$3:$F$998,4))","v":""},{"$f":"IF($A36=\"\",\"\",VLOOKUP($A36,会員名簿!$A$3:$F$998,5))","v":""},{"$f":"IF($A36=\"\",\"\",VLOOKUP($A36,会員名簿!$A$3:$F$998,6))","v":""},""]
[null,33,"５","１",null,{"$f":"IF($A37=\"\",\"\",VLOOKUP($A37,会員名簿!$A$3:$F$998,2))","v":""},{"$f":"IF($A37=\"\",\"\",VLOOKUP($A37,会員名簿!$A$3:$F$998,3))","v":""},{"$f":"IF($A37=\"\",\"\",VLOOKUP($A37,会員名簿!$A$3:$F$998,4))","v":""},{"$f":"IF($A37=\"\",\"\",VLOOKUP($A37,会員名簿!$A$3:$F$998,5))","v":""},{"$f":"IF($A37=\"\",\"\",VLOOKUP($A37,会員名簿!$A$3:$F$998,6))","v":""},""]
[null,34,"５","２",null,{"$f":"IF($A38=\"\",\"\",VLOOKUP($A38,会員名簿!$A$3:$F$998,2))","v":""},{"$f":"IF($A38=\"\",\"\",VLOOKUP($A38,会員名簿!$A$3:$F$998,3))","v":""},{"$f":"IF($A38=\"\",\"\",VLOOKUP($A38,会員名簿!$A$3:$F$998,4))","v":""},{"$f":"IF($A38=\"\",\"\",VLOOKUP($A38,会員名簿!$A$3:$F$998,5))","v":""},{"$f":"IF($A38=\"\",\"\",VLOOKUP($A38,会員名簿!$A$3:$F$998,6))","v":""},""]
[null,35,"５","３",null,{"$f":"IF($A39=\"\",\"\",VLOOKUP($A39,会員名簿!$A$3:$F$998,2))","v":""},{"$f":"IF($A39=\"\",\"\",VLOOKUP($A39,会員名簿!$A$3:$F$998,3))","v":""},{"$f":"IF($A39=\"\",\"\",VLOOKUP($A39,会員名簿!$A$3:$F$998,4))","v":""},{"$f":"IF($A39=\"\",\"\",VLOOKUP($A39,会員名簿!$A$3:$F$998,5))","v":""},{"$f":"IF($A39=\"\",\"\",VLOOKUP($A39,会員名簿!$A$3:$F$998,6))","v":""},""]
[null,36,"５","４",null,{"$f":"IF($A40=\"\",\"\",VLOOKUP($A40,会員名簿!$A$3:$F$998,2))","v":""},{"$f":"IF($A40=\"\",\"\",VLOOKUP($A40,会員名簿!$A$3:$F$998,3))","v":""},{"$f":"IF($A40=\"\",\"\",VLOOKUP($A40,会員名簿!$A$3:$F$998,4))","v":""},{"$f":"IF($A40=\"\",\"\",VLOOKUP($A40,会員名簿!$A$3:$F$998,5))","v":""},{"$f":"IF($A40=\"\",\"\",VLOOKUP($A40,会員名簿!$A$3:$F$998,6))","v":""},""]
[null,37,"５","５",null,{"$f":"IF($A41=\"\",\"\",VLOOKUP($A41,会員名簿!$A$3:$F$998,2))","v":""},{"$f":"IF($A41=\"\",\"\",VLOOKUP($A41,会員名簿!$A$3:$F$998,3))","v":""},{"$f":"IF($A41=\"\",\"\",VLOOKUP($A41,会員名簿!$A$3:$F$998,4))","v":""},{"$f":"IF($A41=\"\",\"\",VLOOKUP($A41,会員名簿!$A$3:$F$998,5))","v":""},{"$f":"IF($A41=\"\",\"\",VLOOKUP($A41,会員名簿!$A$3:$F$998,6))","v":""},""]
[null,38,"５","６",null,{"$f":"IF($A42=\"\",\"\",VLOOKUP($A42,会員名簿!$A$3:$F$998,2))","v":""},{"$f":"IF($A42=\"\",\"\",VLOOKUP($A42,会員名簿!$A$3:$F$998,3))","v":""},{"$f":"IF($A42=\"\",\"\",VLOOKUP($A42,会員名簿!$A$3:$F$998,4))","v":""},{"$f":"IF($A42=\"\",\"\",VLOOKUP($A42,会員名簿!$A$3:$F$998,5))","v":""},{"$f":"IF($A42=\"\",\"\",VLOOKUP($A42,会員名簿!$A$3:$F$998,6))","v":""},""]
[null,39,"５","７",null,{"$f":"IF($A43=\"\",\"\",VLOOKUP($A43,会員名簿!$A$3:$F$998,2))","v":""},{"$f":"IF($A43=\"\",\"\",VLOOKUP($A43,会員名簿!$A$3:$F$998,3))","v":""},{"$f":"IF($A43=\"\",\"\",VLOOKUP($A43,会員名簿!$A$3:$F$998,4))","v":""},{"$f":"IF($A43=\"\",\"\",VLOOKUP($A43,会員名簿!$A$3:$F$998,5))","v":""},{"$f":"IF($A43=\"\",\"\",VLOOKUP($A43,会員名簿!$A$3:$F$998,6))","v":""},""]
[null,40,"５","８",null,{"$f":"IF($A44=\"\",\"\",VLOOKUP($A44,会員名簿!$A$3:$F$998,2))","v":""},{"$f":"IF($A44=\"\",\"\",VLOOKUP($A44,会員名簿!$A$3:$F$998,3))","v":""},{"$f":"IF($A44=\"\",\"\",VLOOKUP($A44,会員名簿!$A$3:$F$998,4))","v":""},{"$f":"IF($A44=\"\",\"\",VLOOKUP($A44,会員名簿!$A$3:$F$998,5))","v":""},{"$f":"IF($A44=\"\",\"\",VLOOKUP($A44,会員名簿!$A$3:$F$998,6))","v":""},""]
[null,41,"６","１",null,{"$f":"IF($A45=\"\",\"\",VLOOKUP($A45,会員名簿!$A$3:$F$998,2))","v":""},{"$f":"IF($A45=\"\",\"\",VLOOKUP($A45,会員名簿!$A$3:$F$998,3))","v":""},{"$f":"IF($A45=\"\",\"\",VLOOKUP($A45,会員名簿!$A$3:$F$998,4))","v":""},{"$f":"IF($A45=\"\",\"\",VLOOKUP($A45,会員名簿!$A$3:$F$998,5))","v":""},{"$f":"IF($A45=\"\",\"\",VLOOKUP($A45,会員名簿!$A$3:$F$998,6))","v":""},""]
[null,42,"６","２",null,{"$f":"IF($A46=\"\",\"\",VLOOKUP($A46,会員名簿!$A$3:$F$998,2))","v":""},{"$f":"IF($A46=\"\",\"\",VLOOKUP($A46,会員名簿!$A$3:$F$998,3))","v":""},{"$f":"IF($A46=\"\",\"\",VLOOKUP($A46,会員名簿!$A$3:$F$998,4))","v":""},{"$f":"IF($A46=\"\",\"\",VLOOKUP($A46,会員名簿!$A$3:$F$998,5))","v":""},{"$f":"IF($A46=\"\",\"\",VLOOKUP($A46,会員名簿!$A$3:$F$998,6))","v":""},""]
[null,43,"６","３",null,{"$f":"IF($A47=\"\",\"\",VLOOKUP($A47,会員名簿!$A$3:$F$998,2))","v":""},{"$f":"IF($A47=\"\",\"\",VLOOKUP($A47,会員名簿!$A$3:$F$998,3))","v":""},{"$f":"IF($A47=\"\",\"\",VLOOKUP($A47,会員名簿!$A$3:$F$998,4))","v":""},{"$f":"IF($A47=\"\",\"\",VLOOKUP($A47,会員名簿!$A$3:$F$998,5))","v":""},{"$f":"IF($A47=\"\",\"\",VLOOKUP($A47,会員名簿!$A$3:$F$998,6))","v":""},""]
[null,44,"６","４",null,{"$f":"IF($A48=\"\",\"\",VLOOKUP($A48,会員名簿!$A$3:$F$998,2))","v":""},{"$f":"IF($A48=\"\",\"\",VLOOKUP($A48,会員名簿!$A$3:$F$998,3))","v":""},{"$f":"IF($A48=\"\",\"\",VLOOKUP($A48,会員名簿!$A$3:$F$998,4))","v":""},{"$f":"IF($A48=\"\",\"\",VLOOKUP($A48,会員名簿!$A$3:$F$998,5))","v":""},{"$f":"IF($A48=\"\",\"\",VLOOKUP($A48,会員名簿!$A$3:$F$998,6))","v":""},""]
[null,45,"６","５",null,{"$f":"IF($A49=\"\",\"\",VLOOKUP($A49,会員名簿!$A$3:$F$998,2))","v":""},{"$f":"IF($A49=\"\",\"\",VLOOKUP($A49,会員名簿!$A$3:$F$998,3))","v":""},{"$f":"IF($A49=\"\",\"\",VLOOKUP($A49,会員名簿!$A$3:$F$998,4))","v":""},{"$f":"IF($A49=\"\",\"\",VLOOKUP($A49,会員名簿!$A$3:$F$998,5))","v":""},{"$f":"IF($A49=\"\",\"\",VLOOKUP($A49,会員名簿!$A$3:$F$998,6))","v":""},""]
[null,46,"６","６",null,{"$f":"IF($A50=\"\",\"\",VLOOKUP($A50,会員名簿!$A$3:$F$998,2))","v":""},{"$f":"IF($A50=\"\",\"\",VLOOKUP($A50,会員名簿!$A$3:$F$998,3))","v":""},{"$f":"IF($A50=\"\",\"\",VLOOKUP($A50,会員名簿!$A$3:$F$998,4))","v":""},{"$f":"IF($A50=\"\",\"\",VLOOKUP($A50,会員名簿!$A$3:$F$998,5))","v":""},{"$f":"IF($A50=\"\",\"\",VLOOKUP($A50,会員名簿!$A$3:$F$998,6))","v":""},""]
[null,47,"６","７",null,{"$f":"IF($A51=\"\",\"\",VLOOKUP($A51,会員名簿!$A$3:$F$998,2))","v":""},{"$f":"IF($A51=\"\",\"\",VLOOKUP($A51,会員名簿!$A$3:$F$998,3))","v":""},{"$f":"IF($A51=\"\",\"\",VLOOKUP($A51,会員名簿!$A$3:$F$998,4))","v":""},{"$f":"IF($A51=\"\",\"\",VLOOKUP($A51,会員名簿!$A$3:$F$998,5))","v":""},{"$f":"IF($A51=\"\",\"\",VLOOKUP($A51,会員名簿!$A$3:$F$998,6))","v":""},""]
[null,48,"６","８",null,{"$f":"IF($A52=\"\",\"\",VLOOKUP($A52,会員名簿!$A$3:$F$998,2))","v":""},{"$f":"IF($A52=\"\",\"\",VLOOKUP($A52,会員名簿!$A$3:$F$998,3))","v":""},{"$f":"IF($A52=\"\",\"\",VLOOKUP($A52,会員名簿!$A$3:$F$998,4))","v":""},{"$f":"IF($A52=\"\",\"\",VLOOKUP($A52,会員名簿!$A$3:$F$998,5))","v":""},{"$f":"IF($A52=\"\",\"\",VLOOKUP($A52,会員名簿!$A$3:$F$998,6))","v":""},""]
[null,49,"７","１",null,{"$f":"IF($A53=\"\",\"\",VLOOKUP($A53,会員名簿!$A$3:$F$998,2))","v":""},{"$f":"IF($A53=\"\",\"\",VLOOKUP($A53,会員名簿!$A$3:$F$998,3))","v":""},{"$f":"IF($A53=\"\",\"\",VLOOKUP($A53,会員名簿!$A$3:$F$998,4))","v":""},{"$f":"IF($A53=\"\",\"\",VLOOKUP($A53,会員名簿!$A$3:$F$998,5))","v":""},{"$f":"IF($A53=\"\",\"\",VLOOKUP($A53,会員名簿!$A$3:$F$998,6))","v":""},""]
[null,50,"７","２",null,{"$f":"IF($A54=\"\",\"\",VLOOKUP($A54,会員名簿!$A$3:$F$998,2))","v":""},{"$f":"IF($A54=\"\",\"\",VLOOKUP($A54,会員名簿!$A$3:$F$998,3))","v":""},{"$f":"IF($A54=\"\",\"\",VLOOKUP($A54,会員名簿!$A$3:$F$998,4))","v":""},{"$f":"IF($A54=\"\",\"\",VLOOKUP($A54,会員名簿!$A$3:$F$998,5))","v":""},{"$f":"IF($A54=\"\",\"\",VLOOKUP($A54,会員名簿!$A$3:$F$998,6))","v":""},""]
[null,51,"７","３",null,{"$f":"IF($A55=\"\",\"\",VLOOKUP($A55,会員名簿!$A$3:$F$998,2))","v":""},{"$f":"IF($A55=\"\",\"\",VLOOKUP($A55,会員名簿!$A$3:$F$998,3))","v":""},{"$f":"IF($A55=\"\",\"\",VLOOKUP($A55,会員名簿!$A$3:$F$998,4))","v":""},{"$f":"IF($A55=\"\",\"\",VLOOKUP($A55,会員名簿!$A$3:$F$998,5))","v":""},{"$f":"IF($A55=\"\",\"\",VLOOKUP($A55,会員名簿!$A$3:$F$998,6))","v":""},""]
[null,52,"７","４",null,{"$f":"IF($A56=\"\",\"\",VLOOKUP($A56,会員名簿!$A$3:$F$998,2))","v":""},{"$f":"IF($A56=\"\",\"\",VLOOKUP($A56,会員名簿!$A$3:$F$998,3))","v":""},{"$f":"IF($A56=\"\",\"\",VLOOKUP($A56,会員名簿!$A$3:$F$998,4))","v":""},{"$f":"IF($A56=\"\",\"\",VLOOKUP($A56,会員名簿!$A$3:$F$998,5))","v":""},{"$f":"IF($A56=\"\",\"\",VLOOKUP($A56,会員名簿!$A$3:$F$998,6))","v":""},""]
[null,53,"７","５",null,{"$f":"IF($A57=\"\",\"\",VLOOKUP($A57,会員名簿!$A$3:$F$998,2))","v":""},{"$f":"IF($A57=\"\",\"\",VLOOKUP($A57,会員名簿!$A$3:$F$998,3))","v":""},{"$f":"IF($A57=\"\",\"\",VLOOKUP($A57,会員名簿!$A$3:$F$998,4))","v":""},{"$f":"IF($A57=\"\",\"\",VLOOKUP($A57,会員名簿!$A$3:$F$998,5))","v":""},{"$f":"IF($A57=\"\",\"\",VLOOKUP($A57,会員名簿!$A$3:$F$998,6))","v":""},""]
[null,54,"７","６",null,{"$f":"IF($A58=\"\",\"\",VLOOKUP($A58,会員名簿!$A$3:$F$998,2))","v":""},{"$f":"IF($A58=\"\",\"\",VLOOKUP($A58,会員名簿!$A$3:$F$998,3))","v":""},{"$f":"IF($A58=\"\",\"\",VLOOKUP($A58,会員名簿!$A$3:$F$998,4))","v":""},{"$f":"IF($A58=\"\",\"\",VLOOKUP($A58,会員名簿!$A$3:$F$998,5))","v":""},{"$f":"IF($A58=\"\",\"\",VLOOKUP($A58,会員名簿!$A$3:$F$998,6))","v":""},""]
[null,55,"７","７",null,{"$f":"IF($A59=\"\",\"\",VLOOKUP($A59,会員名簿!$A$3:$F$998,2))","v":""},{"$f":"IF($A59=\"\",\"\",VLOOKUP($A59,会員名簿!$A$3:$F$998,3))","v":""},{"$f":"IF($A59=\"\",\"\",VLOOKUP($A59,会員名簿!$A$3:$F$998,4))","v":""},{"$f":"IF($A59=\"\",\"\",VLOOKUP($A59,会員名簿!$A$3:$F$998,5))","v":""},{"$f":"IF($A59=\"\",\"\",VLOOKUP($A59,会員名簿!$A$3:$F$998,6))","v":""},""]
[null,56,"７","８",null,{"$f":"IF($A60=\"\",\"\",VLOOKUP($A60,会員名簿!$A$3:$F$998,2))","v":""},{"$f":"IF($A60=\"\",\"\",VLOOKUP($A60,会員名簿!$A$3:$F$998,3))","v":""},{"$f":"IF($A60=\"\",\"\",VLOOKUP($A60,会員名簿!$A$3:$F$998,4))","v":""},{"$f":"IF($A60=\"\",\"\",VLOOKUP($A60,会員名簿!$A$3:$F$998,5))","v":""},{"$f":"IF($A60=\"\",\"\",VLOOKUP($A60,会員名簿!$A$3:$F$998,6))","v":""},""]
[null,57,"８","１",null,{"$f":"IF($A61=\"\",\"\",VLOOKUP($A61,会員名簿!$A$3:$F$998,2))","v":""},{"$f":"IF($A61=\"\",\"\",VLOOKUP($A61,会員名簿!$A$3:$F$998,3))","v":""},{"$f":"IF($A61=\"\",\"\",VLOOKUP($A61,会員名簿!$A$3:$F$998,4))","v":""},{"$f":"IF($A61=\"\",\"\",VLOOKUP($A61,会員名簿!$A$3:$F$998,5))","v":""},{"$f":"IF($A61=\"\",\"\",VLOOKUP($A61,会員名簿!$A$3:$F$998,6))","v":""},""]
[null,58,"８","２",null,{"$f":"IF($A62=\"\",\"\",VLOOKUP($A62,会員名簿!$A$3:$F$998,2))","v":""},{"$f":"IF($A62=\"\",\"\",VLOOKUP($A62,会員名簿!$A$3:$F$998,3))","v":""},{"$f":"IF($A62=\"\",\"\",VLOOKUP($A62,会員名簿!$A$3:$F$998,4))","v":""},{"$f":"IF($A62=\"\",\"\",VLOOKUP($A62,会員名簿!$A$3:$F$998,5))","v":""},{"$f":"IF($A62=\"\",\"\",VLOOKUP($A62,会員名簿!$A$3:$F$998,6))","v":""},""]
[null,59,"８","３",null,{"$f":"IF($A63=\"\",\"\",VLOOKUP($A63,会員名簿!$A$3:$F$998,2))","v":""},{"$f":"IF($A63=\"\",\"\",VLOOKUP($A63,会員名簿!$A$3:$F$998,3))","v":""},{"$f":"IF($A63=\"\",\"\",VLOOKUP($A63,会員名簿!$A$3:$F$998,4))","v":""},{"$f":"IF($A63=\"\",\"\",VLOOKUP($A63,会員名簿!$A$3:$F$998,5))","v":""},{"$f":"IF($A63=\"\",\"\",VLOOKUP($A63,会員名簿!$A$3:$F$998,6))","v":""},""]
[null,60,"８","４",null,{"$f":"IF($A64=\"\",\"\",VLOOKUP($A64,会員名簿!$A$3:$F$998,2))","v":""},{"$f":"IF($A64=\"\",\"\",VLOOKUP($A64,会員名簿!$A$3:$F$998,3))","v":""},{"$f":"IF($A64=\"\",\"\",VLOOKUP($A64,会員名簿!$A$3:$F$998,4))","v":""},{"$f":"IF($A64=\"\",\"\",VLOOKUP($A64,会員名簿!$A$3:$F$998,5))","v":""},{"$f":"IF($A64=\"\",\"\",VLOOKUP($A64,会員名簿!$A$3:$F$998,6))","v":""},""]
[null,61,"８","５",null,{"$f":"IF($A65=\"\",\"\",VLOOKUP($A65,会員名簿!$A$3:$F$998,2))","v":""},{"$f":"IF($A65=\"\",\"\",VLOOKUP($A65,会員名簿!$A$3:$F$998,3))","v":""},{"$f":"IF($A65=\"\",\"\",VLOOKUP($A65,会員名簿!$A$3:$F$998,4))","v":""},{"$f":"IF($A65=\"\",\"\",VLOOKUP($A65,会員名簿!$A$3:$F$998,5))","v":""},{"$f":"IF($A65=\"\",\"\",VLOOKUP($A65,会員名簿!$A$3:$F$998,6))","v":""},""]
[null,62,"８","６",null,{"$f":"IF($A66=\"\",\"\",VLOOKUP($A66,会員名簿!$A$3:$F$998,2))","v":""},{"$f":"IF($A66=\"\",\"\",VLOOKUP($A66,会員名簿!$A$3:$F$998,3))","v":""},{"$f":"IF($A66=\"\",\"\",VLOOKUP($A66,会員名簿!$A$3:$F$998,4))","v":""},{"$f":"IF($A66=\"\",\"\",VLOOKUP($A66,会員名簿!$A$3:$F$998,5))","v":""},{"$f":"IF($A66=\"\",\"\",VLOOKUP($A66,会員名簿!$A$3:$F$998,6))","v":""},""]
[null,63,"８","７",null,{"$f":"IF($A67=\"\",\"\",VLOOKUP($A67,会員名簿!$A$3:$F$998,2))","v":""},{"$f":"IF($A67=\"\",\"\",VLOOKUP($A67,会員名簿!$A$3:$F$998,3))","v":""},{"$f":"IF($A67=\"\",\"\",VLOOKUP($A67,会員名簿!$A$3:$F$998,4))","v":""},{"$f":"IF($A67=\"\",\"\",VLOOKUP($A67,会員名簿!$A$3:$F$998,5))","v":""},{"$f":"IF($A67=\"\",\"\",VLOOKUP($A67,会員名簿!$A$3:$F$998,6))","v":""},""]
[null,64,"８","８",null,{"$f":"IF($A68=\"\",\"\",VLOOKUP($A68,会員名簿!$A$3:$F$998,2))","v":""},{"$f":"IF($A68=\"\",\"\",VLOOKUP($A68,会員名簿!$A$3:$F$998,3))","v":""},{"$f":"IF($A68=\"\",\"\",VLOOKUP($A68,会員名簿!$A$3:$F$998,4))","v":""},{"$f":"IF($A68=\"\",\"\",VLOOKUP($A68,会員名簿!$A$3:$F$998,5))","v":""},{"$f":"IF($A68=\"\",\"\",VLOOKUP($A68,会員名簿!$A$3:$F$998,6))","v":""},""]
[null,65,"９","１",null,{"$f":"IF($A69=\"\",\"\",VLOOKUP($A69,会員名簿!$A$3:$F$998,2))","v":""},{"$f":"IF($A69=\"\",\"\",VLOOKUP($A69,会員名簿!$A$3:$F$998,3))","v":""},{"$f":"IF($A69=\"\",\"\",VLOOKUP($A69,会員名簿!$A$3:$F$998,4))","v":""},{"$f":"IF($A69=\"\",\"\",VLOOKUP($A69,会員名簿!$A$3:$F$998,5))","v":""},{"$f":"IF($A69=\"\",\"\",VLOOKUP($A69,会員名簿!$A$3:$F$998,6))","v":""},{"$f":"IF(J69=\"\",\"\",DATEDIF(J69,TODAY(),\"y\"))","v":""}]
[null,66,"９","２",null,{"$f":"IF($A70=\"\",\"\",VLOOKUP($A70,会員名簿!$A$3:$F$998,2))","v":""},{"$f":"IF($A70=\"\",\"\",VLOOKUP($A70,会員名簿!$A$3:$F$998,3))","v":""},{"$f":"IF($A70=\"\",\"\",VLOOKUP($A70,会員名簿!$A$3:$F$998,4))","v":""},{"$f":"IF($A70=\"\",\"\",VLOOKUP($A70,会員名簿!$A$3:$F$998,5))","v":""},{"$f":"IF($A70=\"\",\"\",VLOOKUP($A70,会員名簿!$A$3:$F$998,6))","v":""},""]
[null,67,"９","３",null,{"$f":"IF($A71=\"\",\"\",VLOOKUP($A71,会員名簿!$A$3:$F$998,2))","v":""},{"$f":"IF($A71=\"\",\"\",VLOOKUP($A71,会員名簿!$A$3:$F$998,3))","v":""},{"$f":"IF($A71=\"\",\"\",VLOOKUP($A71,会員名簿!$A$3:$F$998,4))","v":""},{"$f":"IF($A71=\"\",\"\",VLOOKUP($A71,会員名簿!$A$3:$F$998,5))","v":""},{"$f":"IF($A71=\"\",\"\",VLOOKUP($A71,会員名簿!$A$3:$F$998,6))","v":""},""]
[null,68,"９","４",null,{"$f":"IF($A72=\"\",\"\",VLOOKUP($A72,会員名簿!$A$3:$F$998,2))","v":""},{"$f":"IF($A72=\"\",\"\",VLOOKUP($A72,会員名簿!$A$3:$F$998,3))","v":""},{"$f":"IF($A72=\"\",\"\",VLOOKUP($A72,会員名簿!$A$3:$F$998,4))","v":""},{"$f":"IF($A72=\"\",\"\",VLOOKUP($A72,会員名簿!$A$3:$F$998,5))","v":""},{"$f":"IF($A72=\"\",\"\",VLOOKUP($A72,会員名簿!$A$3:$F$998,6))","v":""},""]
[null,69,"９","５",null,{"$f":"IF($A73=\"\",\"\",VLOOKUP($A73,会員名簿!$A$3:$F$998,2))","v":""},{"$f":"IF($A73=\"\",\"\",VLOOKUP($A73,会員名簿!$A$3:$F$998,3))","v":""},{"$f":"IF($A73=\"\",\"\",VLOOKUP($A73,会員名簿!$A$3:$F$998,4))","v":""},{"$f":"IF($A73=\"\",\"\",VLOOKUP($A73,会員名簿!$A$3:$F$998,5))","v":""},{"$f":"IF($A73=\"\",\"\",VLOOKUP($A73,会員名簿!$A$3:$F$998,6))","v":""},""]
[null,70,"９","６",null,{"$f":"IF($A74=\"\",\"\",VLOOKUP($A74,会員名簿!$A$3:$F$998,2))","v":""},{"$f":"IF($A74=\"\",\"\",VLOOKUP($A74,会員名簿!$A$3:$F$998,3))","v":""},{"$f":"IF($A74=\"\",\"\",VLOOKUP($A74,会員名簿!$A$3:$F$998,4))","v":""},{"$f":"IF($A74=\"\",\"\",VLOOKUP($A74,会員名簿!$A$3:$F$998,5))","v":""},{"$f":"IF($A74=\"\",\"\",VLOOKUP($A74,会員名簿!$A$3:$F$998,6))","v":""},""]
[null,71,"９","７",null,{"$f":"IF($A75=\"\",\"\",VLOOKUP($A75,会員名簿!$A$3:$F$998,2))","v":""},{"$f":"IF($A75=\"\",\"\",VLOOKUP($A75,会員名簿!$A$3:$F$998,3))","v":""},{"$f":"IF($A75=\"\",\"\",VLOOKUP($A75,会員名簿!$A$3:$F$998,4))","v":""},{"$f":"IF($A75=\"\",\"\",VLOOKUP($A75,会員名簿!$A$3:$F$998,5))","v":""},{"$f":"IF($A75=\"\",\"\",VLOOKUP($A75,会員名簿!$A$3:$F$998,6))","v":""},""]
[null,72,"９","８",null,{"$f":"IF($A76=\"\",\"\",VLOOKUP($A76,会員名簿!$A$3:$F$998,2))","v":""},{"$f":"IF($A76=\"\",\"\",VLOOKUP($A76,会員名簿!$A$3:$F$998,3))","v":""},{"$f":"IF($A76=\"\",\"\",VLOOKUP($A76,会員名簿!$A$3:$F$998,4))","v":""},{"$f":"IF($A76=\"\",\"\",VLOOKUP($A76,会員名簿!$A$3:$F$998,5))","v":""},{"$f":"IF($A76=\"\",\"\",VLOOKUP($A76,会員名簿!$A$3:$F$998,6))","v":""},""]
[null,73,10,"１",null,{"$f":"IF($A77=\"\",\"\",VLOOKUP($A77,会員名簿!$A$3:$F$998,2))","v":""},{"$f":"IF($A77=\"\",\"\",VLOOKUP($A77,会員名簿!$A$3:$F$998,3))","v":""},{"$f":"IF($A77=\"\",\"\",VLOOKUP($A77,会員名簿!$A$3:$F$998,4))","v":""},{"$f":"IF($A77=\"\",\"\",VLOOKUP($A77,会員名簿!$A$3:$F$998,5))","v":""},{"$f":"IF($A77=\"\",\"\",VLOOKUP($A77,会員名簿!$A$3:$F$998,6))","v":""},""]
[null,74,10,"２",null,{"$f":"IF($A78=\"\",\"\",VLOOKUP($A78,会員名簿!$A$3:$F$998,2))","v":""},{"$f":"IF($A78=\"\",\"\",VLOOKUP($A78,会員名簿!$A$3:$F$998,3))","v":""},{"$f":"IF($A78=\"\",\"\",VLOOKUP($A78,会員名簿!$A$3:$F$998,4))","v":""},{"$f":"IF($A78=\"\",\"\",VLOOKUP($A78,会員名簿!$A$3:$F$998,5))","v":""},{"$f":"IF($A78=\"\",\"\",VLOOKUP($A78,会員名簿!$A$3:$F$998,6))","v":""},""]
[null,75,10,"３",null,{"$f":"IF($A79=\"\",\"\",VLOOKUP($A79,会員名簿!$A$3:$F$998,2))","v":""},{"$f":"IF($A79=\"\",\"\",VLOOKUP($A79,会員名簿!$A$3:$F$998,3))","v":""},{"$f":"IF($A79=\"\",\"\",VLOOKUP($A79,会員名簿!$A$3:$F$998,4))","v":""},{"$f":"IF($A79=\"\",\"\",VLOOKUP($A79,会員名簿!$A$3:$F$998,5))","v":""},{"$f":"IF($A79=\"\",\"\",VLOOKUP($A79,会員名簿!$A$3:$F$998,6))","v":""},""]
[null,76,10,"４",null,{"$f":"IF($A80=\"\",\"\",VLOOKUP($A80,会員名簿!$A$3:$F$998,2))","v":""},{"$f":"IF($A80=\"\",\"\",VLOOKUP($A80,会員名簿!$A$3:$F$998,3))","v":""},{"$f":"IF($A80=\"\",\"\",VLOOKUP($A80,会員名簿!$A$3:$F$998,4))","v":""},{"$f":"IF($A80=\"\",\"\",VLOOKUP($A80,会員名簿!$A$3:$F$998,5))","v":""},{"$f":"IF($A80=\"\",\"\",VLOOKUP($A80,会員名簿!$A$3:$F$998,6))","v":""},""]
[null,77,10,"５",null,{"$f":"IF($A81=\"\",\"\",VLOOKUP($A81,会員名簿!$A$3:$F$998,2))","v":""},{"$f":"IF($A81=\"\",\"\",VLOOKUP($A81,会員名簿!$A$3:$F$998,3))","v":""},{"$f":"IF($A81=\"\",\"\",VLOOKUP($A81,会員名簿!$A$3:$F$998,4))","v":""},{"$f":"IF($A81=\"\",\"\",VLOOKUP($A81,会員名簿!$A$3:$F$998,5))","v":""},{"$f":"IF($A81=\"\",\"\",VLOOKUP($A81,会員名簿!$A$3:$F$998,6))","v":""},""]
[null,78,10,"６",null,{"$f":"IF($A82=\"\",\"\",VLOOKUP($A82,会員名簿!$A$3:$F$998,2))","v":""},{"$f":"IF($A82=\"\",\"\",VLOOKUP($A82,会員名簿!$A$3:$F$998,3))","v":""},{"$f":"IF($A82=\"\",\"\",VLOOKUP($A82,会員名簿!$A$3:$F$998,4))","v":""},{"$f":"IF($A82=\"\",\"\",VLOOKUP($A82,会員名簿!$A$3:$F$998,5))","v":""},{"$f":"IF($A82=\"\",\"\",VLOOKUP($A82,会員名簿!$A$3:$F$998,6))","v":""},""]
[null,79,10,"７",null,{"$f":"IF($A83=\"\",\"\",VLOOKUP($A83,会員名簿!$A$3:$F$998,2))","v":""},{"$f":"IF($A83=\"\",\"\",VLOOKUP($A83,会員名簿!$A$3:$F$998,3))","v":""},{"$f":"IF($A83=\"\",\"\",VLOOKUP($A83,会員名簿!$A$3:$F$998,4))","v":""},{"$f":"IF($A83=\"\",\"\",VLOOKUP($A83,会員名簿!$A$3:$F$998,5))","v":""},{"$f":"IF($A83=\"\",\"\",VLOOKUP($A83,会員名簿!$A$3:$F$998,6))","v":""},""]
[null,80,10,"８",null,{"$f":"IF($A84=\"\",\"\",VLOOKUP($A84,会員名簿!$A$3:$F$998,2))","v":""},{"$f":"IF($A84=\"\",\"\",VLOOKUP($A84,会員名簿!$A$3:$F$998,3))","v":""},{"$f":"IF($A84=\"\",\"\",VLOOKUP($A84,会員名簿!$A$3:$F$998,4))","v":""},{"$f":"IF($A84=\"\",\"\",VLOOKUP($A84,会員名簿!$A$3:$F$998,5))","v":""},{"$f":"IF($A84=\"\",\"\",VLOOKUP($A84,会員名簿!$A$3:$F$998,6))","v":""},""]
[null,81,11,"１",null,{"$f":"IF($A85=\"\",\"\",VLOOKUP($A85,会員名簿!$A$3:$F$998,2))","v":""},{"$f":"IF($A85=\"\",\"\",VLOOKUP($A85,会員名簿!$A$3:$F$998,3))","v":""},{"$f":"IF($A85=\"\",\"\",VLOOKUP($A85,会員名簿!$A$3:$F$998,4))","v":""},{"$f":"IF($A85=\"\",\"\",VLOOKUP($A85,会員名簿!$A$3:$F$998,5))","v":""},{"$f":"IF($A85=\"\",\"\",VLOOKUP($A85,会員名簿!$A$3:$F$998,6))","v":""},""]
[null,82,11,"２",null,{"$f":"IF($A86=\"\",\"\",VLOOKUP($A86,会員名簿!$A$3:$F$998,2))","v":""},{"$f":"IF($A86=\"\",\"\",VLOOKUP($A86,会員名簿!$A$3:$F$998,3))","v":""},{"$f":"IF($A86=\"\",\"\",VLOOKUP($A86,会員名簿!$A$3:$F$998,4))","v":""},{"$f":"IF($A86=\"\",\"\",VLOOKUP($A86,会員名簿!$A$3:$F$998,5))","v":""},{"$f":"IF($A86=\"\",\"\",VLOOKUP($A86,会員名簿!$A$3:$F$998,6))","v":""},""]
[null,83,11,"３",null,{"$f":"IF($A87=\"\",\"\",VLOOKUP($A87,会員名簿!$A$3:$F$998,2))","v":""},{"$f":"IF($A87=\"\",\"\",VLOOKUP($A87,会員名簿!$A$3:$F$998,3))","v":""},{"$f":"IF($A87=\"\",\"\",VLOOKUP($A87,会員名簿!$A$3:$F$998,4))","v":""},{"$f":"IF($A87=\"\",\"\",VLOOKUP($A87,会員名簿!$A$3:$F$998,5))","v":""},{"$f":"IF($A87=\"\",\"\",VLOOKUP($A87,会員名簿!$A$3:$F$998,6))","v":""},""]
[null,84,11,"４",null,{"$f":"IF($A88=\"\",\"\",VLOOKUP($A88,会員名簿!$A$3:$F$998,2))","v":""},{"$f":"IF($A88=\"\",\"\",VLOOKUP($A88,会員名簿!$A$3:$F$998,3))","v":""},{"$f":"IF($A88=\"\",\"\",VLOOKUP($A88,会員名簿!$A$3:$F$998,4))","v":""},{"$f":"IF($A88=\"\",\"\",VLOOKUP($A88,会員名簿!$A$3:$F$998,5))","v":""},{"$f":"IF($A88=\"\",\"\",VLOOKUP($A88,会員名簿!$A$3:$F$998,6))","v":""},""]
[null,85,11,"５",null,{"$f":"IF($A89=\"\",\"\",VLOOKUP($A89,会員名簿!$A$3:$F$998,2))","v":""},{"$f":"IF($A89=\"\",\"\",VLOOKUP($A89,会員名簿!$A$3:$F$998,3))","v":""},{"$f":"IF($A89=\"\",\"\",VLOOKUP($A89,会員名簿!$A$3:$F$998,4))","v":""},{"$f":"IF($A89=\"\",\"\",VLOOKUP($A89,会員名簿!$A$3:$F$998,5))","v":""},{"$f":"IF($A89=\"\",\"\",VLOOKUP($A89,会員名簿!$A$3:$F$998,6))","v":""},""]
[null,86,11,"６",null,{"$f":"IF($A90=\"\",\"\",VLOOKUP($A90,会員名簿!$A$3:$F$998,2))","v":""},{"$f":"IF($A90=\"\",\"\",VLOOKUP($A90,会員名簿!$A$3:$F$998,3))","v":""},{"$f":"IF($A90=\"\",\"\",VLOOKUP($A90,会員名簿!$A$3:$F$998,4))","v":""},{"$f":"IF($A90=\"\",\"\",VLOOKUP($A90,会員名簿!$A$3:$F$998,5))","v":""},{"$f":"IF($A90=\"\",\"\",VLOOKUP($A90,会員名簿!$A$3:$F$998,6))","v":""},""]
[null,87,11,"７",null,{"$f":"IF($A91=\"\",\"\",VLOOKUP($A91,会員名簿!$A$3:$F$998,2))","v":""},{"$f":"IF($A91=\"\",\"\",VLOOKUP($A91,会員名簿!$A$3:$F$998,3))","v":""},{"$f":"IF($A91=\"\",\"\",VLOOKUP($A91,会員名簿!$A$3:$F$998,4))","v":""},{"$f":"IF($A91=\"\",\"\",VLOOKUP($A91,会員名簿!$A$3:$F$998,5))","v":""},{"$f":"IF($A91=\"\",\"\",VLOOKUP($A91,会員名簿!$A$3:$F$998,6))","v":""},""]
[null,88,11,"８",null,{"$f":"IF($A92=\"\",\"\",VLOOKUP($A92,会員名簿!$A$3:$F$998,2))","v":""},{"$f":"IF($A92=\"\",\"\",VLOOKUP($A92,会員名簿!$A$3:$F$998,3))","v":""},{"$f":"IF($A92=\"\",\"\",VLOOKUP($A92,会員名簿!$A$3:$F$998,4))","v":""},{"$f":"IF($A92=\"\",\"\",VLOOKUP($A92,会員名簿!$A$3:$F$998,5))","v":""},{"$f":"IF($A92=\"\",\"\",VLOOKUP($A92,会員名簿!$A$3:$F$998,6))","v":""},""]
[null,89,12,"１",null,{"$f":"IF($A93=\"\",\"\",VLOOKUP($A93,会員名簿!$A$3:$F$998,2))","v":""},{"$f":"IF($A93=\"\",\"\",VLOOKUP($A93,会員名簿!$A$3:$F$998,3))","v":""},{"$f":"IF($A93=\"\",\"\",VLOOKUP($A93,会員名簿!$A$3:$F$998,4))","v":""},{"$f":"IF($A93=\"\",\"\",VLOOKUP($A93,会員名簿!$A$3:$F$998,5))","v":""},{"$f":"IF($A93=\"\",\"\",VLOOKUP($A93,会員名簿!$A$3:$F$998,6))","v":""},""]
[null,90,12,"２",null,{"$f":"IF($A94=\"\",\"\",VLOOKUP($A94,会員名簿!$A$3:$F$998,2))","v":""},{"$f":"IF($A94=\"\",\"\",VLOOKUP($A94,会員名簿!$A$3:$F$998,3))","v":""},{"$f":"IF($A94=\"\",\"\",VLOOKUP($A94,会員名簿!$A$3:$F$998,4))","v":""},{"$f":"IF($A94=\"\",\"\",VLOOKUP($A94,会員名簿!$A$3:$F$998,5))","v":""},{"$f":"IF($A94=\"\",\"\",VLOOKUP($A94,会員名簿!$A$3:$F$998,6))","v":""},""]
[null,91,12,"３",null,{"$f":"IF($A95=\"\",\"\",VLOOKUP($A95,会員名簿!$A$3:$F$998,2))","v":""},{"$f":"IF($A95=\"\",\"\",VLOOKUP($A95,会員名簿!$A$3:$F$998,3))","v":""},{"$f":"IF($A95=\"\",\"\",VLOOKUP($A95,会員名簿!$A$3:$F$998,4))","v":""},{"$f":"IF($A95=\"\",\"\",VLOOKUP($A95,会員名簿!$A$3:$F$998,5))","v":""},{"$f":"IF($A95=\"\",\"\",VLOOKUP($A95,会員名簿!$A$3:$F$998,6))","v":""},""]
[null,92,12,"４",null,{"$f":"IF($A96=\"\",\"\",VLOOKUP($A96,会員名簿!$A$3:$F$998,2))","v":""},{"$f":"IF($A96=\"\",\"\",VLOOKUP($A96,会員名簿!$A$3:$F$998,3))","v":""},{"$f":"IF($A96=\"\",\"\",VLOOKUP($A96,会員名簿!$A$3:$F$998,4))","v":""},{"$f":"IF($A96=\"\",\"\",VLOOKUP($A96,会員名簿!$A$3:$F$998,5))","v":""},{"$f":"IF($A96=\"\",\"\",VLOOKUP($A96,会員名簿!$A$3:$F$998,6))","v":""},""]
[null,93,12,"５",null,{"$f":"IF($A97=\"\",\"\",VLOOKUP($A97,会員名簿!$A$3:$F$998,2))","v":""},{"$f":"IF($A97=\"\",\"\",VLOOKUP($A97,会員名簿!$A$3:$F$998,3))","v":""},{"$f":"IF($A97=\"\",\"\",VLOOKUP($A97,会員名簿!$A$3:$F$998,4))","v":""},{"$f":"IF($A97=\"\",\"\",VLOOKUP($A97,会員名簿!$A$3:$F$998,5))","v":""},{"$f":"IF($A97=\"\",\"\",VLOOKUP($A97,会員名簿!$A$3:$F$998,6))","v":""},""]
[null,94,12,"６",null,{"$f":"IF($A98=\"\",\"\",VLOOKUP($A98,会員名簿!$A$3:$F$998,2))","v":""},{"$f":"IF($A98=\"\",\"\",VLOOKUP($A98,会員名簿!$A$3:$F$998,3))","v":""},{"$f":"IF($A98=\"\",\"\",VLOOKUP($A98,会員名簿!$A$3:$F$998,4))","v":""},{"$f":"IF($A98=\"\",\"\",VLOOKUP($A98,会員名簿!$A$3:$F$998,5))","v":""},{"$f":"IF($A98=\"\",\"\",VLOOKUP($A98,会員名簿!$A$3:$F$998,6))","v":""},""]
[null,95,12,"７",null,{"$f":"IF($A99=\"\",\"\",VLOOKUP($A99,会員名簿!$A$3:$F$998,2))","v":""},{"$f":"IF($A99=\"\",\"\",VLOOKUP($A99,会員名簿!$A$3:$F$998,3))","v":""},{"$f":"IF($A99=\"\",\"\",VLOOKUP($A99,会員名簿!$A$3:$F$998,4))","v":""},{"$f":"IF($A99=\"\",\"\",VLOOKUP($A99,会員名簿!$A$3:$F$998,5))","v":""},{"$f":"IF($A99=\"\",\"\",VLOOKUP($A99,会員名簿!$A$3:$F$998,6))","v":""},""]
[null,96,12,"８",null,{"$f":"IF($A100=\"\",\"\",VLOOKUP($A100,会員名簿!$A$3:$F$998,2))","v":""},{"$f":"IF($A100=\"\",\"\",VLOOKUP($A100,会員名簿!$A$3:$F$998,3))","v":""},{"$f":"IF($A100=\"\",\"\",VLOOKUP($A100,会員名簿!$A$3:$F$998,4))","v":""},{"$f":"IF($A100=\"\",\"\",VLOOKUP($A100,会員名簿!$A$3:$F$998,5))","v":""},{"$f":"IF($A100=\"\",\"\",VLOOKUP($A100,会員名簿!$A$3:$F$998,6))","v":""},""]
[null,97,13,"１",null,{"$f":"IF($A101=\"\",\"\",VLOOKUP($A101,会員名簿!$A$3:$F$998,2))","v":""},{"$f":"IF($A101=\"\",\"\",VLOOKUP($A101,会員名簿!$A$3:$F$998,3))","v":""},{"$f":"IF($A101=\"\",\"\",VLOOKUP($A101,会員名簿!$A$3:$F$998,4))","v":""},{"$f":"IF($A101=\"\",\"\",VLOOKUP($A101,会員名簿!$A$3:$F$998,5))","v":""},{"$f":"IF($A101=\"\",\"\",VLOOKUP($A101,会員名簿!$A$3:$F$998,6))","v":""},""]
[null,98,13,"２",null,{"$f":"IF($A102=\"\",\"\",VLOOKUP($A102,会員名簿!$A$3:$F$998,2))","v":""},{"$f":"IF($A102=\"\",\"\",VLOOKUP($A102,会員名簿!$A$3:$F$998,3))","v":""},{"$f":"IF($A102=\"\",\"\",VLOOKUP($A102,会員名簿!$A$3:$F$998,4))","v":""},{"$f":"IF($A102=\"\",\"\",VLOOKUP($A102,会員名簿!$A$3:$F$998,5))","v":""},{"$f":"IF($A102=\"\",\"\",VLOOKUP($A102,会員名簿!$A$3:$F$998,6))","v":""},""]
[null,99,13,"３",null,{"$f":"IF($A103=\"\",\"\",VLOOKUP($A103,会員名簿!$A$3:$F$998,2))","v":""},{"$f":"IF($A103=\"\",\"\",VLOOKUP($A103,会員名簿!$A$3:$F$998,3))","v":""},{"$f":"IF($A103=\"\",\"\",VLOOKUP($A103,会員名簿!$A$3:$F$998,4))","v":""},{"$f":"IF($A103=\"\",\"\",VLOOKUP($A103,会員名簿!$A$3:$F$998,5))","v":""},{"$f":"IF($A103=\"\",\"\",VLOOKUP($A103,会員名簿!$A$3:$F$998,6))","v":""},""]
[null,100,13,"４",null,{"$f":"IF($A104=\"\",\"\",VLOOKUP($A104,会員名簿!$A$3:$F$998,2))","v":""},{"$f":"IF($A104=\"\",\"\",VLOOKUP($A104,会員名簿!$A$3:$F$998,3))","v":""},{"$f":"IF($A104=\"\",\"\",VLOOKUP($A104,会員名簿!$A$3:$F$998,4))","v":""},{"$f":"IF($A104=\"\",\"\",VLOOKUP($A104,会員名簿!$A$3:$F$998,5))","v":""},{"$f":"IF($A104=\"\",\"\",VLOOKUP($A104,会員名簿!$A$3:$F$998,6))","v":""},""]
[null,101,13,"５",null,{"$f":"IF($A105=\"\",\"\",VLOOKUP($A105,会員名簿!$A$3:$F$998,2))","v":""},{"$f":"IF($A105=\"\",\"\",VLOOKUP($A105,会員名簿!$A$3:$F$998,3))","v":""},{"$f":"IF($A105=\"\",\"\",VLOOKUP($A105,会員名簿!$A$3:$F$998,4))","v":""},{"$f":"IF($A105=\"\",\"\",VLOOKUP($A105,会員名簿!$A$3:$F$998,5))","v":""},{"$f":"IF($A105=\"\",\"\",VLOOKUP($A105,会員名簿!$A$3:$F$998,6))","v":""},""]
[null,102,13,"６",null,{"$f":"IF($A106=\"\",\"\",VLOOKUP($A106,会員名簿!$A$3:$F$998,2))","v":""},{"$f":"IF($A106=\"\",\"\",VLOOKUP($A106,会員名簿!$A$3:$F$998,3))","v":""},{"$f":"IF($A106=\"\",\"\",VLOOKUP($A106,会員名簿!$A$3:$F$998,4))","v":""},{"$f":"IF($A106=\"\",\"\",VLOOKUP($A106,会員名簿!$A$3:$F$998,5))","v":""},{"$f":"IF($A106=\"\",\"\",VLOOKUP($A106,会員名簿!$A$3:$F$998,6))","v":""},""]
[null,103,13,"７",null,{"$f":"IF($A107=\"\",\"\",VLOOKUP($A107,会員名簿!$A$3:$F$998,2))","v":""},{"$f":"IF($A107=\"\",\"\",VLOOKUP($A107,会員名簿!$A$3:$F$998,3))","v":""},{"$f":"IF($A107=\"\",\"\",VLOOKUP($A107,会員名簿!$A$3:$F$998,4))","v":""},{"$f":"IF($A107=\"\",\"\",VLOOKUP($A107,会員名簿!$A$3:$F$998,5))","v":""},{"$f":"IF($A107=\"\",\"\",VLOOKUP($A107,会員名簿!$A$3:$F$998,6))","v":""},""]
[null,104,13,"８",null,{"$f":"IF($A108=\"\",\"\",VLOOKUP($A108,会員名簿!$A$3:$F$998,2))","v":""},{"$f":"IF($A108=\"\",\"\",VLOOKUP($A108,会員名簿!$A$3:$F$998,3))","v":""},{"$f":"IF($A108=\"\",\"\",VLOOKUP($A108,会員名簿!$A$3:$F$998,4))","v":""},{"$f":"IF($A108=\"\",\"\",VLOOKUP($A108,会員名簿!$A$3:$F$998,5))","v":""},{"$f":"IF($A108=\"\",\"\",VLOOKUP($A108,会員名簿!$A$3:$F$998,6))","v":""},""]
[null,105,14,"１",null,{"$f":"IF($A109=\"\",\"\",VLOOKUP($A109,会員名簿!$A$3:$F$998,2))","v":""},{"$f":"IF($A109=\"\",\"\",VLOOKUP($A109,会員名簿!$A$3:$F$998,3))","v":""},{"$f":"IF($A109=\"\",\"\",VLOOKUP($A109,会員名簿!$A$3:$F$998,4))","v":""},{"$f":"IF($A109=\"\",\"\",VLOOKUP($A109,会員名簿!$A$3:$F$998,5))","v":""},{"$f":"IF($A109=\"\",\"\",VLOOKUP($A109,会員名簿!$A$3:$F$998,6))","v":""},""]
[null,106,14,"２",null,{"$f":"IF($A110=\"\",\"\",VLOOKUP($A110,会員名簿!$A$3:$F$998,2))","v":""},{"$f":"IF($A110=\"\",\"\",VLOOKUP($A110,会員名簿!$A$3:$F$998,3))","v":""},{"$f":"IF($A110=\"\",\"\",VLOOKUP($A110,会員名簿!$A$3:$F$998,4))","v":""},{"$f":"IF($A110=\"\",\"\",VLOOKUP($A110,会員名簿!$A$3:$F$998,5))","v":""},{"$f":"IF($A110=\"\",\"\",VLOOKUP($A110,会員名簿!$A$3:$F$998,6))","v":""},""]
[null,107,14,"３",null,{"$f":"IF($A111=\"\",\"\",VLOOKUP($A111,会員名簿!$A$3:$F$998,2))","v":""},{"$f":"IF($A111=\"\",\"\",VLOOKUP($A111,会員名簿!$A$3:$F$998,3))","v":""},{"$f":"IF($A111=\"\",\"\",VLOOKUP($A111,会員名簿!$A$3:$F$998,4))","v":""},{"$f":"IF($A111=\"\",\"\",VLOOKUP($A111,会員名簿!$A$3:$F$998,5))","v":""},{"$f":"IF($A111=\"\",\"\",VLOOKUP($A111,会員名簿!$A$3:$F$998,6))","v":""},""]
[null,108,14,"４",null,{"$f":"IF($A112=\"\",\"\",VLOOKUP($A112,会員名簿!$A$3:$F$998,2))","v":""},{"$f":"IF($A112=\"\",\"\",VLOOKUP($A112,会員名簿!$A$3:$F$998,3))","v":""},{"$f":"IF($A112=\"\",\"\",VLOOKUP($A112,会員名簿!$A$3:$F$998,4))","v":""},{"$f":"IF($A112=\"\",\"\",VLOOKUP($A112,会員名簿!$A$3:$F$998,5))","v":""},{"$f":"IF($A112=\"\",\"\",VLOOKUP($A112,会員名簿!$A$3:$F$998,6))","v":""},""]
[null,109,14,"５",null,{"$f":"IF($A113=\"\",\"\",VLOOKUP($A113,会員名簿!$A$3:$F$998,2))","v":""},{"$f":"IF($A113=\"\",\"\",VLOOKUP($A113,会員名簿!$A$3:$F$998,3))","v":""},{"$f":"IF($A113=\"\",\"\",VLOOKUP($A113,会員名簿!$A$3:$F$998,4))","v":""},{"$f":"IF($A113=\"\",\"\",VLOOKUP($A113,会員名簿!$A$3:$F$998,5))","v":""},{"$f":"IF($A113=\"\",\"\",VLOOKUP($A113,会員名簿!$A$3:$F$998,6))","v":""},""]
[null,110,14,"６",null,{"$f":"IF($A114=\"\",\"\",VLOOKUP($A114,会員名簿!$A$3:$F$998,2))","v":""},{"$f":"IF($A114=\"\",\"\",VLOOKUP($A114,会員名簿!$A$3:$F$998,3))","v":""},{"$f":"IF($A114=\"\",\"\",VLOOKUP($A114,会員名簿!$A$3:$F$998,4))","v":""},{"$f":"IF($A114=\"\",\"\",VLOOKUP($A114,会員名簿!$A$3:$F$998,5))","v":""},{"$f":"IF($A114=\"\",\"\",VLOOKUP($A114,会員名簿!$A$3:$F$998,6))","v":""},""]
[null,111,14,"７",null,{"$f":"IF($A115=\"\",\"\",VLOOKUP($A115,会員名簿!$A$3:$F$998,2))","v":""},{"$f":"IF($A115=\"\",\"\",VLOOKUP($A115,会員名簿!$A$3:$F$998,3))","v":""},{"$f":"IF($A115=\"\",\"\",VLOOKUP($A115,会員名簿!$A$3:$F$998,4))","v":""},{"$f":"IF($A115=\"\",\"\",VLOOKUP($A115,会員名簿!$A$3:$F$998,5))","v":""},{"$f":"IF($A115=\"\",\"\",VLOOKUP($A115,会員名簿!$A$3:$F$998,6))","v":""},""]
[null,112,14,"８",null,{"$f":"IF($A116=\"\",\"\",VLOOKUP($A116,会員名簿!$A$3:$F$998,2))","v":""},{"$f":"IF($A116=\"\",\"\",VLOOKUP($A116,会員名簿!$A$3:$F$998,3))","v":""},{"$f":"IF($A116=\"\",\"\",VLOOKUP($A116,会員名簿!$A$3:$F$998,4))","v":""},{"$f":"IF($A116=\"\",\"\",VLOOKUP($A116,会員名簿!$A$3:$F$998,5))","v":""},{"$f":"IF($A116=\"\",\"\",VLOOKUP($A116,会員名簿!$A$3:$F$998,6))","v":""},""]
[null,113,15,"１",null,{"$f":"IF($A117=\"\",\"\",VLOOKUP($A117,会員名簿!$A$3:$F$998,2))","v":""},{"$f":"IF($A117=\"\",\"\",VLOOKUP($A117,会員名簿!$A$3:$F$998,3))","v":""},{"$f":"IF($A117=\"\",\"\",VLOOKUP($A117,会員名簿!$A$3:$F$998,4))","v":""},{"$f":"IF($A117=\"\",\"\",VLOOKUP($A117,会員名簿!$A$3:$F$998,5))","v":""},{"$f":"IF($A117=\"\",\"\",VLOOKUP($A117,会員名簿!$A$3:$F$998,6))","v":""},""]
[null,114,15,"２",null,{"$f":"IF($A118=\"\",\"\",VLOOKUP($A118,会員名簿!$A$3:$F$998,2))","v":""},{"$f":"IF($A118=\"\",\"\",VLOOKUP($A118,会員名簿!$A$3:$F$998,3))","v":""},{"$f":"IF($A118=\"\",\"\",VLOOKUP($A118,会員名簿!$A$3:$F$998,4))","v":""},{"$f":"IF($A118=\"\",\"\",VLOOKUP($A118,会員名簿!$A$3:$F$998,5))","v":""},{"$f":"IF($A118=\"\",\"\",VLOOKUP($A118,会員名簿!$A$3:$F$998,6))","v":""},""]
[null,115,15,"３",null,{"$f":"IF($A119=\"\",\"\",VLOOKUP($A119,会員名簿!$A$3:$F$998,2))","v":""},{"$f":"IF($A119=\"\",\"\",VLOOKUP($A119,会員名簿!$A$3:$F$998,3))","v":""},{"$f":"IF($A119=\"\",\"\",VLOOKUP($A119,会員名簿!$A$3:$F$998,4))","v":""},{"$f":"IF($A119=\"\",\"\",VLOOKUP($A119,会員名簿!$A$3:$F$998,5))","v":""},{"$f":"IF($A119=\"\",\"\",VLOOKUP($A119,会員名簿!$A$3:$F$998,6))","v":""},""]
[null,116,15,"４",null,{"$f":"IF($A120=\"\",\"\",VLOOKUP($A120,会員名簿!$A$3:$F$998,2))","v":""},{"$f":"IF($A120=\"\",\"\",VLOOKUP($A120,会員名簿!$A$3:$F$998,3))","v":""},{"$f":"IF($A120=\"\",\"\",VLOOKUP($A120,会員名簿!$A$3:$F$998,4))","v":""},{"$f":"IF($A120=\"\",\"\",VLOOKUP($A120,会員名簿!$A$3:$F$998,5))","v":""},{"$f":"IF($A120=\"\",\"\",VLOOKUP($A120,会員名簿!$A$3:$F$998,6))","v":""},""]
[null,117,15,"５",null,{"$f":"IF($A121=\"\",\"\",VLOOKUP($A121,会員名簿!$A$3:$F$998,2))","v":""},{"$f":"IF($A121=\"\",\"\",VLOOKUP($A121,会員名簿!$A$3:$F$998,3))","v":""},{"$f":"IF($A121=\"\",\"\",VLOOKUP($A121,会員名簿!$A$3:$F$998,4))","v":""},{"$f":"IF($A121=\"\",\"\",VLOOKUP($A121,会員名簿!$A$3:$F$998,5))","v":""},{"$f":"IF($A121=\"\",\"\",VLOOKUP($A121,会員名簿!$A$3:$F$998,6))","v":""},""]
[null,118,15,"６",null,{"$f":"IF($A122=\"\",\"\",VLOOKUP($A122,会員名簿!$A$3:$F$998,2))","v":""},{"$f":"IF($A122=\"\",\"\",VLOOKUP($A122,会員名簿!$A$3:$F$998,3))","v":""},{"$f":"IF($A122=\"\",\"\",VLOOKUP($A122,会員名簿!$A$3:$F$998,4))","v":""},{"$f":"IF($A122=\"\",\"\",VLOOKUP($A122,会員名簿!$A$3:$F$998,5))","v":""},{"$f":"IF($A122=\"\",\"\",VLOOKUP($A122,会員名簿!$A$3:$F$998,6))","v":""},""]
[null,119,15,"７",null,{"$f":"IF($A123=\"\",\"\",VLOOKUP($A123,会員名簿!$A$3:$F$998,2))","v":""},{"$f":"IF($A123=\"\",\"\",VLOOKUP($A123,会員名簿!$A$3:$F$998,3))","v":""},{"$f":"IF($A123=\"\",\"\",VLOOKUP($A123,会員名簿!$A$3:$F$998,4))","v":""},{"$f":"IF($A123=\"\",\"\",VLOOKUP($A123,会員名簿!$A$3:$F$998,5))","v":""},{"$f":"IF($A123=\"\",\"\",VLOOKUP($A123,会員名簿!$A$3:$F$998,6))","v":""},""]
[null,120,15,"８",null,{"$f":"IF($A124=\"\",\"\",VLOOKUP($A124,会員名簿!$A$3:$F$998,2))","v":""},{"$f":"IF($A124=\"\",\"\",VLOOKUP($A124,会員名簿!$A$3:$F$998,3))","v":""},{"$f":"IF($A124=\"\",\"\",VLOOKUP($A124,会員名簿!$A$3:$F$998,4))","v":""},{"$f":"IF($A124=\"\",\"\",VLOOKUP($A124,会員名簿!$A$3:$F$998,5))","v":""},{"$f":"IF($A124=\"\",\"\",VLOOKUP($A124,会員名簿!$A$3:$F$998,6))","v":""},""]
[null,121,16,"１",null,{"$f":"IF($A125=\"\",\"\",VLOOKUP($A125,会員名簿!$A$3:$F$998,2))","v":""},{"$f":"IF($A125=\"\",\"\",VLOOKUP($A125,会員名簿!$A$3:$F$998,3))","v":""},{"$f":"IF($A125=\"\",\"\",VLOOKUP($A125,会員名簿!$A$3:$F$998,4))","v":""},{"$f":"IF($A125=\"\",\"\",VLOOKUP($A125,会員名簿!$A$3:$F$998,5))","v":""},{"$f":"IF($A125=\"\",\"\",VLOOKUP($A125,会員名簿!$A$3:$F$998,6))","v":""},""]
[null,122,16,"２",null,{"$f":"IF($A126=\"\",\"\",VLOOKUP($A126,会員名簿!$A$3:$F$998,2))","v":""},{"$f":"IF($A126=\"\",\"\",VLOOKUP($A126,会員名簿!$A$3:$F$998,3))","v":""},{"$f":"IF($A126=\"\",\"\",VLOOKUP($A126,会員名簿!$A$3:$F$998,4))","v":""},{"$f":"IF($A126=\"\",\"\",VLOOKUP($A126,会員名簿!$A$3:$F$998,5))","v":""},{"$f":"IF($A126=\"\",\"\",VLOOKUP($A126,会員名簿!$A$3:$F$998,6))","v":""},""]
[null,123,16,"３",null,{"$f":"IF($A127=\"\",\"\",VLOOKUP($A127,会員名簿!$A$3:$F$998,2))","v":""},{"$f":"IF($A127=\"\",\"\",VLOOKUP($A127,会員名簿!$A$3:$F$998,3))","v":""},{"$f":"IF($A127=\"\",\"\",VLOOKUP($A127,会員名簿!$A$3:$F$998,4))","v":""},{"$f":"IF($A127=\"\",\"\",VLOOKUP($A127,会員名簿!$A$3:$F$998,5))","v":""},{"$f":"IF($A127=\"\",\"\",VLOOKUP($A127,会員名簿!$A$3:$F$998,6))","v":""},""]
[null,124,16,"４",null,{"$f":"IF($A128=\"\",\"\",VLOOKUP($A128,会員名簿!$A$3:$F$998,2))","v":""},{"$f":"IF($A128=\"\",\"\",VLOOKUP($A128,会員名簿!$A$3:$F$998,3))","v":""},{"$f":"IF($A128=\"\",\"\",VLOOKUP($A128,会員名簿!$A$3:$F$998,4))","v":""},{"$f":"IF($A128=\"\",\"\",VLOOKUP($A128,会員名簿!$A$3:$F$998,5))","v":""},{"$f":"IF($A128=\"\",\"\",VLOOKUP($A128,会員名簿!$A$3:$F$998,6))","v":""},""]
[null,125,16,"５",null,{"$f":"IF($A129=\"\",\"\",VLOOKUP($A129,会員名簿!$A$3:$F$998,2))","v":""},{"$f":"IF($A129=\"\",\"\",VLOOKUP($A129,会員名簿!$A$3:$F$998,3))","v":""},{"$f":"IF($A129=\"\",\"\",VLOOKUP($A129,会員名簿!$A$3:$F$998,4))","v":""},{"$f":"IF($A129=\"\",\"\",VLOOKUP($A129,会員名簿!$A$3:$F$998,5))","v":""},{"$f":"IF($A129=\"\",\"\",VLOOKUP($A129,会員名簿!$A$3:$F$998,6))","v":""},""]
[null,126,16,"６",null,{"$f":"IF($A130=\"\",\"\",VLOOKUP($A130,会員名簿!$A$3:$F$998,2))","v":""},{"$f":"IF($A130=\"\",\"\",VLOOKUP($A130,会員名簿!$A$3:$F$998,3))","v":""},{"$f":"IF($A130=\"\",\"\",VLOOKUP($A130,会員名簿!$A$3:$F$998,4))","v":""},{"$f":"IF($A130=\"\",\"\",VLOOKUP($A130,会員名簿!$A$3:$F$998,5))","v":""},{"$f":"IF($A130=\"\",\"\",VLOOKUP($A130,会員名簿!$A$3:$F$998,6))","v":""},""]
[null,127,16,"７",null,{"$f":"IF($A131=\"\",\"\",VLOOKUP($A131,会員名簿!$A$3:$F$998,2))","v":""},{"$f":"IF($A131=\"\",\"\",VLOOKUP($A131,会員名簿!$A$3:$F$998,3))","v":""},{"$f":"IF($A131=\"\",\"\",VLOOKUP($A131,会員名簿!$A$3:$F$998,4))","v":""},{"$f":"IF($A131=\"\",\"\",VLOOKUP($A131,会員名簿!$A$3:$F$998,5))","v":""},{"$f":"IF($A131=\"\",\"\",VLOOKUP($A131,会員名簿!$A$3:$F$998,6))","v":""},""]
[null,128,16,"８",null,{"$f":"IF($A132=\"\",\"\",VLOOKUP($A132,会員名簿!$A$3:$F$998,2))","v":""},{"$f":"IF($A132=\"\",\"\",VLOOKUP($A132,会員名簿!$A$3:$F$998,3))","v":""},{"$f":"IF($A132=\"\",\"\",VLOOKUP($A132,会員名簿!$A$3:$F$998,4))","v":""},{"$f":"IF($A132=\"\",\"\",VLOOKUP($A132,会員名簿!$A$3:$F$998,5))","v":""},{"$f":"IF($A132=\"\",\"\",VLOOKUP($A132,会員名簿!$A$3:$F$998,6))","v":""},""]
[null,129,17,"１",null,{"$f":"IF($A133=\"\",\"\",VLOOKUP($A133,会員名簿!$A$3:$F$998,2))","v":""},{"$f":"IF($A133=\"\",\"\",VLOOKUP($A133,会員名簿!$A$3:$F$998,3))","v":""},{"$f":"IF($A133=\"\",\"\",VLOOKUP($A133,会員名簿!$A$3:$F$998,4))","v":""},{"$f":"IF($A133=\"\",\"\",VLOOKUP($A133,会員名簿!$A$3:$F$998,5))","v":""},{"$f":"IF($A133=\"\",\"\",VLOOKUP($A133,会員名簿!$A$3:$F$998,6))","v":""},{"$f":"IF(J133=\"\",\"\",DATEDIF(J133,TODAY(),\"y\"))","v":""}]
[null,130,17,"２",null,{"$f":"IF($A134=\"\",\"\",VLOOKUP($A134,会員名簿!$A$3:$F$998,2))","v":""},{"$f":"IF($A134=\"\",\"\",VLOOKUP($A134,会員名簿!$A$3:$F$998,3))","v":""},{"$f":"IF($A134=\"\",\"\",VLOOKUP($A134,会員名簿!$A$3:$F$998,4))","v":""},{"$f":"IF($A134=\"\",\"\",VLOOKUP($A134,会員名簿!$A$3:$F$998,5))","v":""},{"$f":"IF($A134=\"\",\"\",VLOOKUP($A134,会員名簿!$A$3:$F$998,6))","v":""},""]
[null,131,17,"３",null,{"$f":"IF($A135=\"\",\"\",VLOOKUP($A135,会員名簿!$A$3:$F$998,2))","v":""},{"$f":"IF($A135=\"\",\"\",VLOOKUP($A135,会員名簿!$A$3:$F$998,3))","v":""},{"$f":"IF($A135=\"\",\"\",VLOOKUP($A135,会員名簿!$A$3:$F$998,4))","v":""},{"$f":"IF($A135=\"\",\"\",VLOOKUP($A135,会員名簿!$A$3:$F$998,5))","v":""},{"$f":"IF($A135=\"\",\"\",VLOOKUP($A135,会員名簿!$A$3:$F$998,6))","v":""},""]
[null,132,17,"４",null,{"$f":"IF($A136=\"\",\"\",VLOOKUP($A136,会員名簿!$A$3:$F$998,2))","v":""},{"$f":"IF($A136=\"\",\"\",VLOOKUP($A136,会員名簿!$A$3:$F$998,3))","v":""},{"$f":"IF($A136=\"\",\"\",VLOOKUP($A136,会員名簿!$A$3:$F$998,4))","v":""},{"$f":"IF($A136=\"\",\"\",VLOOKUP($A136,会員名簿!$A$3:$F$998,5))","v":""},{"$f":"IF($A136=\"\",\"\",VLOOKUP($A136,会員名簿!$A$3:$F$998,6))","v":""},""]
[null,133,17,"５",null,{"$f":"IF($A137=\"\",\"\",VLOOKUP($A137,会員名簿!$A$3:$F$998,2))","v":""},{"$f":"IF($A137=\"\",\"\",VLOOKUP($A137,会員名簿!$A$3:$F$998,3))","v":""},{"$f":"IF($A137=\"\",\"\",VLOOKUP($A137,会員名簿!$A$3:$F$998,4))","v":""},{"$f":"IF($A137=\"\",\"\",VLOOKUP($A137,会員名簿!$A$3:$F$998,5))","v":""},{"$f":"IF($A137=\"\",\"\",VLOOKUP($A137,会員名簿!$A$3:$F$998,6))","v":""},""]
[null,134,17,"６",null,{"$f":"IF($A138=\"\",\"\",VLOOKUP($A138,会員名簿!$A$3:$F$998,2))","v":""},{"$f":"IF($A138=\"\",\"\",VLOOKUP($A138,会員名簿!$A$3:$F$998,3))","v":""},{"$f":"IF($A138=\"\",\"\",VLOOKUP($A138,会員名簿!$A$3:$F$998,4))","v":""},{"$f":"IF($A138=\"\",\"\",VLOOKUP($A138,会員名簿!$A$3:$F$998,5))","v":""},{"$f":"IF($A138=\"\",\"\",VLOOKUP($A138,会員名簿!$A$3:$F$998,6))","v":""},""]
[null,135,17,"７",null,{"$f":"IF($A139=\"\",\"\",VLOOKUP($A139,会員名簿!$A$3:$F$998,2))","v":""},{"$f":"IF($A139=\"\",\"\",VLOOKUP($A139,会員名簿!$A$3:$F$998,3))","v":""},{"$f":"IF($A139=\"\",\"\",VLOOKUP($A139,会員名簿!$A$3:$F$998,4))","v":""},{"$f":"IF($A139=\"\",\"\",VLOOKUP($A139,会員名簿!$A$3:$F$998,5))","v":""},{"$f":"IF($A139=\"\",\"\",VLOOKUP($A139,会員名簿!$A$3:$F$998,6))","v":""},""]
[null,136,17,"８",null,{"$f":"IF($A140=\"\",\"\",VLOOKUP($A140,会員名簿!$A$3:$F$998,2))","v":""},{"$f":"IF($A140=\"\",\"\",VLOOKUP($A140,会員名簿!$A$3:$F$998,3))","v":""},{"$f":"IF($A140=\"\",\"\",VLOOKUP($A140,会員名簿!$A$3:$F$998,4))","v":""},{"$f":"IF($A140=\"\",\"\",VLOOKUP($A140,会員名簿!$A$3:$F$998,5))","v":""},{"$f":"IF($A140=\"\",\"\",VLOOKUP($A140,会員名簿!$A$3:$F$998,6))","v":""},""]
[null,137,18,"１",null,{"$f":"IF($A141=\"\",\"\",VLOOKUP($A141,会員名簿!$A$3:$F$998,2))","v":""},{"$f":"IF($A141=\"\",\"\",VLOOKUP($A141,会員名簿!$A$3:$F$998,3))","v":""},{"$f":"IF($A141=\"\",\"\",VLOOKUP($A141,会員名簿!$A$3:$F$998,4))","v":""},{"$f":"IF($A141=\"\",\"\",VLOOKUP($A141,会員名簿!$A$3:$F$998,5))","v":""},{"$f":"IF($A141=\"\",\"\",VLOOKUP($A141,会員名簿!$A$3:$F$998,6))","v":""},""]
[null,138,18,"２",null,{"$f":"IF($A142=\"\",\"\",VLOOKUP($A142,会員名簿!$A$3:$F$998,2))","v":""},{"$f":"IF($A142=\"\",\"\",VLOOKUP($A142,会員名簿!$A$3:$F$998,3))","v":""},{"$f":"IF($A142=\"\",\"\",VLOOKUP($A142,会員名簿!$A$3:$F$998,4))","v":""},{"$f":"IF($A142=\"\",\"\",VLOOKUP($A142,会員名簿!$A$3:$F$998,5))","v":""},{"$f":"IF($A142=\"\",\"\",VLOOKUP($A142,会員名簿!$A$3:$F$998,6))","v":""},""]
[null,139,18,"３",null,{"$f":"IF($A143=\"\",\"\",VLOOKUP($A143,会員名簿!$A$3:$F$998,2))","v":""},{"$f":"IF($A143=\"\",\"\",VLOOKUP($A143,会員名簿!$A$3:$F$998,3))","v":""},{"$f":"IF($A143=\"\",\"\",VLOOKUP($A143,会員名簿!$A$3:$F$998,4))","v":""},{"$f":"IF($A143=\"\",\"\",VLOOKUP($A143,会員名簿!$A$3:$F$998,5))","v":""},{"$f":"IF($A143=\"\",\"\",VLOOKUP($A143,会員名簿!$A$3:$F$998,6))","v":""},""]
[null,140,18,"４",null,{"$f":"IF($A144=\"\",\"\",VLOOKUP($A144,会員名簿!$A$3:$F$998,2))","v":""},{"$f":"IF($A144=\"\",\"\",VLOOKUP($A144,会員名簿!$A$3:$F$998,3))","v":""},{"$f":"IF($A144=\"\",\"\",VLOOKUP($A144,会員名簿!$A$3:$F$998,4))","v":""},{"$f":"IF($A144=\"\",\"\",VLOOKUP($A144,会員名簿!$A$3:$F$998,5))","v":""},{"$f":"IF($A144=\"\",\"\",VLOOKUP($A144,会員名簿!$A$3:$F$998,6))","v":""},""]
[null,141,18,"５",null,{"$f":"IF($A145=\"\",\"\",VLOOKUP($A145,会員名簿!$A$3:$F$998,2))","v":""},{"$f":"IF($A145=\"\",\"\",VLOOKUP($A145,会員名簿!$A$3:$F$998,3))","v":""},{"$f":"IF($A145=\"\",\"\",VLOOKUP($A145,会員名簿!$A$3:$F$998,4))","v":""},{"$f":"IF($A145=\"\",\"\",VLOOKUP($A145,会員名簿!$A$3:$F$998,5))","v":""},{"$f":"IF($A145=\"\",\"\",VLOOKUP($A145,会員名簿!$A$3:$F$998,6))","v":""},""]
[null,142,18,"６",null,{"$f":"IF($A146=\"\",\"\",VLOOKUP($A146,会員名簿!$A$3:$F$998,2))","v":""},{"$f":"IF($A146=\"\",\"\",VLOOKUP($A146,会員名簿!$A$3:$F$998,3))","v":""},{"$f":"IF($A146=\"\",\"\",VLOOKUP($A146,会員名簿!$A$3:$F$998,4))","v":""},{"$f":"IF($A146=\"\",\"\",VLOOKUP($A146,会員名簿!$A$3:$F$998,5))","v":""},{"$f":"IF($A146=\"\",\"\",VLOOKUP($A146,会員名簿!$A$3:$F$998,6))","v":""},""]
[null,143,18,"７",null,{"$f":"IF($A147=\"\",\"\",VLOOKUP($A147,会員名簿!$A$3:$F$998,2))","v":""},{"$f":"IF($A147=\"\",\"\",VLOOKUP($A147,会員名簿!$A$3:$F$998,3))","v":""},{"$f":"IF($A147=\"\",\"\",VLOOKUP($A147,会員名簿!$A$3:$F$998,4))","v":""},{"$f":"IF($A147=\"\",\"\",VLOOKUP($A147,会員名簿!$A$3:$F$998,5))","v":""},{"$f":"IF($A147=\"\",\"\",VLOOKUP($A147,会員名簿!$A$3:$F$998,6))","v":""},""]
[null,144,18,"８",null,{"$f":"IF($A148=\"\",\"\",VLOOKUP($A148,会員名簿!$A$3:$F$998,2))","v":""},{"$f":"IF($A148=\"\",\"\",VLOOKUP($A148,会員名簿!$A$3:$F$998,3))","v":""},{"$f":"IF($A148=\"\",\"\",VLOOKUP($A148,会員名簿!$A$3:$F$998,4))","v":""},{"$f":"IF($A148=\"\",\"\",VLOOKUP($A148,会員名簿!$A$3:$F$998,5))","v":""},{"$f":"IF($A148=\"\",\"\",VLOOKUP($A148,会員名簿!$A$3:$F$998,6))","v":""},""]
[null,145,19,"１",null,{"$f":"IF($A149=\"\",\"\",VLOOKUP($A149,会員名簿!$A$3:$F$998,2))","v":""},{"$f":"IF($A149=\"\",\"\",VLOOKUP($A149,会員名簿!$A$3:$F$998,3))","v":""},{"$f":"IF($A149=\"\",\"\",VLOOKUP($A149,会員名簿!$A$3:$F$998,4))","v":""},{"$f":"IF($A149=\"\",\"\",VLOOKUP($A149,会員名簿!$A$3:$F$998,5))","v":""},{"$f":"IF($A149=\"\",\"\",VLOOKUP($A149,会員名簿!$A$3:$F$998,6))","v":""},""]
[null,146,19,"２",null,{"$f":"IF($A150=\"\",\"\",VLOOKUP($A150,会員名簿!$A$3:$F$998,2))","v":""},{"$f":"IF($A150=\"\",\"\",VLOOKUP($A150,会員名簿!$A$3:$F$998,3))","v":""},{"$f":"IF($A150=\"\",\"\",VLOOKUP($A150,会員名簿!$A$3:$F$998,4))","v":""},{"$f":"IF($A150=\"\",\"\",VLOOKUP($A150,会員名簿!$A$3:$F$998,5))","v":""},{"$f":"IF($A150=\"\",\"\",VLOOKUP($A150,会員名簿!$A$3:$F$998,6))","v":""},""]
[null,147,19,"３",null,{"$f":"IF($A151=\"\",\"\",VLOOKUP($A151,会員名簿!$A$3:$F$998,2))","v":""},{"$f":"IF($A151=\"\",\"\",VLOOKUP($A151,会員名簿!$A$3:$F$998,3))","v":""},{"$f":"IF($A151=\"\",\"\",VLOOKUP($A151,会員名簿!$A$3:$F$998,4))","v":""},{"$f":"IF($A151=\"\",\"\",VLOOKUP($A151,会員名簿!$A$3:$F$998,5))","v":""},{"$f":"IF($A151=\"\",\"\",VLOOKUP($A151,会員名簿!$A$3:$F$998,6))","v":""},""]
[null,148,19,"４",null,{"$f":"IF($A152=\"\",\"\",VLOOKUP($A152,会員名簿!$A$3:$F$998,2))","v":""},{"$f":"IF($A152=\"\",\"\",VLOOKUP($A152,会員名簿!$A$3:$F$998,3))","v":""},{"$f":"IF($A152=\"\",\"\",VLOOKUP($A152,会員名簿!$A$3:$F$998,4))","v":""},{"$f":"IF($A152=\"\",\"\",VLOOKUP($A152,会員名簿!$A$3:$F$998,5))","v":""},{"$f":"IF($A152=\"\",\"\",VLOOKUP($A152,会員名簿!$A$3:$F$998,6))","v":""},""]
[null,149,19,"５",null,{"$f":"IF($A153=\"\",\"\",VLOOKUP($A153,会員名簿!$A$3:$F$998,2))","v":""},{"$f":"IF($A153=\"\",\"\",VLOOKUP($A153,会員名簿!$A$3:$F$998,3))","v":""},{"$f":"IF($A153=\"\",\"\",VLOOKUP($A153,会員名簿!$A$3:$F$998,4))","v":""},{"$f":"IF($A153=\"\",\"\",VLOOKUP($A153,会員名簿!$A$3:$F$998,5))","v":""},{"$f":"IF($A153=\"\",\"\",VLOOKUP($A153,会員名簿!$A$3:$F$998,6))","v":""},""]
[null,150,19,"６",null,{"$f":"IF($A154=\"\",\"\",VLOOKUP($A154,会員名簿!$A$3:$F$998,2))","v":""},{"$f":"IF($A154=\"\",\"\",VLOOKUP($A154,会員名簿!$A$3:$F$998,3))","v":""},{"$f":"IF($A154=\"\",\"\",VLOOKUP($A154,会員名簿!$A$3:$F$998,4))","v":""},{"$f":"IF($A154=\"\",\"\",VLOOKUP($A154,会員名簿!$A$3:$F$998,5))","v":""},{"$f":"IF($A154=\"\",\"\",VLOOKUP($A154,会員名簿!$A$3:$F$998,6))","v":""},""]
[null,151,19,"７",null,{"$f":"IF($A155=\"\",\"\",VLOOKUP($A155,会員名簿!$A$3:$F$998,2))","v":""},{"$f":"IF($A155=\"\",\"\",VLOOKUP($A155,会員名簿!$A$3:$F$998,3))","v":""},{"$f":"IF($A155=\"\",\"\",VLOOKUP($A155,会員名簿!$A$3:$F$998,4))","v":""},{"$f":"IF($A155=\"\",\"\",VLOOKUP($A155,会員名簿!$A$3:$F$998,5))","v":""},{"$f":"IF($A155=\"\",\"\",VLOOKUP($A155,会員名簿!$A$3:$F$998,6))","v":""},""]
[null,152,19,"８",null,{"$f":"IF($A156=\"\",\"\",VLOOKUP($A156,会員名簿!$A$3:$F$998,2))","v":""},{"$f":"IF($A156=\"\",\"\",VLOOKUP($A156,会員名簿!$A$3:$F$998,3))","v":""},{"$f":"IF($A156=\"\",\"\",VLOOKUP($A156,会員名簿!$A$3:$F$998,4))","v":""},{"$f":"IF($A156=\"\",\"\",VLOOKUP($A156,会員名簿!$A$3:$F$998,5))","v":""},{"$f":"IF($A156=\"\",\"\",VLOOKUP($A156,会員名簿!$A$3:$F$998,6))","v":""},""]
[null,153,20,"１",null,{"$f":"IF($A157=\"\",\"\",VLOOKUP($A157,会員名簿!$A$3:$F$998,2))","v":""},{"$f":"IF($A157=\"\",\"\",VLOOKUP($A157,会員名簿!$A$3:$F$998,3))","v":""},{"$f":"IF($A157=\"\",\"\",VLOOKUP($A157,会員名簿!$A$3:$F$998,4))","v":""},{"$f":"IF($A157=\"\",\"\",VLOOKUP($A157,会員名簿!$A$3:$F$998,5))","v":""},{"$f":"IF($A157=\"\",\"\",VLOOKUP($A157,会員名簿!$A$3:$F$998,6))","v":""},""]
[null,154,20,"２",null,{"$f":"IF($A158=\"\",\"\",VLOOKUP($A158,会員名簿!$A$3:$F$998,2))","v":""},{"$f":"IF($A158=\"\",\"\",VLOOKUP($A158,会員名簿!$A$3:$F$998,3))","v":""},{"$f":"IF($A158=\"\",\"\",VLOOKUP($A158,会員名簿!$A$3:$F$998,4))","v":""},{"$f":"IF($A158=\"\",\"\",VLOOKUP($A158,会員名簿!$A$3:$F$998,5))","v":""},{"$f":"IF($A158=\"\",\"\",VLOOKUP($A158,会員名簿!$A$3:$F$998,6))","v":""},""]
[null,155,20,"３",null,{"$f":"IF($A159=\"\",\"\",VLOOKUP($A159,会員名簿!$A$3:$F$998,2))","v":""},{"$f":"IF($A159=\"\",\"\",VLOOKUP($A159,会員名簿!$A$3:$F$998,3))","v":""},{"$f":"IF($A159=\"\",\"\",VLOOKUP($A159,会員名簿!$A$3:$F$998,4))","v":""},{"$f":"IF($A159=\"\",\"\",VLOOKUP($A159,会員名簿!$A$3:$F$998,5))","v":""},{"$f":"IF($A159=\"\",\"\",VLOOKUP($A159,会員名簿!$A$3:$F$998,6))","v":""},""]
[null,156,20,"４",null,{"$f":"IF($A160=\"\",\"\",VLOOKUP($A160,会員名簿!$A$3:$F$998,2))","v":""},{"$f":"IF($A160=\"\",\"\",VLOOKUP($A160,会員名簿!$A$3:$F$998,3))","v":""},{"$f":"IF($A160=\"\",\"\",VLOOKUP($A160,会員名簿!$A$3:$F$998,4))","v":""},{"$f":"IF($A160=\"\",\"\",VLOOKUP($A160,会員名簿!$A$3:$F$998,5))","v":""},{"$f":"IF($A160=\"\",\"\",VLOOKUP($A160,会員名簿!$A$3:$F$998,6))","v":""},""]
[null,157,20,"５",null,{"$f":"IF($A161=\"\",\"\",VLOOKUP($A161,会員名簿!$A$3:$F$998,2))","v":""},{"$f":"IF($A161=\"\",\"\",VLOOKUP($A161,会員名簿!$A$3:$F$998,3))","v":""},{"$f":"IF($A161=\"\",\"\",VLOOKUP($A161,会員名簿!$A$3:$F$998,4))","v":""},{"$f":"IF($A161=\"\",\"\",VLOOKUP($A161,会員名簿!$A$3:$F$998,5))","v":""},{"$f":"IF($A161=\"\",\"\",VLOOKUP($A161,会員名簿!$A$3:$F$998,6))","v":""},""]
[null,158,20,"６",null,{"$f":"IF($A162=\"\",\"\",VLOOKUP($A162,会員名簿!$A$3:$F$998,2))","v":""},{"$f":"IF($A162=\"\",\"\",VLOOKUP($A162,会員名簿!$A$3:$F$998,3))","v":""},{"$f":"IF($A162=\"\",\"\",VLOOKUP($A162,会員名簿!$A$3:$F$998,4))","v":""},{"$f":"IF($A162=\"\",\"\",VLOOKUP($A162,会員名簿!$A$3:$F$998,5))","v":""},{"$f":"IF($A162=\"\",\"\",VLOOKUP($A162,会員名簿!$A$3:$F$998,6))","v":""},""]
[null,159,20,"７",null,{"$f":"IF($A163=\"\",\"\",VLOOKUP($A163,会員名簿!$A$3:$F$998,2))","v":""},{"$f":"IF($A163=\"\",\"\",VLOOKUP($A163,会員名簿!$A$3:$F$998,3))","v":""},{"$f":"IF($A163=\"\",\"\",VLOOKUP($A163,会員名簿!$A$3:$F$998,4))","v":""},{"$f":"IF($A163=\"\",\"\",VLOOKUP($A163,会員名簿!$A$3:$F$998,5))","v":""},{"$f":"IF($A163=\"\",\"\",VLOOKUP($A163,会員名簿!$A$3:$F$998,6))","v":""},""]
[null,160,20,"８",null,{"$f":"IF($A164=\"\",\"\",VLOOKUP($A164,会員名簿!$A$3:$F$998,2))","v":""},{"$f":"IF($A164=\"\",\"\",VLOOKUP($A164,会員名簿!$A$3:$F$998,3))","v":""},{"$f":"IF($A164=\"\",\"\",VLOOKUP($A164,会員名簿!$A$3:$F$998,4))","v":""},{"$f":"IF($A164=\"\",\"\",VLOOKUP($A164,会員名簿!$A$3:$F$998,5))","v":""},{"$f":"IF($A164=\"\",\"\",VLOOKUP($A164,会員名簿!$A$3:$F$998,6))","v":""},""]
[null,161,21,"１",null,{"$f":"IF($A165=\"\",\"\",VLOOKUP($A165,会員名簿!$A$3:$F$998,2))","v":""},{"$f":"IF($A165=\"\",\"\",VLOOKUP($A165,会員名簿!$A$3:$F$998,3))","v":""},{"$f":"IF($A165=\"\",\"\",VLOOKUP($A165,会員名簿!$A$3:$F$998,4))","v":""},{"$f":"IF($A165=\"\",\"\",VLOOKUP($A165,会員名簿!$A$3:$F$998,5))","v":""},{"$f":"IF($A165=\"\",\"\",VLOOKUP($A165,会員名簿!$A$3:$F$998,6))","v":""},""]
[null,162,21,"２",null,{"$f":"IF($A166=\"\",\"\",VLOOKUP($A166,会員名簿!$A$3:$F$998,2))","v":""},{"$f":"IF($A166=\"\",\"\",VLOOKUP($A166,会員名簿!$A$3:$F$998,3))","v":""},{"$f":"IF($A166=\"\",\"\",VLOOKUP($A166,会員名簿!$A$3:$F$998,4))","v":""},{"$f":"IF($A166=\"\",\"\",VLOOKUP($A166,会員名簿!$A$3:$F$998,5))","v":""},{"$f":"IF($A166=\"\",\"\",VLOOKUP($A166,会員名簿!$A$3:$F$998,6))","v":""},""]
[null,163,21,"３",null,{"$f":"IF($A167=\"\",\"\",VLOOKUP($A167,会員名簿!$A$3:$F$998,2))","v":""},{"$f":"IF($A167=\"\",\"\",VLOOKUP($A167,会員名簿!$A$3:$F$998,3))","v":""},{"$f":"IF($A167=\"\",\"\",VLOOKUP($A167,会員名簿!$A$3:$F$998,4))","v":""},{"$f":"IF($A167=\"\",\"\",VLOOKUP($A167,会員名簿!$A$3:$F$998,5))","v":""},{"$f":"IF($A167=\"\",\"\",VLOOKUP($A167,会員名簿!$A$3:$F$998,6))","v":""},""]
[null,164,21,"４",null,{"$f":"IF($A168=\"\",\"\",VLOOKUP($A168,会員名簿!$A$3:$F$998,2))","v":""},{"$f":"IF($A168=\"\",\"\",VLOOKUP($A168,会員名簿!$A$3:$F$998,3))","v":""},{"$f":"IF($A168=\"\",\"\",VLOOKUP($A168,会員名簿!$A$3:$F$998,4))","v":""},{"$f":"IF($A168=\"\",\"\",VLOOKUP($A168,会員名簿!$A$3:$F$998,5))","v":""},{"$f":"IF($A168=\"\",\"\",VLOOKUP($A168,会員名簿!$A$3:$F$998,6))","v":""},""]
[null,165,21,"５",null,{"$f":"IF($A169=\"\",\"\",VLOOKUP($A169,会員名簿!$A$3:$F$998,2))","v":""},{"$f":"IF($A169=\"\",\"\",VLOOKUP($A169,会員名簿!$A$3:$F$998,3))","v":""},{"$f":"IF($A169=\"\",\"\",VLOOKUP($A169,会員名簿!$A$3:$F$998,4))","v":""},{"$f":"IF($A169=\"\",\"\",VLOOKUP($A169,会員名簿!$A$3:$F$998,5))","v":""},{"$f":"IF($A169=\"\",\"\",VLOOKUP($A169,会員名簿!$A$3:$F$998,6))","v":""},""]
[null,166,21,"６",null,{"$f":"IF($A170=\"\",\"\",VLOOKUP($A170,会員名簿!$A$3:$F$998,2))","v":""},{"$f":"IF($A170=\"\",\"\",VLOOKUP($A170,会員名簿!$A$3:$F$998,3))","v":""},{"$f":"IF($A170=\"\",\"\",VLOOKUP($A170,会員名簿!$A$3:$F$998,4))","v":""},{"$f":"IF($A170=\"\",\"\",VLOOKUP($A170,会員名簿!$A$3:$F$998,5))","v":""},{"$f":"IF($A170=\"\",\"\",VLOOKUP($A170,会員名簿!$A$3:$F$998,6))","v":""},""]
[null,167,21,"７",null,{"$f":"IF($A171=\"\",\"\",VLOOKUP($A171,会員名簿!$A$3:$F$998,2))","v":""},{"$f":"IF($A171=\"\",\"\",VLOOKUP($A171,会員名簿!$A$3:$F$998,3))","v":""},{"$f":"IF($A171=\"\",\"\",VLOOKUP($A171,会員名簿!$A$3:$F$998,4))","v":""},{"$f":"IF($A171=\"\",\"\",VLOOKUP($A171,会員名簿!$A$3:$F$998,5))","v":""},{"$f":"IF($A171=\"\",\"\",VLOOKUP($A171,会員名簿!$A$3:$F$998,6))","v":""},""]
[null,168,21,"８",null,{"$f":"IF($A172=\"\",\"\",VLOOKUP($A172,会員名簿!$A$3:$F$998,2))","v":""},{"$f":"IF($A172=\"\",\"\",VLOOKUP($A172,会員名簿!$A$3:$F$998,3))","v":""},{"$f":"IF($A172=\"\",\"\",VLOOKUP($A172,会員名簿!$A$3:$F$998,4))","v":""},{"$f":"IF($A172=\"\",\"\",VLOOKUP($A172,会員名簿!$A$3:$F$998,5))","v":""},{"$f":"IF($A172=\"\",\"\",VLOOKUP($A172,会員名簿!$A$3:$F$998,6))","v":""},""]
[null,169,22,"１",null,{"$f":"IF($A173=\"\",\"\",VLOOKUP($A173,会員名簿!$A$3:$F$998,2))","v":""},{"$f":"IF($A173=\"\",\"\",VLOOKUP($A173,会員名簿!$A$3:$F$998,3))","v":""},{"$f":"IF($A173=\"\",\"\",VLOOKUP($A173,会員名簿!$A$3:$F$998,4))","v":""},{"$f":"IF($A173=\"\",\"\",VLOOKUP($A173,会員名簿!$A$3:$F$998,5))","v":""},{"$f":"IF($A173=\"\",\"\",VLOOKUP($A173,会員名簿!$A$3:$F$998,6))","v":""},""]
[null,170,22,"２",null,{"$f":"IF($A174=\"\",\"\",VLOOKUP($A174,会員名簿!$A$3:$F$998,2))","v":""},{"$f":"IF($A174=\"\",\"\",VLOOKUP($A174,会員名簿!$A$3:$F$998,3))","v":""},{"$f":"IF($A174=\"\",\"\",VLOOKUP($A174,会員名簿!$A$3:$F$998,4))","v":""},{"$f":"IF($A174=\"\",\"\",VLOOKUP($A174,会員名簿!$A$3:$F$998,5))","v":""},{"$f":"IF($A174=\"\",\"\",VLOOKUP($A174,会員名簿!$A$3:$F$998,6))","v":""},""]
[null,171,22,"３",null,{"$f":"IF($A175=\"\",\"\",VLOOKUP($A175,会員名簿!$A$3:$F$998,2))","v":""},{"$f":"IF($A175=\"\",\"\",VLOOKUP($A175,会員名簿!$A$3:$F$998,3))","v":""},{"$f":"IF($A175=\"\",\"\",VLOOKUP($A175,会員名簿!$A$3:$F$998,4))","v":""},{"$f":"IF($A175=\"\",\"\",VLOOKUP($A175,会員名簿!$A$3:$F$998,5))","v":""},{"$f":"IF($A175=\"\",\"\",VLOOKUP($A175,会員名簿!$A$3:$F$998,6))","v":""},""]
[null,172,22,"４",null,{"$f":"IF($A176=\"\",\"\",VLOOKUP($A176,会員名簿!$A$3:$F$998,2))","v":""},{"$f":"IF($A176=\"\",\"\",VLOOKUP($A176,会員名簿!$A$3:$F$998,3))","v":""},{"$f":"IF($A176=\"\",\"\",VLOOKUP($A176,会員名簿!$A$3:$F$998,4))","v":""},{"$f":"IF($A176=\"\",\"\",VLOOKUP($A176,会員名簿!$A$3:$F$998,5))","v":""},{"$f":"IF($A176=\"\",\"\",VLOOKUP($A176,会員名簿!$A$3:$F$998,6))","v":""},""]
[null,173,22,"５",null,{"$f":"IF($A177=\"\",\"\",VLOOKUP($A177,会員名簿!$A$3:$F$998,2))","v":""},{"$f":"IF($A177=\"\",\"\",VLOOKUP($A177,会員名簿!$A$3:$F$998,3))","v":""},{"$f":"IF($A177=\"\",\"\",VLOOKUP($A177,会員名簿!$A$3:$F$998,4))","v":""},{"$f":"IF($A177=\"\",\"\",VLOOKUP($A177,会員名簿!$A$3:$F$998,5))","v":""},{"$f":"IF($A177=\"\",\"\",VLOOKUP($A177,会員名簿!$A$3:$F$998,6))","v":""},""]
[null,174,22,"６",null,{"$f":"IF($A178=\"\",\"\",VLOOKUP($A178,会員名簿!$A$3:$F$998,2))","v":""},{"$f":"IF($A178=\"\",\"\",VLOOKUP($A178,会員名簿!$A$3:$F$998,3))","v":""},{"$f":"IF($A178=\"\",\"\",VLOOKUP($A178,会員名簿!$A$3:$F$998,4))","v":""},{"$f":"IF($A178=\"\",\"\",VLOOKUP($A178,会員名簿!$A$3:$F$998,5))","v":""},{"$f":"IF($A178=\"\",\"\",VLOOKUP($A178,会員名簿!$A$3:$F$998,6))","v":""},""]
[null,175,22,"７",null,{"$f":"IF($A179=\"\",\"\",VLOOKUP($A179,会員名簿!$A$3:$F$998,2))","v":""},{"$f":"IF($A179=\"\",\"\",VLOOKUP($A179,会員名簿!$A$3:$F$998,3))","v":""},{"$f":"IF($A179=\"\",\"\",VLOOKUP($A179,会員名簿!$A$3:$F$998,4))","v":""},{"$f":"IF($A179=\"\",\"\",VLOOKUP($A179,会員名簿!$A$3:$F$998,5))","v":""},{"$f":"IF($A179=\"\",\"\",VLOOKUP($A179,会員名簿!$A$3:$F$998,6))","v":""},""]
[null,176,22,"８",null,{"$f":"IF($A180=\"\",\"\",VLOOKUP($A180,会員名簿!$A$3:$F$998,2))","v":""},{"$f":"IF($A180=\"\",\"\",VLOOKUP($A180,会員名簿!$A$3:$F$998,3))","v":""},{"$f":"IF($A180=\"\",\"\",VLOOKUP($A180,会員名簿!$A$3:$F$998,4))","v":""},{"$f":"IF($A180=\"\",\"\",VLOOKUP($A180,会員名簿!$A$3:$F$998,5))","v":""},{"$f":"IF($A180=\"\",\"\",VLOOKUP($A180,会員名簿!$A$3:$F$998,6))","v":""},""]
[null,177,23,"１",null,{"$f":"IF($A181=\"\",\"\",VLOOKUP($A181,会員名簿!$A$3:$F$998,2))","v":""},{"$f":"IF($A181=\"\",\"\",VLOOKUP($A181,会員名簿!$A$3:$F$998,3))","v":""},{"$f":"IF($A181=\"\",\"\",VLOOKUP($A181,会員名簿!$A$3:$F$998,4))","v":""},{"$f":"IF($A181=\"\",\"\",VLOOKUP($A181,会員名簿!$A$3:$F$998,5))","v":""},{"$f":"IF($A181=\"\",\"\",VLOOKUP($A181,会員名簿!$A$3:$F$998,6))","v":""},""]
[null,178,23,"２",null,{"$f":"IF($A182=\"\",\"\",VLOOKUP($A182,会員名簿!$A$3:$F$998,2))","v":""},{"$f":"IF($A182=\"\",\"\",VLOOKUP($A182,会員名簿!$A$3:$F$998,3))","v":""},{"$f":"IF($A182=\"\",\"\",VLOOKUP($A182,会員名簿!$A$3:$F$998,4))","v":""},{"$f":"IF($A182=\"\",\"\",VLOOKUP($A182,会員名簿!$A$3:$F$998,5))","v":""},{"$f":"IF($A182=\"\",\"\",VLOOKUP($A182,会員名簿!$A$3:$F$998,6))","v":""},""]
[null,179,23,"３",null,{"$f":"IF($A183=\"\",\"\",VLOOKUP($A183,会員名簿!$A$3:$F$998,2))","v":""},{"$f":"IF($A183=\"\",\"\",VLOOKUP($A183,会員名簿!$A$3:$F$998,3))","v":""},{"$f":"IF($A183=\"\",\"\",VLOOKUP($A183,会員名簿!$A$3:$F$998,4))","v":""},{"$f":"IF($A183=\"\",\"\",VLOOKUP($A183,会員名簿!$A$3:$F$998,5))","v":""},{"$f":"IF($A183=\"\",\"\",VLOOKUP($A183,会員名簿!$A$3:$F$998,6))","v":""},""]
[null,180,23,"４",null,{"$f":"IF($A184=\"\",\"\",VLOOKUP($A184,会員名簿!$A$3:$F$998,2))","v":""},{"$f":"IF($A184=\"\",\"\",VLOOKUP($A184,会員名簿!$A$3:$F$998,3))","v":""},{"$f":"IF($A184=\"\",\"\",VLOOKUP($A184,会員名簿!$A$3:$F$998,4))","v":""},{"$f":"IF($A184=\"\",\"\",VLOOKUP($A184,会員名簿!$A$3:$F$998,5))","v":""},{"$f":"IF($A184=\"\",\"\",VLOOKUP($A184,会員名簿!$A$3:$F$998,6))","v":""},""]
[null,181,23,"５",null,{"$f":"IF($A185=\"\",\"\",VLOOKUP($A185,会員名簿!$A$3:$F$998,2))","v":""},{"$f":"IF($A185=\"\",\"\",VLOOKUP($A185,会員名簿!$A$3:$F$998,3))","v":""},{"$f":"IF($A185=\"\",\"\",VLOOKUP($A185,会員名簿!$A$3:$F$998,4))","v":""},{"$f":"IF($A185=\"\",\"\",VLOOKUP($A185,会員名簿!$A$3:$F$998,5))","v":""},{"$f":"IF($A185=\"\",\"\",VLOOKUP($A185,会員名簿!$A$3:$F$998,6))","v":""},""]
[null,182,23,"６",null,{"$f":"IF($A186=\"\",\"\",VLOOKUP($A186,会員名簿!$A$3:$F$998,2))","v":""},{"$f":"IF($A186=\"\",\"\",VLOOKUP($A186,会員名簿!$A$3:$F$998,3))","v":""},{"$f":"IF($A186=\"\",\"\",VLOOKUP($A186,会員名簿!$A$3:$F$998,4))","v":""},{"$f":"IF($A186=\"\",\"\",VLOOKUP($A186,会員名簿!$A$3:$F$998,5))","v":""},{"$f":"IF($A186=\"\",\"\",VLOOKUP($A186,会員名簿!$A$3:$F$998,6))","v":""},""]
[null,183,23,"７",null,{"$f":"IF($A187=\"\",\"\",VLOOKUP($A187,会員名簿!$A$3:$F$998,2))","v":""},{"$f":"IF($A187=\"\",\"\",VLOOKUP($A187,会員名簿!$A$3:$F$998,3))","v":""},{"$f":"IF($A187=\"\",\"\",VLOOKUP($A187,会員名簿!$A$3:$F$998,4))","v":""},{"$f":"IF($A187=\"\",\"\",VLOOKUP($A187,会員名簿!$A$3:$F$998,5))","v":""},{"$f":"IF($A187=\"\",\"\",VLOOKUP($A187,会員名簿!$A$3:$F$998,6))","v":""},""]
[null,184,23,"８",null,{"$f":"IF($A188=\"\",\"\",VLOOKUP($A188,会員名簿!$A$3:$F$998,2))","v":""},{"$f":"IF($A188=\"\",\"\",VLOOKUP($A188,会員名簿!$A$3:$F$998,3))","v":""},{"$f":"IF($A188=\"\",\"\",VLOOKUP($A188,会員名簿!$A$3:$F$998,4))","v":""},{"$f":"IF($A188=\"\",\"\",VLOOKUP($A188,会員名簿!$A$3:$F$998,5))","v":""},{"$f":"IF($A188=\"\",\"\",VLOOKUP($A188,会員名簿!$A$3:$F$998,6))","v":""},""]
[null,185,24,"１",null,{"$f":"IF($A189=\"\",\"\",VLOOKUP($A189,会員名簿!$A$3:$F$998,2))","v":""},{"$f":"IF($A189=\"\",\"\",VLOOKUP($A189,会員名簿!$A$3:$F$998,3))","v":""},{"$f":"IF($A189=\"\",\"\",VLOOKUP($A189,会員名簿!$A$3:$F$998,4))","v":""},{"$f":"IF($A189=\"\",\"\",VLOOKUP($A189,会員名簿!$A$3:$F$998,5))","v":""},{"$f":"IF($A189=\"\",\"\",VLOOKUP($A189,会員名簿!$A$3:$F$998,6))","v":""},""]
[null,186,24,"２",null,{"$f":"IF($A190=\"\",\"\",VLOOKUP($A190,会員名簿!$A$3:$F$998,2))","v":""},{"$f":"IF($A190=\"\",\"\",VLOOKUP($A190,会員名簿!$A$3:$F$998,3))","v":""},{"$f":"IF($A190=\"\",\"\",VLOOKUP($A190,会員名簿!$A$3:$F$998,4))","v":""},{"$f":"IF($A190=\"\",\"\",VLOOKUP($A190,会員名簿!$A$3:$F$998,5))","v":""},{"$f":"IF($A190=\"\",\"\",VLOOKUP($A190,会員名簿!$A$3:$F$998,6))","v":""},""]
[null,187,24,"３",null,{"$f":"IF($A191=\"\",\"\",VLOOKUP($A191,会員名簿!$A$3:$F$998,2))","v":""},{"$f":"IF($A191=\"\",\"\",VLOOKUP($A191,会員名簿!$A$3:$F$998,3))","v":""},{"$f":"IF($A191=\"\",\"\",VLOOKUP($A191,会員名簿!$A$3:$F$998,4))","v":""},{"$f":"IF($A191=\"\",\"\",VLOOKUP($A191,会員名簿!$A$3:$F$998,5))","v":""},{"$f":"IF($A191=\"\",\"\",VLOOKUP($A191,会員名簿!$A$3:$F$998,6))","v":""},""]
[null,188,24,"４",null,{"$f":"IF($A192=\"\",\"\",VLOOKUP($A192,会員名簿!$A$3:$F$998,2))","v":""},{"$f":"IF($A192=\"\",\"\",VLOOKUP($A192,会員名簿!$A$3:$F$998,3))","v":""},{"$f":"IF($A192=\"\",\"\",VLOOKUP($A192,会員名簿!$A$3:$F$998,4))","v":""},{"$f":"IF($A192=\"\",\"\",VLOOKUP($A192,会員名簿!$A$3:$F$998,5))","v":""},{"$f":"IF($A192=\"\",\"\",VLOOKUP($A192,会員名簿!$A$3:$F$998,6))","v":""},""]
[null,189,24,"５",null,{"$f":"IF($A193=\"\",\"\",VLOOKUP($A193,会員名簿!$A$3:$F$998,2))","v":""},{"$f":"IF($A193=\"\",\"\",VLOOKUP($A193,会員名簿!$A$3:$F$998,3))","v":""},{"$f":"IF($A193=\"\",\"\",VLOOKUP($A193,会員名簿!$A$3:$F$998,4))","v":""},{"$f":"IF($A193=\"\",\"\",VLOOKUP($A193,会員名簿!$A$3:$F$998,5))","v":""},{"$f":"IF($A193=\"\",\"\",VLOOKUP($A193,会員名簿!$A$3:$F$998,6))","v":""},""]
[null,190,24,"６",null,{"$f":"IF($A194=\"\",\"\",VLOOKUP($A194,会員名簿!$A$3:$F$998,2))","v":""},{"$f":"IF($A194=\"\",\"\",VLOOKUP($A194,会員名簿!$A$3:$F$998,3))","v":""},{"$f":"IF($A194=\"\",\"\",VLOOKUP($A194,会員名簿!$A$3:$F$998,4))","v":""},{"$f":"IF($A194=\"\",\"\",VLOOKUP($A194,会員名簿!$A$3:$F$998,5))","v":""},{"$f":"IF($A194=\"\",\"\",VLOOKUP($A194,会員名簿!$A$3:$F$998,6))","v":""},""]
[null,191,24,"７",null,{"$f":"IF($A195=\"\",\"\",VLOOKUP($A195,会員名簿!$A$3:$F$998,2))","v":""},{"$f":"IF($A195=\"\",\"\",VLOOKUP($A195,会員名簿!$A$3:$F$998,3))","v":""},{"$f":"IF($A195=\"\",\"\",VLOOKUP($A195,会員名簿!$A$3:$F$998,4))","v":""},{"$f":"IF($A195=\"\",\"\",VLOOKUP($A195,会員名簿!$A$3:$F$998,5))","v":""},{"$f":"IF($A195=\"\",\"\",VLOOKUP($A195,会員名簿!$A$3:$F$998,6))","v":""},""]
[null,192,24,"８",null,{"$f":"IF($A196=\"\",\"\",VLOOKUP($A196,会員名簿!$A$3:$F$998,2))","v":""},{"$f":"IF($A196=\"\",\"\",VLOOKUP($A196,会員名簿!$A$3:$F$998,3))","v":""},{"$f":"IF($A196=\"\",\"\",VLOOKUP($A196,会員名簿!$A$3:$F$998,4))","v":""},{"$f":"IF($A196=\"\",\"\",VLOOKUP($A196,会員名簿!$A$3:$F$998,5))","v":""},{"$f":"IF($A196=\"\",\"\",VLOOKUP($A196,会員名簿!$A$3:$F$998,6))","v":""},""]
[null,193,25,"１",null,{"$f":"IF($A197=\"\",\"\",VLOOKUP($A197,会員名簿!$A$3:$F$998,2))","v":""},{"$f":"IF($A197=\"\",\"\",VLOOKUP($A197,会員名簿!$A$3:$F$998,3))","v":""},{"$f":"IF($A197=\"\",\"\",VLOOKUP($A197,会員名簿!$A$3:$F$998,4))","v":""},{"$f":"IF($A197=\"\",\"\",VLOOKUP($A197,会員名簿!$A$3:$F$998,5))","v":""},{"$f":"IF($A197=\"\",\"\",VLOOKUP($A197,会員名簿!$A$3:$F$998,6))","v":""},{"$f":"IF(J197=\"\",\"\",DATEDIF(J197,TODAY(),\"y\"))","v":""}]
[null,194,25,"２",null,{"$f":"IF($A198=\"\",\"\",VLOOKUP($A198,会員名簿!$A$3:$F$998,2))","v":""},{"$f":"IF($A198=\"\",\"\",VLOOKUP($A198,会員名簿!$A$3:$F$998,3))","v":""},{"$f":"IF($A198=\"\",\"\",VLOOKUP($A198,会員名簿!$A$3:$F$998,4))","v":""},{"$f":"IF($A198=\"\",\"\",VLOOKUP($A198,会員名簿!$A$3:$F$998,5))","v":""},{"$f":"IF($A198=\"\",\"\",VLOOKUP($A198,会員名簿!$A$3:$F$998,6))","v":""},""]
[null,195,25,"３",null,{"$f":"IF($A199=\"\",\"\",VLOOKUP($A199,会員名簿!$A$3:$F$998,2))","v":""},{"$f":"IF($A199=\"\",\"\",VLOOKUP($A199,会員名簿!$A$3:$F$998,3))","v":""},{"$f":"IF($A199=\"\",\"\",VLOOKUP($A199,会員名簿!$A$3:$F$998,4))","v":""},{"$f":"IF($A199=\"\",\"\",VLOOKUP($A199,会員名簿!$A$3:$F$998,5))","v":""},{"$f":"IF($A199=\"\",\"\",VLOOKUP($A199,会員名簿!$A$3:$F$998,6))","v":""},""]
[null,196,25,"４",null,{"$f":"IF($A200=\"\",\"\",VLOOKUP($A200,会員名簿!$A$3:$F$998,2))","v":""},{"$f":"IF($A200=\"\",\"\",VLOOKUP($A200,会員名簿!$A$3:$F$998,3))","v":""},{"$f":"IF($A200=\"\",\"\",VLOOKUP($A200,会員名簿!$A$3:$F$998,4))","v":""},{"$f":"IF($A200=\"\",\"\",VLOOKUP($A200,会員名簿!$A$3:$F$998,5))","v":""},{"$f":"IF($A200=\"\",\"\",VLOOKUP($A200,会員名簿!$A$3:$F$998,6))","v":""},""]
[null,197,25,"５",null,{"$f":"IF($A201=\"\",\"\",VLOOKUP($A201,会員名簿!$A$3:$F$998,2))","v":""},{"$f":"IF($A201=\"\",\"\",VLOOKUP($A201,会員名簿!$A$3:$F$998,3))","v":""},{"$f":"IF($A201=\"\",\"\",VLOOKUP($A201,会員名簿!$A$3:$F$998,4))","v":""},{"$f":"IF($A201=\"\",\"\",VLOOKUP($A201,会員名簿!$A$3:$F$998,5))","v":""},{"$f":"IF($A201=\"\",\"\",VLOOKUP($A201,会員名簿!$A$3:$F$998,6))","v":""},""]
[null,198,25,"６",null,{"$f":"IF($A202=\"\",\"\",VLOOKUP($A202,会員名簿!$A$3:$F$998,2))","v":""},{"$f":"IF($A202=\"\",\"\",VLOOKUP($A202,会員名簿!$A$3:$F$998,3))","v":""},{"$f":"IF($A202=\"\",\"\",VLOOKUP($A202,会員名簿!$A$3:$F$998,4))","v":""},{"$f":"IF($A202=\"\",\"\",VLOOKUP($A202,会員名簿!$A$3:$F$998,5))","v":""},{"$f":"IF($A202=\"\",\"\",VLOOKUP($A202,会員名簿!$A$3:$F$998,6))","v":""},""]
[null,199,25,"７",null,{"$f":"IF($A203=\"\",\"\",VLOOKUP($A203,会員名簿!$A$3:$F$998,2))","v":""},{"$f":"IF($A203=\"\",\"\",VLOOKUP($A203,会員名簿!$A$3:$F$998,3))","v":""},{"$f":"IF($A203=\"\",\"\",VLOOKUP($A203,会員名簿!$A$3:$F$998,4))","v":""},{"$f":"IF($A203=\"\",\"\",VLOOKUP($A203,会員名簿!$A$3:$F$998,5))","v":""},{"$f":"IF($A203=\"\",\"\",VLOOKUP($A203,会員名簿!$A$3:$F$998,6))","v":""},""]
[null,200,25,"８",null,{"$f":"IF($A204=\"\",\"\",VLOOKUP($A204,会員名簿!$A$3:$F$998,2))","v":""},{"$f":"IF($A204=\"\",\"\",VLOOKUP($A204,会員名簿!$A$3:$F$998,3))","v":""},{"$f":"IF($A204=\"\",\"\",VLOOKUP($A204,会員名簿!$A$3:$F$998,4))","v":""},{"$f":"IF($A204=\"\",\"\",VLOOKUP($A204,会員名簿!$A$3:$F$998,5))","v":""},{"$f":"IF($A204=\"\",\"\",VLOOKUP($A204,会員名簿!$A$3:$F$998,6))","v":""},""]
[null,201,26,"１",null,{"$f":"IF($A205=\"\",\"\",VLOOKUP($A205,会員名簿!$A$3:$F$998,2))","v":""},{"$f":"IF($A205=\"\",\"\",VLOOKUP($A205,会員名簿!$A$3:$F$998,3))","v":""},{"$f":"IF($A205=\"\",\"\",VLOOKUP($A205,会員名簿!$A$3:$F$998,4))","v":""},{"$f":"IF($A205=\"\",\"\",VLOOKUP($A205,会員名簿!$A$3:$F$998,5))","v":""},{"$f":"IF($A205=\"\",\"\",VLOOKUP($A205,会員名簿!$A$3:$F$998,6))","v":""},""]
[null,202,26,"２",null,{"$f":"IF($A206=\"\",\"\",VLOOKUP($A206,会員名簿!$A$3:$F$998,2))","v":""},{"$f":"IF($A206=\"\",\"\",VLOOKUP($A206,会員名簿!$A$3:$F$998,3))","v":""},{"$f":"IF($A206=\"\",\"\",VLOOKUP($A206,会員名簿!$A$3:$F$998,4))","v":""},{"$f":"IF($A206=\"\",\"\",VLOOKUP($A206,会員名簿!$A$3:$F$998,5))","v":""},{"$f":"IF($A206=\"\",\"\",VLOOKUP($A206,会員名簿!$A$3:$F$998,6))","v":""},""]
[null,203,26,"３",null,{"$f":"IF($A207=\"\",\"\",VLOOKUP($A207,会員名簿!$A$3:$F$998,2))","v":""},{"$f":"IF($A207=\"\",\"\",VLOOKUP($A207,会員名簿!$A$3:$F$998,3))","v":""},{"$f":"IF($A207=\"\",\"\",VLOOKUP($A207,会員名簿!$A$3:$F$998,4))","v":""},{"$f":"IF($A207=\"\",\"\",VLOOKUP($A207,会員名簿!$A$3:$F$998,5))","v":""},{"$f":"IF($A207=\"\",\"\",VLOOKUP($A207,会員名簿!$A$3:$F$998,6))","v":""},""]
[null,204,26,"４",null,{"$f":"IF($A208=\"\",\"\",VLOOKUP($A208,会員名簿!$A$3:$F$998,2))","v":""},{"$f":"IF($A208=\"\",\"\",VLOOKUP($A208,会員名簿!$A$3:$F$998,3))","v":""},{"$f":"IF($A208=\"\",\"\",VLOOKUP($A208,会員名簿!$A$3:$F$998,4))","v":""},{"$f":"IF($A208=\"\",\"\",VLOOKUP($A208,会員名簿!$A$3:$F$998,5))","v":""},{"$f":"IF($A208=\"\",\"\",VLOOKUP($A208,会員名簿!$A$3:$F$998,6))","v":""},""]
[null,205,26,"５",null,{"$f":"IF($A209=\"\",\"\",VLOOKUP($A209,会員名簿!$A$3:$F$998,2))","v":""},{"$f":"IF($A209=\"\",\"\",VLOOKUP($A209,会員名簿!$A$3:$F$998,3))","v":""},{"$f":"IF($A209=\"\",\"\",VLOOKUP($A209,会員名簿!$A$3:$F$998,4))","v":""},{"$f":"IF($A209=\"\",\"\",VLOOKUP($A209,会員名簿!$A$3:$F$998,5))","v":""},{"$f":"IF($A209=\"\",\"\",VLOOKUP($A209,会員名簿!$A$3:$F$998,6))","v":""},""]
[null,206,26,"６",null,{"$f":"IF($A210=\"\",\"\",VLOOKUP($A210,会員名簿!$A$3:$F$998,2))","v":""},{"$f":"IF($A210=\"\",\"\",VLOOKUP($A210,会員名簿!$A$3:$F$998,3))","v":""},{"$f":"IF($A210=\"\",\"\",VLOOKUP($A210,会員名簿!$A$3:$F$998,4))","v":""},{"$f":"IF($A210=\"\",\"\",VLOOKUP($A210,会員名簿!$A$3:$F$998,5))","v":""},{"$f":"IF($A210=\"\",\"\",VLOOKUP($A210,会員名簿!$A$3:$F$998,6))","v":""},""]
[null,207,26,"７",null,{"$f":"IF($A211=\"\",\"\",VLOOKUP($A211,会員名簿!$A$3:$F$998,2))","v":""},{"$f":"IF($A211=\"\",\"\",VLOOKUP($A211,会員名簿!$A$3:$F$998,3))","v":""},{"$f":"IF($A211=\"\",\"\",VLOOKUP($A211,会員名簿!$A$3:$F$998,4))","v":""},{"$f":"IF($A211=\"\",\"\",VLOOKUP($A211,会員名簿!$A$3:$F$998,5))","v":""},{"$f":"IF($A211=\"\",\"\",VLOOKUP($A211,会員名簿!$A$3:$F$998,6))","v":""},""]
[null,208,26,"８",null,{"$f":"IF($A212=\"\",\"\",VLOOKUP($A212,会員名簿!$A$3:$F$998,2))","v":""},{"$f":"IF($A212=\"\",\"\",VLOOKUP($A212,会員名簿!$A$3:$F$998,3))","v":""},{"$f":"IF($A212=\"\",\"\",VLOOKUP($A212,会員名簿!$A$3:$F$998,4))","v":""},{"$f":"IF($A212=\"\",\"\",VLOOKUP($A212,会員名簿!$A$3:$F$998,5))","v":""},{"$f":"IF($A212=\"\",\"\",VLOOKUP($A212,会員名簿!$A$3:$F$998,6))","v":""},""]
[null,209,27,"１",null,{"$f":"IF($A213=\"\",\"\",VLOOKUP($A213,会員名簿!$A$3:$F$998,2))","v":""},{"$f":"IF($A213=\"\",\"\",VLOOKUP($A213,会員名簿!$A$3:$F$998,3))","v":""},{"$f":"IF($A213=\"\",\"\",VLOOKUP($A213,会員名簿!$A$3:$F$998,4))","v":""},{"$f":"IF($A213=\"\",\"\",VLOOKUP($A213,会員名簿!$A$3:$F$998,5))","v":""},{"$f":"IF($A213=\"\",\"\",VLOOKUP($A213,会員名簿!$A$3:$F$998,6))","v":""},""]
[null,210,27,"２",null,{"$f":"IF($A214=\"\",\"\",VLOOKUP($A214,会員名簿!$A$3:$F$998,2))","v":""},{"$f":"IF($A214=\"\",\"\",VLOOKUP($A214,会員名簿!$A$3:$F$998,3))","v":""},{"$f":"IF($A214=\"\",\"\",VLOOKUP($A214,会員名簿!$A$3:$F$998,4))","v":""},{"$f":"IF($A214=\"\",\"\",VLOOKUP($A214,会員名簿!$A$3:$F$998,5))","v":""},{"$f":"IF($A214=\"\",\"\",VLOOKUP($A214,会員名簿!$A$3:$F$998,6))","v":""},""]
[null,211,27,"３",null,{"$f":"IF($A215=\"\",\"\",VLOOKUP($A215,会員名簿!$A$3:$F$998,2))","v":""},{"$f":"IF($A215=\"\",\"\",VLOOKUP($A215,会員名簿!$A$3:$F$998,3))","v":""},{"$f":"IF($A215=\"\",\"\",VLOOKUP($A215,会員名簿!$A$3:$F$998,4))","v":""},{"$f":"IF($A215=\"\",\"\",VLOOKUP($A215,会員名簿!$A$3:$F$998,5))","v":""},{"$f":"IF($A215=\"\",\"\",VLOOKUP($A215,会員名簿!$A$3:$F$998,6))","v":""},""]
[null,212,27,"４",null,{"$f":"IF($A216=\"\",\"\",VLOOKUP($A216,会員名簿!$A$3:$F$998,2))","v":""},{"$f":"IF($A216=\"\",\"\",VLOOKUP($A216,会員名簿!$A$3:$F$998,3))","v":""},{"$f":"IF($A216=\"\",\"\",VLOOKUP($A216,会員名簿!$A$3:$F$998,4))","v":""},{"$f":"IF($A216=\"\",\"\",VLOOKUP($A216,会員名簿!$A$3:$F$998,5))","v":""},{"$f":"IF($A216=\"\",\"\",VLOOKUP($A216,会員名簿!$A$3:$F$998,6))","v":""},""]
[null,213,27,"５",null,{"$f":"IF($A217=\"\",\"\",VLOOKUP($A217,会員名簿!$A$3:$F$998,2))","v":""},{"$f":"IF($A217=\"\",\"\",VLOOKUP($A217,会員名簿!$A$3:$F$998,3))","v":""},{"$f":"IF($A217=\"\",\"\",VLOOKUP($A217,会員名簿!$A$3:$F$998,4))","v":""},{"$f":"IF($A217=\"\",\"\",VLOOKUP($A217,会員名簿!$A$3:$F$998,5))","v":""},{"$f":"IF($A217=\"\",\"\",VLOOKUP($A217,会員名簿!$A$3:$F$998,6))","v":""},""]
[null,214,27,"６",null,{"$f":"IF($A218=\"\",\"\",VLOOKUP($A218,会員名簿!$A$3:$F$998,2))","v":""},{"$f":"IF($A218=\"\",\"\",VLOOKUP($A218,会員名簿!$A$3:$F$998,3))","v":""},{"$f":"IF($A218=\"\",\"\",VLOOKUP($A218,会員名簿!$A$3:$F$998,4))","v":""},{"$f":"IF($A218=\"\",\"\",VLOOKUP($A218,会員名簿!$A$3:$F$998,5))","v":""},{"$f":"IF($A218=\"\",\"\",VLOOKUP($A218,会員名簿!$A$3:$F$998,6))","v":""},""]
[null,215,27,"７",null,{"$f":"IF($A219=\"\",\"\",VLOOKUP($A219,会員名簿!$A$3:$F$998,2))","v":""},{"$f":"IF($A219=\"\",\"\",VLOOKUP($A219,会員名簿!$A$3:$F$998,3))","v":""},{"$f":"IF($A219=\"\",\"\",VLOOKUP($A219,会員名簿!$A$3:$F$998,4))","v":""},{"$f":"IF($A219=\"\",\"\",VLOOKUP($A219,会員名簿!$A$3:$F$998,5))","v":""},{"$f":"IF($A219=\"\",\"\",VLOOKUP($A219,会員名簿!$A$3:$F$998,6))","v":""},""]
[null,216,27,"８",null,{"$f":"IF($A220=\"\",\"\",VLOOKUP($A220,会員名簿!$A$3:$F$998,2))","v":""},{"$f":"IF($A220=\"\",\"\",VLOOKUP($A220,会員名簿!$A$3:$F$998,3))","v":""},{"$f":"IF($A220=\"\",\"\",VLOOKUP($A220,会員名簿!$A$3:$F$998,4))","v":""},{"$f":"IF($A220=\"\",\"\",VLOOKUP($A220,会員名簿!$A$3:$F$998,5))","v":""},{"$f":"IF($A220=\"\",\"\",VLOOKUP($A220,会員名簿!$A$3:$F$998,6))","v":""},""]
[null,217,28,"１",null,{"$f":"IF($A221=\"\",\"\",VLOOKUP($A221,会員名簿!$A$3:$F$998,2))","v":""},{"$f":"IF($A221=\"\",\"\",VLOOKUP($A221,会員名簿!$A$3:$F$998,3))","v":""},{"$f":"IF($A221=\"\",\"\",VLOOKUP($A221,会員名簿!$A$3:$F$998,4))","v":""},{"$f":"IF($A221=\"\",\"\",VLOOKUP($A221,会員名簿!$A$3:$F$998,5))","v":""},{"$f":"IF($A221=\"\",\"\",VLOOKUP($A221,会員名簿!$A$3:$F$998,6))","v":""},""]
[null,218,28,"２",null,{"$f":"IF($A222=\"\",\"\",VLOOKUP($A222,会員名簿!$A$3:$F$998,2))","v":""},{"$f":"IF($A222=\"\",\"\",VLOOKUP($A222,会員名簿!$A$3:$F$998,3))","v":""},{"$f":"IF($A222=\"\",\"\",VLOOKUP($A222,会員名簿!$A$3:$F$998,4))","v":""},{"$f":"IF($A222=\"\",\"\",VLOOKUP($A222,会員名簿!$A$3:$F$998,5))","v":""},{"$f":"IF($A222=\"\",\"\",VLOOKUP($A222,会員名簿!$A$3:$F$998,6))","v":""},""]
[null,219,28,"３",null,{"$f":"IF($A223=\"\",\"\",VLOOKUP($A223,会員名簿!$A$3:$F$998,2))","v":""},{"$f":"IF($A223=\"\",\"\",VLOOKUP($A223,会員名簿!$A$3:$F$998,3))","v":""},{"$f":"IF($A223=\"\",\"\",VLOOKUP($A223,会員名簿!$A$3:$F$998,4))","v":""},{"$f":"IF($A223=\"\",\"\",VLOOKUP($A223,会員名簿!$A$3:$F$998,5))","v":""},{"$f":"IF($A223=\"\",\"\",VLOOKUP($A223,会員名簿!$A$3:$F$998,6))","v":""},""]
[null,220,28,"４",null,{"$f":"IF($A224=\"\",\"\",VLOOKUP($A224,会員名簿!$A$3:$F$998,2))","v":""},{"$f":"IF($A224=\"\",\"\",VLOOKUP($A224,会員名簿!$A$3:$F$998,3))","v":""},{"$f":"IF($A224=\"\",\"\",VLOOKUP($A224,会員名簿!$A$3:$F$998,4))","v":""},{"$f":"IF($A224=\"\",\"\",VLOOKUP($A224,会員名簿!$A$3:$F$998,5))","v":""},{"$f":"IF($A224=\"\",\"\",VLOOKUP($A224,会員名簿!$A$3:$F$998,6))","v":""},""]
[null,221,28,"５",null,{"$f":"IF($A225=\"\",\"\",VLOOKUP($A225,会員名簿!$A$3:$F$998,2))","v":""},{"$f":"IF($A225=\"\",\"\",VLOOKUP($A225,会員名簿!$A$3:$F$998,3))","v":""},{"$f":"IF($A225=\"\",\"\",VLOOKUP($A225,会員名簿!$A$3:$F$998,4))","v":""},{"$f":"IF($A225=\"\",\"\",VLOOKUP($A225,会員名簿!$A$3:$F$998,5))","v":""},{"$f":"IF($A225=\"\",\"\",VLOOKUP($A225,会員名簿!$A$3:$F$998,6))","v":""},""]
[null,222,28,"６",null,{"$f":"IF($A226=\"\",\"\",VLOOKUP($A226,会員名簿!$A$3:$F$998,2))","v":""},{"$f":"IF($A226=\"\",\"\",VLOOKUP($A226,会員名簿!$A$3:$F$998,3))","v":""},{"$f":"IF($A226=\"\",\"\",VLOOKUP($A226,会員名簿!$A$3:$F$998,4))","v":""},{"$f":"IF($A226=\"\",\"\",VLOOKUP($A226,会員名簿!$A$3:$F$998,5))","v":""},{"$f":"IF($A226=\"\",\"\",VLOOKUP($A226,会員名簿!$A$3:$F$998,6))","v":""},""]
[null,223,28,"７",null,{"$f":"IF($A227=\"\",\"\",VLOOKUP($A227,会員名簿!$A$3:$F$998,2))","v":""},{"$f":"IF($A227=\"\",\"\",VLOOKUP($A227,会員名簿!$A$3:$F$998,3))","v":""},{"$f":"IF($A227=\"\",\"\",VLOOKUP($A227,会員名簿!$A$3:$F$998,4))","v":""},{"$f":"IF($A227=\"\",\"\",VLOOKUP($A227,会員名簿!$A$3:$F$998,5))","v":""},{"$f":"IF($A227=\"\",\"\",VLOOKUP($A227,会員名簿!$A$3:$F$998,6))","v":""},""]
[null,224,28,"８",null,{"$f":"IF($A228=\"\",\"\",VLOOKUP($A228,会員名簿!$A$3:$F$998,2))","v":""},{"$f":"IF($A228=\"\",\"\",VLOOKUP($A228,会員名簿!$A$3:$F$998,3))","v":""},{"$f":"IF($A228=\"\",\"\",VLOOKUP($A228,会員名簿!$A$3:$F$998,4))","v":""},{"$f":"IF($A228=\"\",\"\",VLOOKUP($A228,会員名簿!$A$3:$F$998,5))","v":""},{"$f":"IF($A228=\"\",\"\",VLOOKUP($A228,会員名簿!$A$3:$F$998,6))","v":""},""]
[null,225,29,"１",null,{"$f":"IF($A229=\"\",\"\",VLOOKUP($A229,会員名簿!$A$3:$F$998,2))","v":""},{"$f":"IF($A229=\"\",\"\",VLOOKUP($A229,会員名簿!$A$3:$F$998,3))","v":""},{"$f":"IF($A229=\"\",\"\",VLOOKUP($A229,会員名簿!$A$3:$F$998,4))","v":""},{"$f":"IF($A229=\"\",\"\",VLOOKUP($A229,会員名簿!$A$3:$F$998,5))","v":""},{"$f":"IF($A229=\"\",\"\",VLOOKUP($A229,会員名簿!$A$3:$F$998,6))","v":""},""]
[null,226,29,"２",null,{"$f":"IF($A230=\"\",\"\",VLOOKUP($A230,会員名簿!$A$3:$F$998,2))","v":""},{"$f":"IF($A230=\"\",\"\",VLOOKUP($A230,会員名簿!$A$3:$F$998,3))","v":""},{"$f":"IF($A230=\"\",\"\",VLOOKUP($A230,会員名簿!$A$3:$F$998,4))","v":""},{"$f":"IF($A230=\"\",\"\",VLOOKUP($A230,会員名簿!$A$3:$F$998,5))","v":""},{"$f":"IF($A230=\"\",\"\",VLOOKUP($A230,会員名簿!$A$3:$F$998,6))","v":""},""]
[null,227,29,"３",null,{"$f":"IF($A231=\"\",\"\",VLOOKUP($A231,会員名簿!$A$3:$F$998,2))","v":""},{"$f":"IF($A231=\"\",\"\",VLOOKUP($A231,会員名簿!$A$3:$F$998,3))","v":""},{"$f":"IF($A231=\"\",\"\",VLOOKUP($A231,会員名簿!$A$3:$F$998,4))","v":""},{"$f":"IF($A231=\"\",\"\",VLOOKUP($A231,会員名簿!$A$3:$F$998,5))","v":""},{"$f":"IF($A231=\"\",\"\",VLOOKUP($A231,会員名簿!$A$3:$F$998,6))","v":""},""]
[null,228,29,"４",null,{"$f":"IF($A232=\"\",\"\",VLOOKUP($A232,会員名簿!$A$3:$F$998,2))","v":""},{"$f":"IF($A232=\"\",\"\",VLOOKUP($A232,会員名簿!$A$3:$F$998,3))","v":""},{"$f":"IF($A232=\"\",\"\",VLOOKUP($A232,会員名簿!$A$3:$F$998,4))","v":""},{"$f":"IF($A232=\"\",\"\",VLOOKUP($A232,会員名簿!$A$3:$F$998,5))","v":""},{"$f":"IF($A232=\"\",\"\",VLOOKUP($A232,会員名簿!$A$3:$F$998,6))","v":""},""]
[null,229,29,"５",null,{"$f":"IF($A233=\"\",\"\",VLOOKUP($A233,会員名簿!$A$3:$F$998,2))","v":""},{"$f":"IF($A233=\"\",\"\",VLOOKUP($A233,会員名簿!$A$3:$F$998,3))","v":""},{"$f":"IF($A233=\"\",\"\",VLOOKUP($A233,会員名簿!$A$3:$F$998,4))","v":""},{"$f":"IF($A233=\"\",\"\",VLOOKUP($A233,会員名簿!$A$3:$F$998,5))","v":""},{"$f":"IF($A233=\"\",\"\",VLOOKUP($A233,会員名簿!$A$3:$F$998,6))","v":""},""]
[null,230,29,"６",null,{"$f":"IF($A234=\"\",\"\",VLOOKUP($A234,会員名簿!$A$3:$F$998,2))","v":""},{"$f":"IF($A234=\"\",\"\",VLOOKUP($A234,会員名簿!$A$3:$F$998,3))","v":""},{"$f":"IF($A234=\"\",\"\",VLOOKUP($A234,会員名簿!$A$3:$F$998,4))","v":""},{"$f":"IF($A234=\"\",\"\",VLOOKUP($A234,会員名簿!$A$3:$F$998,5))","v":""},{"$f":"IF($A234=\"\",\"\",VLOOKUP($A234,会員名簿!$A$3:$F$998,6))","v":""},""]
[null,231,29,"７",null,{"$f":"IF($A235=\"\",\"\",VLOOKUP($A235,会員名簿!$A$3:$F$998,2))","v":""},{"$f":"IF($A235=\"\",\"\",VLOOKUP($A235,会員名簿!$A$3:$F$998,3))","v":""},{"$f":"IF($A235=\"\",\"\",VLOOKUP($A235,会員名簿!$A$3:$F$998,4))","v":""},{"$f":"IF($A235=\"\",\"\",VLOOKUP($A235,会員名簿!$A$3:$F$998,5))","v":""},{"$f":"IF($A235=\"\",\"\",VLOOKUP($A235,会員名簿!$A$3:$F$998,6))","v":""},""]
[null,232,29,"８",null,{"$f":"IF($A236=\"\",\"\",VLOOKUP($A236,会員名簿!$A$3:$F$998,2))","v":""},{"$f":"IF($A236=\"\",\"\",VLOOKUP($A236,会員名簿!$A$3:$F$998,3))","v":""},{"$f":"IF($A236=\"\",\"\",VLOOKUP($A236,会員名簿!$A$3:$F$998,4))","v":""},{"$f":"IF($A236=\"\",\"\",VLOOKUP($A236,会員名簿!$A$3:$F$998,5))","v":""},{"$f":"IF($A236=\"\",\"\",VLOOKUP($A236,会員名簿!$A$3:$F$998,6))","v":""},""]
[null,233,30,"１",null,{"$f":"IF($A237=\"\",\"\",VLOOKUP($A237,会員名簿!$A$3:$F$998,2))","v":""},{"$f":"IF($A237=\"\",\"\",VLOOKUP($A237,会員名簿!$A$3:$F$998,3))","v":""},{"$f":"IF($A237=\"\",\"\",VLOOKUP($A237,会員名簿!$A$3:$F$998,4))","v":""},{"$f":"IF($A237=\"\",\"\",VLOOKUP($A237,会員名簿!$A$3:$F$998,5))","v":""},{"$f":"IF($A237=\"\",\"\",VLOOKUP($A237,会員名簿!$A$3:$F$998,6))","v":""},""]
[null,234,30,"２",null,{"$f":"IF($A238=\"\",\"\",VLOOKUP($A238,会員名簿!$A$3:$F$998,2))","v":""},{"$f":"IF($A238=\"\",\"\",VLOOKUP($A238,会員名簿!$A$3:$F$998,3))","v":""},{"$f":"IF($A238=\"\",\"\",VLOOKUP($A238,会員名簿!$A$3:$F$998,4))","v":""},{"$f":"IF($A238=\"\",\"\",VLOOKUP($A238,会員名簿!$A$3:$F$998,5))","v":""},{"$f":"IF($A238=\"\",\"\",VLOOKUP($A238,会員名簿!$A$3:$F$998,6))","v":""},""]
[null,235,30,"３",null,{"$f":"IF($A239=\"\",\"\",VLOOKUP($A239,会員名簿!$A$3:$F$998,2))","v":""},{"$f":"IF($A239=\"\",\"\",VLOOKUP($A239,会員名簿!$A$3:$F$998,3))","v":""},{"$f":"IF($A239=\"\",\"\",VLOOKUP($A239,会員名簿!$A$3:$F$998,4))","v":""},{"$f":"IF($A239=\"\",\"\",VLOOKUP($A239,会員名簿!$A$3:$F$998,5))","v":""},{"$f":"IF($A239=\"\",\"\",VLOOKUP($A239,会員名簿!$A$3:$F$998,6))","v":""},""]
[null,236,30,"４",null,{"$f":"IF($A240=\"\",\"\",VLOOKUP($A240,会員名簿!$A$3:$F$998,2))","v":""},{"$f":"IF($A240=\"\",\"\",VLOOKUP($A240,会員名簿!$A$3:$F$998,3))","v":""},{"$f":"IF($A240=\"\",\"\",VLOOKUP($A240,会員名簿!$A$3:$F$998,4))","v":""},{"$f":"IF($A240=\"\",\"\",VLOOKUP($A240,会員名簿!$A$3:$F$998,5))","v":""},{"$f":"IF($A240=\"\",\"\",VLOOKUP($A240,会員名簿!$A$3:$F$998,6))","v":""},""]
[null,237,30,"５",null,{"$f":"IF($A241=\"\",\"\",VLOOKUP($A241,会員名簿!$A$3:$F$998,2))","v":""},{"$f":"IF($A241=\"\",\"\",VLOOKUP($A241,会員名簿!$A$3:$F$998,3))","v":""},{"$f":"IF($A241=\"\",\"\",VLOOKUP($A241,会員名簿!$A$3:$F$998,4))","v":""},{"$f":"IF($A241=\"\",\"\",VLOOKUP($A241,会員名簿!$A$3:$F$998,5))","v":""},{"$f":"IF($A241=\"\",\"\",VLOOKUP($A241,会員名簿!$A$3:$F$998,6))","v":""},""]
[null,238,30,"６",null,{"$f":"IF($A242=\"\",\"\",VLOOKUP($A242,会員名簿!$A$3:$F$998,2))","v":""},{"$f":"IF($A242=\"\",\"\",VLOOKUP($A242,会員名簿!$A$3:$F$998,3))","v":""},{"$f":"IF($A242=\"\",\"\",VLOOKUP($A242,会員名簿!$A$3:$F$998,4))","v":""},{"$f":"IF($A242=\"\",\"\",VLOOKUP($A242,会員名簿!$A$3:$F$998,5))","v":""},{"$f":"IF($A242=\"\",\"\",VLOOKUP($A242,会員名簿!$A$3:$F$998,6))","v":""},""]
[null,239,30,"７",null,{"$f":"IF($A243=\"\",\"\",VLOOKUP($A243,会員名簿!$A$3:$F$998,2))","v":""},{"$f":"IF($A243=\"\",\"\",VLOOKUP($A243,会員名簿!$A$3:$F$998,3))","v":""},{"$f":"IF($A243=\"\",\"\",VLOOKUP($A243,会員名簿!$A$3:$F$998,4))","v":""},{"$f":"IF($A243=\"\",\"\",VLOOKUP($A243,会員名簿!$A$3:$F$998,5))","v":""},{"$f":"IF($A243=\"\",\"\",VLOOKUP($A243,会員名簿!$A$3:$F$998,6))","v":""},""]
[null,240,30,"８",null,{"$f":"IF($A244=\"\",\"\",VLOOKUP($A244,会員名簿!$A$3:$F$998,2))","v":""},{"$f":"IF($A244=\"\",\"\",VLOOKUP($A244,会員名簿!$A$3:$F$998,3))","v":""},{"$f":"IF($A244=\"\",\"\",VLOOKUP($A244,会員名簿!$A$3:$F$998,4))","v":""},{"$f":"IF($A244=\"\",\"\",VLOOKUP($A244,会員名簿!$A$3:$F$998,5))","v":""},{"$f":"IF($A244=\"\",\"\",VLOOKUP($A244,会員名簿!$A$3:$F$998,6))","v":""},""]
[null,241,31,"１",null,{"$f":"IF($A245=\"\",\"\",VLOOKUP($A245,会員名簿!$A$3:$F$998,2))","v":""},{"$f":"IF($A245=\"\",\"\",VLOOKUP($A245,会員名簿!$A$3:$F$998,3))","v":""},{"$f":"IF($A245=\"\",\"\",VLOOKUP($A245,会員名簿!$A$3:$F$998,4))","v":""},{"$f":"IF($A245=\"\",\"\",VLOOKUP($A245,会員名簿!$A$3:$F$998,5))","v":""},{"$f":"IF($A245=\"\",\"\",VLOOKUP($A245,会員名簿!$A$3:$F$998,6))","v":""},""]
[null,242,31,"２",null,{"$f":"IF($A246=\"\",\"\",VLOOKUP($A246,会員名簿!$A$3:$F$998,2))","v":""},{"$f":"IF($A246=\"\",\"\",VLOOKUP($A246,会員名簿!$A$3:$F$998,3))","v":""},{"$f":"IF($A246=\"\",\"\",VLOOKUP($A246,会員名簿!$A$3:$F$998,4))","v":""},{"$f":"IF($A246=\"\",\"\",VLOOKUP($A246,会員名簿!$A$3:$F$998,5))","v":""},{"$f":"IF($A246=\"\",\"\",VLOOKUP($A246,会員名簿!$A$3:$F$998,6))","v":""},""]
[null,243,31,"３",null,{"$f":"IF($A247=\"\",\"\",VLOOKUP($A247,会員名簿!$A$3:$F$998,2))","v":""},{"$f":"IF($A247=\"\",\"\",VLOOKUP($A247,会員名簿!$A$3:$F$998,3))","v":""},{"$f":"IF($A247=\"\",\"\",VLOOKUP($A247,会員名簿!$A$3:$F$998,4))","v":""},{"$f":"IF($A247=\"\",\"\",VLOOKUP($A247,会員名簿!$A$3:$F$998,5))","v":""},{"$f":"IF($A247=\"\",\"\",VLOOKUP($A247,会員名簿!$A$3:$F$998,6))","v":""},""]
[null,244,31,"４",null,{"$f":"IF($A248=\"\",\"\",VLOOKUP($A248,会員名簿!$A$3:$F$998,2))","v":""},{"$f":"IF($A248=\"\",\"\",VLOOKUP($A248,会員名簿!$A$3:$F$998,3))","v":""},{"$f":"IF($A248=\"\",\"\",VLOOKUP($A248,会員名簿!$A$3:$F$998,4))","v":""},{"$f":"IF($A248=\"\",\"\",VLOOKUP($A248,会員名簿!$A$3:$F$998,5))","v":""},{"$f":"IF($A248=\"\",\"\",VLOOKUP($A248,会員名簿!$A$3:$F$998,6))","v":""},""]
[null,245,31,"５",null,{"$f":"IF($A249=\"\",\"\",VLOOKUP($A249,会員名簿!$A$3:$F$998,2))","v":""},{"$f":"IF($A249=\"\",\"\",VLOOKUP($A249,会員名簿!$A$3:$F$998,3))","v":""},{"$f":"IF($A249=\"\",\"\",VLOOKUP($A249,会員名簿!$A$3:$F$998,4))","v":""},{"$f":"IF($A249=\"\",\"\",VLOOKUP($A249,会員名簿!$A$3:$F$998,5))","v":""},{"$f":"IF($A249=\"\",\"\",VLOOKUP($A249,会員名簿!$A$3:$F$998,6))","v":""},""]
[null,246,31,"６",null,{"$f":"IF($A250=\"\",\"\",VLOOKUP($A250,会員名簿!$A$3:$F$998,2))","v":""},{"$f":"IF($A250=\"\",\"\",VLOOKUP($A250,会員名簿!$A$3:$F$998,3))","v":""},{"$f":"IF($A250=\"\",\"\",VLOOKUP($A250,会員名簿!$A$3:$F$998,4))","v":""},{"$f":"IF($A250=\"\",\"\",VLOOKUP($A250,会員名簿!$A$3:$F$998,5))","v":""},{"$f":"IF($A250=\"\",\"\",VLOOKUP($A250,会員名簿!$A$3:$F$998,6))","v":""},""]
[null,247,31,"７",null,{"$f":"IF($A251=\"\",\"\",VLOOKUP($A251,会員名簿!$A$3:$F$998,2))","v":""},{"$f":"IF($A251=\"\",\"\",VLOOKUP($A251,会員名簿!$A$3:$F$998,3))","v":""},{"$f":"IF($A251=\"\",\"\",VLOOKUP($A251,会員名簿!$A$3:$F$998,4))","v":""},{"$f":"IF($A251=\"\",\"\",VLOOKUP($A251,会員名簿!$A$3:$F$998,5))","v":""},{"$f":"IF($A251=\"\",\"\",VLOOKUP($A251,会員名簿!$A$3:$F$998,6))","v":""},""]
[null,248,31,"８",null,{"$f":"IF($A252=\"\",\"\",VLOOKUP($A252,会員名簿!$A$3:$F$998,2))","v":""},{"$f":"IF($A252=\"\",\"\",VLOOKUP($A252,会員名簿!$A$3:$F$998,3))","v":""},{"$f":"IF($A252=\"\",\"\",VLOOKUP($A252,会員名簿!$A$3:$F$998,4))","v":""},{"$f":"IF($A252=\"\",\"\",VLOOKUP($A252,会員名簿!$A$3:$F$998,5))","v":""},{"$f":"IF($A252=\"\",\"\",VLOOKUP($A252,会員名簿!$A$3:$F$998,6))","v":""},""]
[null,249,32,"１",null,{"$f":"IF($A253=\"\",\"\",VLOOKUP($A253,会員名簿!$A$3:$F$998,2))","v":""},{"$f":"IF($A253=\"\",\"\",VLOOKUP($A253,会員名簿!$A$3:$F$998,3))","v":""},{"$f":"IF($A253=\"\",\"\",VLOOKUP($A253,会員名簿!$A$3:$F$998,4))","v":""},{"$f":"IF($A253=\"\",\"\",VLOOKUP($A253,会員名簿!$A$3:$F$998,5))","v":""},{"$f":"IF($A253=\"\",\"\",VLOOKUP($A253,会員名簿!$A$3:$F$998,6))","v":""},""]
[null,250,32,"２",null,{"$f":"IF($A254=\"\",\"\",VLOOKUP($A254,会員名簿!$A$3:$F$998,2))","v":""},{"$f":"IF($A254=\"\",\"\",VLOOKUP($A254,会員名簿!$A$3:$F$998,3))","v":""},{"$f":"IF($A254=\"\",\"\",VLOOKUP($A254,会員名簿!$A$3:$F$998,4))","v":""},{"$f":"IF($A254=\"\",\"\",VLOOKUP($A254,会員名簿!$A$3:$F$998,5))","v":""},{"$f":"IF($A254=\"\",\"\",VLOOKUP($A254,会員名簿!$A$3:$F$998,6))","v":""},""]
[null,251,32,"３",null,{"$f":"IF($A255=\"\",\"\",VLOOKUP($A255,会員名簿!$A$3:$F$998,2))","v":""},{"$f":"IF($A255=\"\",\"\",VLOOKUP($A255,会員名簿!$A$3:$F$998,3))","v":""},{"$f":"IF($A255=\"\",\"\",VLOOKUP($A255,会員名簿!$A$3:$F$998,4))","v":""},{"$f":"IF($A255=\"\",\"\",VLOOKUP($A255,会員名簿!$A$3:$F$998,5))","v":""},{"$f":"IF($A255=\"\",\"\",VLOOKUP($A255,会員名簿!$A$3:$F$998,6))","v":""},""]
[null,252,32,"４",null,{"$f":"IF($A256=\"\",\"\",VLOOKUP($A256,会員名簿!$A$3:$F$998,2))","v":""},{"$f":"IF($A256=\"\",\"\",VLOOKUP($A256,会員名簿!$A$3:$F$998,3))","v":""},{"$f":"IF($A256=\"\",\"\",VLOOKUP($A256,会員名簿!$A$3:$F$998,4))","v":""},{"$f":"IF($A256=\"\",\"\",VLOOKUP($A256,会員名簿!$A$3:$F$998,5))","v":""},{"$f":"IF($A256=\"\",\"\",VLOOKUP($A256,会員名簿!$A$3:$F$998,6))","v":""},""]
[null,253,32,"５",null,{"$f":"IF($A257=\"\",\"\",VLOOKUP($A257,会員名簿!$A$3:$F$998,2))","v":""},{"$f":"IF($A257=\"\",\"\",VLOOKUP($A257,会員名簿!$A$3:$F$998,3))","v":""},{"$f":"IF($A257=\"\",\"\",VLOOKUP($A257,会員名簿!$A$3:$F$998,4))","v":""},{"$f":"IF($A257=\"\",\"\",VLOOKUP($A257,会員名簿!$A$3:$F$998,5))","v":""},{"$f":"IF($A257=\"\",\"\",VLOOKUP($A257,会員名簿!$A$3:$F$998,6))","v":""},""]
[null,254,32,"６",null,{"$f":"IF($A258=\"\",\"\",VLOOKUP($A258,会員名簿!$A$3:$F$998,2))","v":""},{"$f":"IF($A258=\"\",\"\",VLOOKUP($A258,会員名簿!$A$3:$F$998,3))","v":""},{"$f":"IF($A258=\"\",\"\",VLOOKUP($A258,会員名簿!$A$3:$F$998,4))","v":""},{"$f":"IF($A258=\"\",\"\",VLOOKUP($A258,会員名簿!$A$3:$F$998,5))","v":""},{"$f":"IF($A258=\"\",\"\",VLOOKUP($A258,会員名簿!$A$3:$F$998,6))","v":""},""]
[null,255,32,"７",null,{"$f":"IF($A259=\"\",\"\",VLOOKUP($A259,会員名簿!$A$3:$F$998,2))","v":""},{"$f":"IF($A259=\"\",\"\",VLOOKUP($A259,会員名簿!$A$3:$F$998,3))","v":""},{"$f":"IF($A259=\"\",\"\",VLOOKUP($A259,会員名簿!$A$3:$F$998,4))","v":""},{"$f":"IF($A259=\"\",\"\",VLOOKUP($A259,会員名簿!$A$3:$F$998,5))","v":""},{"$f":"IF($A259=\"\",\"\",VLOOKUP($A259,会員名簿!$A$3:$F$998,6))","v":""},""]
[null,256,32,"８",null,{"$f":"IF($A260=\"\",\"\",VLOOKUP($A260,会員名簿!$A$3:$F$998,2))","v":""},{"$f":"IF($A260=\"\",\"\",VLOOKUP($A260,会員名簿!$A$3:$F$998,3))","v":""},{"$f":"IF($A260=\"\",\"\",VLOOKUP($A260,会員名簿!$A$3:$F$998,4))","v":""},{"$f":"IF($A260=\"\",\"\",VLOOKUP($A260,会員名簿!$A$3:$F$998,5))","v":""},{"$f":"IF($A260=\"\",\"\",VLOOKUP($A260,会員名簿!$A$3:$F$998,6))","v":""},""]
[null,257,33,"１",null,{"$f":"IF($A261=\"\",\"\",VLOOKUP($A261,会員名簿!$A$3:$F$998,2))","v":""},{"$f":"IF($A261=\"\",\"\",VLOOKUP($A261,会員名簿!$A$3:$F$998,3))","v":""},{"$f":"IF($A261=\"\",\"\",VLOOKUP($A261,会員名簿!$A$3:$F$998,4))","v":""},{"$f":"IF($A261=\"\",\"\",VLOOKUP($A261,会員名簿!$A$3:$F$998,5))","v":""},{"$f":"IF($A261=\"\",\"\",VLOOKUP($A261,会員名簿!$A$3:$F$998,6))","v":""},{"$f":"IF(J261=\"\",\"\",DATEDIF(J261,TODAY(),\"y\"))","v":""}]
[null,258,33,"２",null,{"$f":"IF($A262=\"\",\"\",VLOOKUP($A262,会員名簿!$A$3:$F$998,2))","v":""},{"$f":"IF($A262=\"\",\"\",VLOOKUP($A262,会員名簿!$A$3:$F$998,3))","v":""},{"$f":"IF($A262=\"\",\"\",VLOOKUP($A262,会員名簿!$A$3:$F$998,4))","v":""},{"$f":"IF($A262=\"\",\"\",VLOOKUP($A262,会員名簿!$A$3:$F$998,5))","v":""},{"$f":"IF($A262=\"\",\"\",VLOOKUP($A262,会員名簿!$A$3:$F$998,6))","v":""},""]
[null,259,33,"３",null,{"$f":"IF($A263=\"\",\"\",VLOOKUP($A263,会員名簿!$A$3:$F$998,2))","v":""},{"$f":"IF($A263=\"\",\"\",VLOOKUP($A263,会員名簿!$A$3:$F$998,3))","v":""},{"$f":"IF($A263=\"\",\"\",VLOOKUP($A263,会員名簿!$A$3:$F$998,4))","v":""},{"$f":"IF($A263=\"\",\"\",VLOOKUP($A263,会員名簿!$A$3:$F$998,5))","v":""},{"$f":"IF($A263=\"\",\"\",VLOOKUP($A263,会員名簿!$A$3:$F$998,6))","v":""},""]
[null,260,33,"４",null,{"$f":"IF($A264=\"\",\"\",VLOOKUP($A264,会員名簿!$A$3:$F$998,2))","v":""},{"$f":"IF($A264=\"\",\"\",VLOOKUP($A264,会員名簿!$A$3:$F$998,3))","v":""},{"$f":"IF($A264=\"\",\"\",VLOOKUP($A264,会員名簿!$A$3:$F$998,4))","v":""},{"$f":"IF($A264=\"\",\"\",VLOOKUP($A264,会員名簿!$A$3:$F$998,5))","v":""},{"$f":"IF($A264=\"\",\"\",VLOOKUP($A264,会員名簿!$A$3:$F$998,6))","v":""},""]
[null,261,33,"５",null,{"$f":"IF($A265=\"\",\"\",VLOOKUP($A265,会員名簿!$A$3:$F$998,2))","v":""},{"$f":"IF($A265=\"\",\"\",VLOOKUP($A265,会員名簿!$A$3:$F$998,3))","v":""},{"$f":"IF($A265=\"\",\"\",VLOOKUP($A265,会員名簿!$A$3:$F$998,4))","v":""},{"$f":"IF($A265=\"\",\"\",VLOOKUP($A265,会員名簿!$A$3:$F$998,5))","v":""},{"$f":"IF($A265=\"\",\"\",VLOOKUP($A265,会員名簿!$A$3:$F$998,6))","v":""},""]
[null,262,33,"６",null,{"$f":"IF($A266=\"\",\"\",VLOOKUP($A266,会員名簿!$A$3:$F$998,2))","v":""},{"$f":"IF($A266=\"\",\"\",VLOOKUP($A266,会員名簿!$A$3:$F$998,3))","v":""},{"$f":"IF($A266=\"\",\"\",VLOOKUP($A266,会員名簿!$A$3:$F$998,4))","v":""},{"$f":"IF($A266=\"\",\"\",VLOOKUP($A266,会員名簿!$A$3:$F$998,5))","v":""},{"$f":"IF($A266=\"\",\"\",VLOOKUP($A266,会員名簿!$A$3:$F$998,6))","v":""},""]
[null,263,33,"７",null,{"$f":"IF($A267=\"\",\"\",VLOOKUP($A267,会員名簿!$A$3:$F$998,2))","v":""},{"$f":"IF($A267=\"\",\"\",VLOOKUP($A267,会員名簿!$A$3:$F$998,3))","v":""},{"$f":"IF($A267=\"\",\"\",VLOOKUP($A267,会員名簿!$A$3:$F$998,4))","v":""},{"$f":"IF($A267=\"\",\"\",VLOOKUP($A267,会員名簿!$A$3:$F$998,5))","v":""},{"$f":"IF($A267=\"\",\"\",VLOOKUP($A267,会員名簿!$A$3:$F$998,6))","v":""},""]
[null,264,33,"８",null,{"$f":"IF($A268=\"\",\"\",VLOOKUP($A268,会員名簿!$A$3:$F$998,2))","v":""},{"$f":"IF($A268=\"\",\"\",VLOOKUP($A268,会員名簿!$A$3:$F$998,3))","v":""},{"$f":"IF($A268=\"\",\"\",VLOOKUP($A268,会員名簿!$A$3:$F$998,4))","v":""},{"$f":"IF($A268=\"\",\"\",VLOOKUP($A268,会員名簿!$A$3:$F$998,5))","v":""},{"$f":"IF($A268=\"\",\"\",VLOOKUP($A268,会員名簿!$A$3:$F$998,6))","v":""},""]
[null,265,34,"１",null,{"$f":"IF($A269=\"\",\"\",VLOOKUP($A269,会員名簿!$A$3:$F$998,2))","v":""},{"$f":"IF($A269=\"\",\"\",VLOOKUP($A269,会員名簿!$A$3:$F$998,3))","v":""},{"$f":"IF($A269=\"\",\"\",VLOOKUP($A269,会員名簿!$A$3:$F$998,4))","v":""},{"$f":"IF($A269=\"\",\"\",VLOOKUP($A269,会員名簿!$A$3:$F$998,5))","v":""},{"$f":"IF($A269=\"\",\"\",VLOOKUP($A269,会員名簿!$A$3:$F$998,6))","v":""},""]
[null,266,34,"２",null,{"$f":"IF($A270=\"\",\"\",VLOOKUP($A270,会員名簿!$A$3:$F$998,2))","v":""},{"$f":"IF($A270=\"\",\"\",VLOOKUP($A270,会員名簿!$A$3:$F$998,3))","v":""},{"$f":"IF($A270=\"\",\"\",VLOOKUP($A270,会員名簿!$A$3:$F$998,4))","v":""},{"$f":"IF($A270=\"\",\"\",VLOOKUP($A270,会員名簿!$A$3:$F$998,5))","v":""},{"$f":"IF($A270=\"\",\"\",VLOOKUP($A270,会員名簿!$A$3:$F$998,6))","v":""},""]
[null,267,34,"３",null,{"$f":"IF($A271=\"\",\"\",VLOOKUP($A271,会員名簿!$A$3:$F$998,2))","v":""},{"$f":"IF($A271=\"\",\"\",VLOOKUP($A271,会員名簿!$A$3:$F$998,3))","v":""},{"$f":"IF($A271=\"\",\"\",VLOOKUP($A271,会員名簿!$A$3:$F$998,4))","v":""},{"$f":"IF($A271=\"\",\"\",VLOOKUP($A271,会員名簿!$A$3:$F$998,5))","v":""},{"$f":"IF($A271=\"\",\"\",VLOOKUP($A271,会員名簿!$A$3:$F$998,6))","v":""},""]
[null,268,34,"４",null,{"$f":"IF($A272=\"\",\"\",VLOOKUP($A272,会員名簿!$A$3:$F$998,2))","v":""},{"$f":"IF($A272=\"\",\"\",VLOOKUP($A272,会員名簿!$A$3:$F$998,3))","v":""},{"$f":"IF($A272=\"\",\"\",VLOOKUP($A272,会員名簿!$A$3:$F$998,4))","v":""},{"$f":"IF($A272=\"\",\"\",VLOOKUP($A272,会員名簿!$A$3:$F$998,5))","v":""},{"$f":"IF($A272=\"\",\"\",VLOOKUP($A272,会員名簿!$A$3:$F$998,6))","v":""},""]
[null,269,34,"５",null,{"$f":"IF($A273=\"\",\"\",VLOOKUP($A273,会員名簿!$A$3:$F$998,2))","v":""},{"$f":"IF($A273=\"\",\"\",VLOOKUP($A273,会員名簿!$A$3:$F$998,3))","v":""},{"$f":"IF($A273=\"\",\"\",VLOOKUP($A273,会員名簿!$A$3:$F$998,4))","v":""},{"$f":"IF($A273=\"\",\"\",VLOOKUP($A273,会員名簿!$A$3:$F$998,5))","v":""},{"$f":"IF($A273=\"\",\"\",VLOOKUP($A273,会員名簿!$A$3:$F$998,6))","v":""},""]
[null,270,34,"６",null,{"$f":"IF($A274=\"\",\"\",VLOOKUP($A274,会員名簿!$A$3:$F$998,2))","v":""},{"$f":"IF($A274=\"\",\"\",VLOOKUP($A274,会員名簿!$A$3:$F$998,3))","v":""},{"$f":"IF($A274=\"\",\"\",VLOOKUP($A274,会員名簿!$A$3:$F$998,4))","v":""},{"$f":"IF($A274=\"\",\"\",VLOOKUP($A274,会員名簿!$A$3:$F$998,5))","v":""},{"$f":"IF($A274=\"\",\"\",VLOOKUP($A274,会員名簿!$A$3:$F$998,6))","v":""},""]
[null,271,34,"７",null,{"$f":"IF($A275=\"\",\"\",VLOOKUP($A275,会員名簿!$A$3:$F$998,2))","v":""},{"$f":"IF($A275=\"\",\"\",VLOOKUP($A275,会員名簿!$A$3:$F$998,3))","v":""},{"$f":"IF($A275=\"\",\"\",VLOOKUP($A275,会員名簿!$A$3:$F$998,4))","v":""},{"$f":"IF($A275=\"\",\"\",VLOOKUP($A275,会員名簿!$A$3:$F$998,5))","v":""},{"$f":"IF($A275=\"\",\"\",VLOOKUP($A275,会員名簿!$A$3:$F$998,6))","v":""},""]
[null,272,34,"８",null,{"$f":"IF($A276=\"\",\"\",VLOOKUP($A276,会員名簿!$A$3:$F$998,2))","v":""},{"$f":"IF($A276=\"\",\"\",VLOOKUP($A276,会員名簿!$A$3:$F$998,3))","v":""},{"$f":"IF($A276=\"\",\"\",VLOOKUP($A276,会員名簿!$A$3:$F$998,4))","v":""},{"$f":"IF($A276=\"\",\"\",VLOOKUP($A276,会員名簿!$A$3:$F$998,5))","v":""},{"$f":"IF($A276=\"\",\"\",VLOOKUP($A276,会員名簿!$A$3:$F$998,6))","v":""},""]
[null,273,35,"１",null,{"$f":"IF($A277=\"\",\"\",VLOOKUP($A277,会員名簿!$A$3:$F$998,2))","v":""},{"$f":"IF($A277=\"\",\"\",VLOOKUP($A277,会員名簿!$A$3:$F$998,3))","v":""},{"$f":"IF($A277=\"\",\"\",VLOOKUP($A277,会員名簿!$A$3:$F$998,4))","v":""},{"$f":"IF($A277=\"\",\"\",VLOOKUP($A277,会員名簿!$A$3:$F$998,5))","v":""},{"$f":"IF($A277=\"\",\"\",VLOOKUP($A277,会員名簿!$A$3:$F$998,6))","v":""},""]
[null,274,35,"２",null,{"$f":"IF($A278=\"\",\"\",VLOOKUP($A278,会員名簿!$A$3:$F$998,2))","v":""},{"$f":"IF($A278=\"\",\"\",VLOOKUP($A278,会員名簿!$A$3:$F$998,3))","v":""},{"$f":"IF($A278=\"\",\"\",VLOOKUP($A278,会員名簿!$A$3:$F$998,4))","v":""},{"$f":"IF($A278=\"\",\"\",VLOOKUP($A278,会員名簿!$A$3:$F$998,5))","v":""},{"$f":"IF($A278=\"\",\"\",VLOOKUP($A278,会員名簿!$A$3:$F$998,6))","v":""},""]
[null,275,35,"３",null,{"$f":"IF($A279=\"\",\"\",VLOOKUP($A279,会員名簿!$A$3:$F$998,2))","v":""},{"$f":"IF($A279=\"\",\"\",VLOOKUP($A279,会員名簿!$A$3:$F$998,3))","v":""},{"$f":"IF($A279=\"\",\"\",VLOOKUP($A279,会員名簿!$A$3:$F$998,4))","v":""},{"$f":"IF($A279=\"\",\"\",VLOOKUP($A279,会員名簿!$A$3:$F$998,5))","v":""},{"$f":"IF($A279=\"\",\"\",VLOOKUP($A279,会員名簿!$A$3:$F$998,6))","v":""},""]
[null,276,35,"４",null,{"$f":"IF($A280=\"\",\"\",VLOOKUP($A280,会員名簿!$A$3:$F$998,2))","v":""},{"$f":"IF($A280=\"\",\"\",VLOOKUP($A280,会員名簿!$A$3:$F$998,3))","v":""},{"$f":"IF($A280=\"\",\"\",VLOOKUP($A280,会員名簿!$A$3:$F$998,4))","v":""},{"$f":"IF($A280=\"\",\"\",VLOOKUP($A280,会員名簿!$A$3:$F$998,5))","v":""},{"$f":"IF($A280=\"\",\"\",VLOOKUP($A280,会員名簿!$A$3:$F$998,6))","v":""},""]
[null,277,35,"５",null,{"$f":"IF($A281=\"\",\"\",VLOOKUP($A281,会員名簿!$A$3:$F$998,2))","v":""},{"$f":"IF($A281=\"\",\"\",VLOOKUP($A281,会員名簿!$A$3:$F$998,3))","v":""},{"$f":"IF($A281=\"\",\"\",VLOOKUP($A281,会員名簿!$A$3:$F$998,4))","v":""},{"$f":"IF($A281=\"\",\"\",VLOOKUP($A281,会員名簿!$A$3:$F$998,5))","v":""},{"$f":"IF($A281=\"\",\"\",VLOOKUP($A281,会員名簿!$A$3:$F$998,6))","v":""},""]
[null,278,35,"６",null,{"$f":"IF($A282=\"\",\"\",VLOOKUP($A282,会員名簿!$A$3:$F$998,2))","v":""},{"$f":"IF($A282=\"\",\"\",VLOOKUP($A282,会員名簿!$A$3:$F$998,3))","v":""},{"$f":"IF($A282=\"\",\"\",VLOOKUP($A282,会員名簿!$A$3:$F$998,4))","v":""},{"$f":"IF($A282=\"\",\"\",VLOOKUP($A282,会員名簿!$A$3:$F$998,5))","v":""},{"$f":"IF($A282=\"\",\"\",VLOOKUP($A282,会員名簿!$A$3:$F$998,6))","v":""},""]
[null,279,35,"７",null,{"$f":"IF($A283=\"\",\"\",VLOOKUP($A283,会員名簿!$A$3:$F$998,2))","v":""},{"$f":"IF($A283=\"\",\"\",VLOOKUP($A283,会員名簿!$A$3:$F$998,3))","v":""},{"$f":"IF($A283=\"\",\"\",VLOOKUP($A283,会員名簿!$A$3:$F$998,4))","v":""},{"$f":"IF($A283=\"\",\"\",VLOOKUP($A283,会員名簿!$A$3:$F$998,5))","v":""},{"$f":"IF($A283=\"\",\"\",VLOOKUP($A283,会員名簿!$A$3:$F$998,6))","v":""},""]
[null,280,35,"８",null,{"$f":"IF($A284=\"\",\"\",VLOOKUP($A284,会員名簿!$A$3:$F$998,2))","v":""},{"$f":"IF($A284=\"\",\"\",VLOOKUP($A284,会員名簿!$A$3:$F$998,3))","v":""},{"$f":"IF($A284=\"\",\"\",VLOOKUP($A284,会員名簿!$A$3:$F$998,4))","v":""},{"$f":"IF($A284=\"\",\"\",VLOOKUP($A284,会員名簿!$A$3:$F$998,5))","v":""},{"$f":"IF($A284=\"\",\"\",VLOOKUP($A284,会員名簿!$A$3:$F$998,6))","v":""},""]
[null,281,36,"１",null,{"$f":"IF($A285=\"\",\"\",VLOOKUP($A285,会員名簿!$A$3:$F$998,2))","v":""},{"$f":"IF($A285=\"\",\"\",VLOOKUP($A285,会員名簿!$A$3:$F$998,3))","v":""},{"$f":"IF($A285=\"\",\"\",VLOOKUP($A285,会員名簿!$A$3:$F$998,4))","v":""},{"$f":"IF($A285=\"\",\"\",VLOOKUP($A285,会員名簿!$A$3:$F$998,5))","v":""},{"$f":"IF($A285=\"\",\"\",VLOOKUP($A285,会員名簿!$A$3:$F$998,6))","v":""},""]
[null,282,36,"２",null,{"$f":"IF($A286=\"\",\"\",VLOOKUP($A286,会員名簿!$A$3:$F$998,2))","v":""},{"$f":"IF($A286=\"\",\"\",VLOOKUP($A286,会員名簿!$A$3:$F$998,3))","v":""},{"$f":"IF($A286=\"\",\"\",VLOOKUP($A286,会員名簿!$A$3:$F$998,4))","v":""},{"$f":"IF($A286=\"\",\"\",VLOOKUP($A286,会員名簿!$A$3:$F$998,5))","v":""},{"$f":"IF($A286=\"\",\"\",VLOOKUP($A286,会員名簿!$A$3:$F$998,6))","v":""},""]
[null,283,36,"３",null,{"$f":"IF($A287=\"\",\"\",VLOOKUP($A287,会員名簿!$A$3:$F$998,2))","v":""},{"$f":"IF($A287=\"\",\"\",VLOOKUP($A287,会員名簿!$A$3:$F$998,3))","v":""},{"$f":"IF($A287=\"\",\"\",VLOOKUP($A287,会員名簿!$A$3:$F$998,4))","v":""},{"$f":"IF($A287=\"\",\"\",VLOOKUP($A287,会員名簿!$A$3:$F$998,5))","v":""},{"$f":"IF($A287=\"\",\"\",VLOOKUP($A287,会員名簿!$A$3:$F$998,6))","v":""},""]
[null,284,36,"４",null,{"$f":"IF($A288=\"\",\"\",VLOOKUP($A288,会員名簿!$A$3:$F$998,2))","v":""},{"$f":"IF($A288=\"\",\"\",VLOOKUP($A288,会員名簿!$A$3:$F$998,3))","v":""},{"$f":"IF($A288=\"\",\"\",VLOOKUP($A288,会員名簿!$A$3:$F$998,4))","v":""},{"$f":"IF($A288=\"\",\"\",VLOOKUP($A288,会員名簿!$A$3:$F$998,5))","v":""},{"$f":"IF($A288=\"\",\"\",VLOOKUP($A288,会員名簿!$A$3:$F$998,6))","v":""},""]
[null,285,36,"５",null,{"$f":"IF($A289=\"\",\"\",VLOOKUP($A289,会員名簿!$A$3:$F$998,2))","v":""},{"$f":"IF($A289=\"\",\"\",VLOOKUP($A289,会員名簿!$A$3:$F$998,3))","v":""},{"$f":"IF($A289=\"\",\"\",VLOOKUP($A289,会員名簿!$A$3:$F$998,4))","v":""},{"$f":"IF($A289=\"\",\"\",VLOOKUP($A289,会員名簿!$A$3:$F$998,5))","v":""},{"$f":"IF($A289=\"\",\"\",VLOOKUP($A289,会員名簿!$A$3:$F$998,6))","v":""},""]
[null,286,36,"６",null,{"$f":"IF($A290=\"\",\"\",VLOOKUP($A290,会員名簿!$A$3:$F$998,2))","v":""},{"$f":"IF($A290=\"\",\"\",VLOOKUP($A290,会員名簿!$A$3:$F$998,3))","v":""},{"$f":"IF($A290=\"\",\"\",VLOOKUP($A290,会員名簿!$A$3:$F$998,4))","v":""},{"$f":"IF($A290=\"\",\"\",VLOOKUP($A290,会員名簿!$A$3:$F$998,5))","v":""},{"$f":"IF($A290=\"\",\"\",VLOOKUP($A290,会員名簿!$A$3:$F$998,6))","v":""},""]
[null,287,36,"７",null,{"$f":"IF($A291=\"\",\"\",VLOOKUP($A291,会員名簿!$A$3:$F$998,2))","v":""},{"$f":"IF($A291=\"\",\"\",VLOOKUP($A291,会員名簿!$A$3:$F$998,3))","v":""},{"$f":"IF($A291=\"\",\"\",VLOOKUP($A291,会員名簿!$A$3:$F$998,4))","v":""},{"$f":"IF($A291=\"\",\"\",VLOOKUP($A291,会員名簿!$A$3:$F$998,5))","v":""},{"$f":"IF($A291=\"\",\"\",VLOOKUP($A291,会員名簿!$A$3:$F$998,6))","v":""},""]
[null,288,36,"８",null,{"$f":"IF($A292=\"\",\"\",VLOOKUP($A292,会員名簿!$A$3:$F$998,2))","v":""},{"$f":"IF($A292=\"\",\"\",VLOOKUP($A292,会員名簿!$A$3:$F$998,3))","v":""},{"$f":"IF($A292=\"\",\"\",VLOOKUP($A292,会員名簿!$A$3:$F$998,4))","v":""},{"$f":"IF($A292=\"\",\"\",VLOOKUP($A292,会員名簿!$A$3:$F$998,5))","v":""},{"$f":"IF($A292=\"\",\"\",VLOOKUP($A292,会員名簿!$A$3:$F$998,6))","v":""},""]
[null,289,37,"１",null,{"$f":"IF($A293=\"\",\"\",VLOOKUP($A293,会員名簿!$A$3:$F$998,2))","v":""},{"$f":"IF($A293=\"\",\"\",VLOOKUP($A293,会員名簿!$A$3:$F$998,3))","v":""},{"$f":"IF($A293=\"\",\"\",VLOOKUP($A293,会員名簿!$A$3:$F$998,4))","v":""},{"$f":"IF($A293=\"\",\"\",VLOOKUP($A293,会員名簿!$A$3:$F$998,5))","v":""},{"$f":"IF($A293=\"\",\"\",VLOOKUP($A293,会員名簿!$A$3:$F$998,6))","v":""},""]
[null,290,37,"２",null,{"$f":"IF($A294=\"\",\"\",VLOOKUP($A294,会員名簿!$A$3:$F$998,2))","v":""},{"$f":"IF($A294=\"\",\"\",VLOOKUP($A294,会員名簿!$A$3:$F$998,3))","v":""},{"$f":"IF($A294=\"\",\"\",VLOOKUP($A294,会員名簿!$A$3:$F$998,4))","v":""},{"$f":"IF($A294=\"\",\"\",VLOOKUP($A294,会員名簿!$A$3:$F$998,5))","v":""},{"$f":"IF($A294=\"\",\"\",VLOOKUP($A294,会員名簿!$A$3:$F$998,6))","v":""},""]
[null,291,37,"３",null,{"$f":"IF($A295=\"\",\"\",VLOOKUP($A295,会員名簿!$A$3:$F$998,2))","v":""},{"$f":"IF($A295=\"\",\"\",VLOOKUP($A295,会員名簿!$A$3:$F$998,3))","v":""},{"$f":"IF($A295=\"\",\"\",VLOOKUP($A295,会員名簿!$A$3:$F$998,4))","v":""},{"$f":"IF($A295=\"\",\"\",VLOOKUP($A295,会員名簿!$A$3:$F$998,5))","v":""},{"$f":"IF($A295=\"\",\"\",VLOOKUP($A295,会員名簿!$A$3:$F$998,6))","v":""},""]
[null,292,37,"４",null,{"$f":"IF($A296=\"\",\"\",VLOOKUP($A296,会員名簿!$A$3:$F$998,2))","v":""},{"$f":"IF($A296=\"\",\"\",VLOOKUP($A296,会員名簿!$A$3:$F$998,3))","v":""},{"$f":"IF($A296=\"\",\"\",VLOOKUP($A296,会員名簿!$A$3:$F$998,4))","v":""},{"$f":"IF($A296=\"\",\"\",VLOOKUP($A296,会員名簿!$A$3:$F$998,5))","v":""},{"$f":"IF($A296=\"\",\"\",VLOOKUP($A296,会員名簿!$A$3:$F$998,6))","v":""},""]
[null,293,37,"５",null,{"$f":"IF($A297=\"\",\"\",VLOOKUP($A297,会員名簿!$A$3:$F$998,2))","v":""},{"$f":"IF($A297=\"\",\"\",VLOOKUP($A297,会員名簿!$A$3:$F$998,3))","v":""},{"$f":"IF($A297=\"\",\"\",VLOOKUP($A297,会員名簿!$A$3:$F$998,4))","v":""},{"$f":"IF($A297=\"\",\"\",VLOOKUP($A297,会員名簿!$A$3:$F$998,5))","v":""},{"$f":"IF($A297=\"\",\"\",VLOOKUP($A297,会員名簿!$A$3:$F$998,6))","v":""},""]
[null,294,37,"６",null,{"$f":"IF($A298=\"\",\"\",VLOOKUP($A298,会員名簿!$A$3:$F$998,2))","v":""},{"$f":"IF($A298=\"\",\"\",VLOOKUP($A298,会員名簿!$A$3:$F$998,3))","v":""},{"$f":"IF($A298=\"\",\"\",VLOOKUP($A298,会員名簿!$A$3:$F$998,4))","v":""},{"$f":"IF($A298=\"\",\"\",VLOOKUP($A298,会員名簿!$A$3:$F$998,5))","v":""},{"$f":"IF($A298=\"\",\"\",VLOOKUP($A298,会員名簿!$A$3:$F$998,6))","v":""},""]
[null,295,37,"７",null,{"$f":"IF($A299=\"\",\"\",VLOOKUP($A299,会員名簿!$A$3:$F$998,2))","v":""},{"$f":"IF($A299=\"\",\"\",VLOOKUP($A299,会員名簿!$A$3:$F$998,3))","v":""},{"$f":"IF($A299=\"\",\"\",VLOOKUP($A299,会員名簿!$A$3:$F$998,4))","v":""},{"$f":"IF($A299=\"\",\"\",VLOOKUP($A299,会員名簿!$A$3:$F$998,5))","v":""},{"$f":"IF($A299=\"\",\"\",VLOOKUP($A299,会員名簿!$A$3:$F$998,6))","v":""},""]
[null,296,37,"８",null,{"$f":"IF($A300=\"\",\"\",VLOOKUP($A300,会員名簿!$A$3:$F$998,2))","v":""},{"$f":"IF($A300=\"\",\"\",VLOOKUP($A300,会員名簿!$A$3:$F$998,3))","v":""},{"$f":"IF($A300=\"\",\"\",VLOOKUP($A300,会員名簿!$A$3:$F$998,4))","v":""},{"$f":"IF($A300=\"\",\"\",VLOOKUP($A300,会員名簿!$A$3:$F$998,5))","v":""},{"$f":"IF($A300=\"\",\"\",VLOOKUP($A300,会員名簿!$A$3:$F$998,6))","v":""},""]
[null,297,38,"１",null,{"$f":"IF($A301=\"\",\"\",VLOOKUP($A301,会員名簿!$A$3:$F$998,2))","v":""},{"$f":"IF($A301=\"\",\"\",VLOOKUP($A301,会員名簿!$A$3:$F$998,3))","v":""},{"$f":"IF($A301=\"\",\"\",VLOOKUP($A301,会員名簿!$A$3:$F$998,4))","v":""},{"$f":"IF($A301=\"\",\"\",VLOOKUP($A301,会員名簿!$A$3:$F$998,5))","v":""},{"$f":"IF($A301=\"\",\"\",VLOOKUP($A301,会員名簿!$A$3:$F$998,6))","v":""},""]
[null,298,38,"２",null,{"$f":"IF($A302=\"\",\"\",VLOOKUP($A302,会員名簿!$A$3:$F$998,2))","v":""},{"$f":"IF($A302=\"\",\"\",VLOOKUP($A302,会員名簿!$A$3:$F$998,3))","v":""},{"$f":"IF($A302=\"\",\"\",VLOOKUP($A302,会員名簿!$A$3:$F$998,4))","v":""},{"$f":"IF($A302=\"\",\"\",VLOOKUP($A302,会員名簿!$A$3:$F$998,5))","v":""},{"$f":"IF($A302=\"\",\"\",VLOOKUP($A302,会員名簿!$A$3:$F$998,6))","v":""},""]
[null,299,38,"３",null,{"$f":"IF($A303=\"\",\"\",VLOOKUP($A303,会員名簿!$A$3:$F$998,2))","v":""},{"$f":"IF($A303=\"\",\"\",VLOOKUP($A303,会員名簿!$A$3:$F$998,3))","v":""},{"$f":"IF($A303=\"\",\"\",VLOOKUP($A303,会員名簿!$A$3:$F$998,4))","v":""},{"$f":"IF($A303=\"\",\"\",VLOOKUP($A303,会員名簿!$A$3:$F$998,5))","v":""},{"$f":"IF($A303=\"\",\"\",VLOOKUP($A303,会員名簿!$A$3:$F$998,6))","v":""},""]
[null,300,38,"４",null,{"$f":"IF($A304=\"\",\"\",VLOOKUP($A304,会員名簿!$A$3:$F$998,2))","v":""},{"$f":"IF($A304=\"\",\"\",VLOOKUP($A304,会員名簿!$A$3:$F$998,3))","v":""},{"$f":"IF($A304=\"\",\"\",VLOOKUP($A304,会員名簿!$A$3:$F$998,4))","v":""},{"$f":"IF($A304=\"\",\"\",VLOOKUP($A304,会員名簿!$A$3:$F$998,5))","v":""},{"$f":"IF($A304=\"\",\"\",VLOOKUP($A304,会員名簿!$A$3:$F$998,6))","v":""},""]
[null,301,38,"５",null,{"$f":"IF($A305=\"\",\"\",VLOOKUP($A305,会員名簿!$A$3:$F$998,2))","v":""},{"$f":"IF($A305=\"\",\"\",VLOOKUP($A305,会員名簿!$A$3:$F$998,3))","v":""},{"$f":"IF($A305=\"\",\"\",VLOOKUP($A305,会員名簿!$A$3:$F$998,4))","v":""},{"$f":"IF($A305=\"\",\"\",VLOOKUP($A305,会員名簿!$A$3:$F$998,5))","v":""},{"$f":"IF($A305=\"\",\"\",VLOOKUP($A305,会員名簿!$A$3:$F$998,6))","v":""},""]
[null,302,38,"６",null,{"$f":"IF($A306=\"\",\"\",VLOOKUP($A306,会員名簿!$A$3:$F$998,2))","v":""},{"$f":"IF($A306=\"\",\"\",VLOOKUP($A306,会員名簿!$A$3:$F$998,3))","v":""},{"$f":"IF($A306=\"\",\"\",VLOOKUP($A306,会員名簿!$A$3:$F$998,4))","v":""},{"$f":"IF($A306=\"\",\"\",VLOOKUP($A306,会員名簿!$A$3:$F$998,5))","v":""},{"$f":"IF($A306=\"\",\"\",VLOOKUP($A306,会員名簿!$A$3:$F$998,6))","v":""},""]
[null,303,38,"７",null,{"$f":"IF($A307=\"\",\"\",VLOOKUP($A307,会員名簿!$A$3:$F$998,2))","v":""},{"$f":"IF($A307=\"\",\"\",VLOOKUP($A307,会員名簿!$A$3:$F$998,3))","v":""},{"$f":"IF($A307=\"\",\"\",VLOOKUP($A307,会員名簿!$A$3:$F$998,4))","v":""},{"$f":"IF($A307=\"\",\"\",VLOOKUP($A307,会員名簿!$A$3:$F$998,5))","v":""},{"$f":"IF($A307=\"\",\"\",VLOOKUP($A307,会員名簿!$A$3:$F$998,6))","v":""},""]
[null,304,38,"８",null,{"$f":"IF($A308=\"\",\"\",VLOOKUP($A308,会員名簿!$A$3:$F$998,2))","v":""},{"$f":"IF($A308=\"\",\"\",VLOOKUP($A308,会員名簿!$A$3:$F$998,3))","v":""},{"$f":"IF($A308=\"\",\"\",VLOOKUP($A308,会員名簿!$A$3:$F$998,4))","v":""},{"$f":"IF($A308=\"\",\"\",VLOOKUP($A308,会員名簿!$A$3:$F$998,5))","v":""},{"$f":"IF($A308=\"\",\"\",VLOOKUP($A308,会員名簿!$A$3:$F$998,6))","v":""},""]
[null,305,39,"１",null,{"$f":"IF($A309=\"\",\"\",VLOOKUP($A309,会員名簿!$A$3:$F$998,2))","v":""},{"$f":"IF($A309=\"\",\"\",VLOOKUP($A309,会員名簿!$A$3:$F$998,3))","v":""},{"$f":"IF($A309=\"\",\"\",VLOOKUP($A309,会員名簿!$A$3:$F$998,4))","v":""},{"$f":"IF($A309=\"\",\"\",VLOOKUP($A309,会員名簿!$A$3:$F$998,5))","v":""},{"$f":"IF($A309=\"\",\"\",VLOOKUP($A309,会員名簿!$A$3:$F$998,6))","v":""},""]
[null,306,39,"２",null,{"$f":"IF($A310=\"\",\"\",VLOOKUP($A310,会員名簿!$A$3:$F$998,2))","v":""},{"$f":"IF($A310=\"\",\"\",VLOOKUP($A310,会員名簿!$A$3:$F$998,3))","v":""},{"$f":"IF($A310=\"\",\"\",VLOOKUP($A310,会員名簿!$A$3:$F$998,4))","v":""},{"$f":"IF($A310=\"\",\"\",VLOOKUP($A310,会員名簿!$A$3:$F$998,5))","v":""},{"$f":"IF($A310=\"\",\"\",VLOOKUP($A310,会員名簿!$A$3:$F$998,6))","v":""},""]
[null,307,39,"３",null,{"$f":"IF($A311=\"\",\"\",VLOOKUP($A311,会員名簿!$A$3:$F$998,2))","v":""},{"$f":"IF($A311=\"\",\"\",VLOOKUP($A311,会員名簿!$A$3:$F$998,3))","v":""},{"$f":"IF($A311=\"\",\"\",VLOOKUP($A311,会員名簿!$A$3:$F$998,4))","v":""},{"$f":"IF($A311=\"\",\"\",VLOOKUP($A311,会員名簿!$A$3:$F$998,5))","v":""},{"$f":"IF($A311=\"\",\"\",VLOOKUP($A311,会員名簿!$A$3:$F$998,6))","v":""},""]
[null,308,39,"４",null,{"$f":"IF($A312=\"\",\"\",VLOOKUP($A312,会員名簿!$A$3:$F$998,2))","v":""},{"$f":"IF($A312=\"\",\"\",VLOOKUP($A312,会員名簿!$A$3:$F$998,3))","v":""},{"$f":"IF($A312=\"\",\"\",VLOOKUP($A312,会員名簿!$A$3:$F$998,4))","v":""},{"$f":"IF($A312=\"\",\"\",VLOOKUP($A312,会員名簿!$A$3:$F$998,5))","v":""},{"$f":"IF($A312=\"\",\"\",VLOOKUP($A312,会員名簿!$A$3:$F$998,6))","v":""},""]
[null,309,39,"５",null,{"$f":"IF($A313=\"\",\"\",VLOOKUP($A313,会員名簿!$A$3:$F$998,2))","v":""},{"$f":"IF($A313=\"\",\"\",VLOOKUP($A313,会員名簿!$A$3:$F$998,3))","v":""},{"$f":"IF($A313=\"\",\"\",VLOOKUP($A313,会員名簿!$A$3:$F$998,4))","v":""},{"$f":"IF($A313=\"\",\"\",VLOOKUP($A313,会員名簿!$A$3:$F$998,5))","v":""},{"$f":"IF($A313=\"\",\"\",VLOOKUP($A313,会員名簿!$A$3:$F$998,6))","v":""},""]
[null,310,39,"６",null,{"$f":"IF($A314=\"\",\"\",VLOOKUP($A314,会員名簿!$A$3:$F$998,2))","v":""},{"$f":"IF($A314=\"\",\"\",VLOOKUP($A314,会員名簿!$A$3:$F$998,3))","v":""},{"$f":"IF($A314=\"\",\"\",VLOOKUP($A314,会員名簿!$A$3:$F$998,4))","v":""},{"$f":"IF($A314=\"\",\"\",VLOOKUP($A314,会員名簿!$A$3:$F$998,5))","v":""},{"$f":"IF($A314=\"\",\"\",VLOOKUP($A314,会員名簿!$A$3:$F$998,6))","v":""},""]
[null,311,39,"７",null,{"$f":"IF($A315=\"\",\"\",VLOOKUP($A315,会員名簿!$A$3:$F$998,2))","v":""},{"$f":"IF($A315=\"\",\"\",VLOOKUP($A315,会員名簿!$A$3:$F$998,3))","v":""},{"$f":"IF($A315=\"\",\"\",VLOOKUP($A315,会員名簿!$A$3:$F$998,4))","v":""},{"$f":"IF($A315=\"\",\"\",VLOOKUP($A315,会員名簿!$A$3:$F$998,5))","v":""},{"$f":"IF($A315=\"\",\"\",VLOOKUP($A315,会員名簿!$A$3:$F$998,6))","v":""},""]
[null,312,39,"８",null,{"$f":"IF($A316=\"\",\"\",VLOOKUP($A316,会員名簿!$A$3:$F$998,2))","v":""},{"$f":"IF($A316=\"\",\"\",VLOOKUP($A316,会員名簿!$A$3:$F$998,3))","v":""},{"$f":"IF($A316=\"\",\"\",VLOOKUP($A316,会員名簿!$A$3:$F$998,4))","v":""},{"$f":"IF($A316=\"\",\"\",VLOOKUP($A316,会員名簿!$A$3:$F$998,5))","v":""},{"$f":"IF($A316=\"\",\"\",VLOOKUP($A316,会員名簿!$A$3:$F$998,6))","v":""},""]
[null,313,40,"１",null,{"$f":"IF($A317=\"\",\"\",VLOOKUP($A317,会員名簿!$A$3:$F$998,2))","v":""},{"$f":"IF($A317=\"\",\"\",VLOOKUP($A317,会員名簿!$A$3:$F$998,3))","v":""},{"$f":"IF($A317=\"\",\"\",VLOOKUP($A317,会員名簿!$A$3:$F$998,4))","v":""},{"$f":"IF($A317=\"\",\"\",VLOOKUP($A317,会員名簿!$A$3:$F$998,5))","v":""},{"$f":"IF($A317=\"\",\"\",VLOOKUP($A317,会員名簿!$A$3:$F$998,6))","v":""},""]
[null,314,40,"２",null,{"$f":"IF($A318=\"\",\"\",VLOOKUP($A318,会員名簿!$A$3:$F$998,2))","v":""},{"$f":"IF($A318=\"\",\"\",VLOOKUP($A318,会員名簿!$A$3:$F$998,3))","v":""},{"$f":"IF($A318=\"\",\"\",VLOOKUP($A318,会員名簿!$A$3:$F$998,4))","v":""},{"$f":"IF($A318=\"\",\"\",VLOOKUP($A318,会員名簿!$A$3:$F$998,5))","v":""},{"$f":"IF($A318=\"\",\"\",VLOOKUP($A318,会員名簿!$A$3:$F$998,6))","v":""},""]
[null,315,40,"３",null,{"$f":"IF($A319=\"\",\"\",VLOOKUP($A319,会員名簿!$A$3:$F$998,2))","v":""},{"$f":"IF($A319=\"\",\"\",VLOOKUP($A319,会員名簿!$A$3:$F$998,3))","v":""},{"$f":"IF($A319=\"\",\"\",VLOOKUP($A319,会員名簿!$A$3:$F$998,4))","v":""},{"$f":"IF($A319=\"\",\"\",VLOOKUP($A319,会員名簿!$A$3:$F$998,5))","v":""},{"$f":"IF($A319=\"\",\"\",VLOOKUP($A319,会員名簿!$A$3:$F$998,6))","v":""},""]
[null,316,40,"４",null,{"$f":"IF($A320=\"\",\"\",VLOOKUP($A320,会員名簿!$A$3:$F$998,2))","v":""},{"$f":"IF($A320=\"\",\"\",VLOOKUP($A320,会員名簿!$A$3:$F$998,3))","v":""},{"$f":"IF($A320=\"\",\"\",VLOOKUP($A320,会員名簿!$A$3:$F$998,4))","v":""},{"$f":"IF($A320=\"\",\"\",VLOOKUP($A320,会員名簿!$A$3:$F$998,5))","v":""},{"$f":"IF($A320=\"\",\"\",VLOOKUP($A320,会員名簿!$A$3:$F$998,6))","v":""},""]
[null,317,40,"５",null,{"$f":"IF($A321=\"\",\"\",VLOOKUP($A321,会員名簿!$A$3:$F$998,2))","v":""},{"$f":"IF($A321=\"\",\"\",VLOOKUP($A321,会員名簿!$A$3:$F$998,3))","v":""},{"$f":"IF($A321=\"\",\"\",VLOOKUP($A321,会員名簿!$A$3:$F$998,4))","v":""},{"$f":"IF($A321=\"\",\"\",VLOOKUP($A321,会員名簿!$A$3:$F$998,5))","v":""},{"$f":"IF($A321=\"\",\"\",VLOOKUP($A321,会員名簿!$A$3:$F$998,6))","v":""},""]
[null,318,40,"６",null,{"$f":"IF($A322=\"\",\"\",VLOOKUP($A322,会員名簿!$A$3:$F$998,2))","v":""},{"$f":"IF($A322=\"\",\"\",VLOOKUP($A322,会員名簿!$A$3:$F$998,3))","v":""},{"$f":"IF($A322=\"\",\"\",VLOOKUP($A322,会員名簿!$A$3:$F$998,4))","v":""},{"$f":"IF($A322=\"\",\"\",VLOOKUP($A322,会員名簿!$A$3:$F$998,5))","v":""},{"$f":"IF($A322=\"\",\"\",VLOOKUP($A322,会員名簿!$A$3:$F$998,6))","v":""},""]
[null,319,40,"７",null,{"$f":"IF($A323=\"\",\"\",VLOOKUP($A323,会員名簿!$A$3:$F$998,2))","v":""},{"$f":"IF($A323=\"\",\"\",VLOOKUP($A323,会員名簿!$A$3:$F$998,3))","v":""},{"$f":"IF($A323=\"\",\"\",VLOOKUP($A323,会員名簿!$A$3:$F$998,4))","v":""},{"$f":"IF($A323=\"\",\"\",VLOOKUP($A323,会員名簿!$A$3:$F$998,5))","v":""},{"$f":"IF($A323=\"\",\"\",VLOOKUP($A323,会員名簿!$A$3:$F$998,6))","v":""},""]
[null,320,40,"８",null,{"$f":"IF($A324=\"\",\"\",VLOOKUP($A324,会員名簿!$A$3:$F$998,2))","v":""},{"$f":"IF($A324=\"\",\"\",VLOOKUP($A324,会員名簿!$A$3:$F$998,3))","v":""},{"$f":"IF($A324=\"\",\"\",VLOOKUP($A324,会員名簿!$A$3:$F$998,4))","v":""},{"$f":"IF($A324=\"\",\"\",VLOOKUP($A324,会員名簿!$A$3:$F$998,5))","v":""},{"$f":"IF($A324=\"\",\"\",VLOOKUP($A324,会員名簿!$A$3:$F$998,6))","v":""},""]

{"sheet":"組別名簿","index":2,"n_rows":163,"n_cols":12,"rows_kept":163,"cut":false,"hidden":false,"merged":[[155,0,158,0],[155,6,158,6],[159,0,162,0],[159,6,162,6],[147,0,150,0],[147,6,150,6],[151,0,154,0],[151,6,154,6],[139,0,142,0],[139,6,142,6],[143,0,146,0],[143,6,146,6],[131,0,134,0],[131,6,134,6],[135,0,138,0],[135,6,138,6],[123,0,126,0],[123,6,126,6],[127,0,130,0],[127,6,130,6],[115,0,118,0],[115,6,118,6],[119,0,122,0],[119,6,122,6],[107,0,110,0],[107,6,110,6],[111,0,114,0],[111,6,114,6],[99,0,102,0],[99,6,102,6],[103,0,106,0],[103,6,106,6],[91,0,94,0],[91,6,94,6],[95,0,98,0],[95,6,98,6],[83,0,86,0],[83,6,86,6],[87,0,90,0],[87,6,90,6],[75,0,78,0],[75,6,78,6],[79,0,82,0],[79,6,82,6],[67,0,70,0],[67,6,70,6],[71,0,74,0],[71,6,74,6],[59,0,62,0],[59,6,62,6],[63,0,66,0],[63,6,66,6],[51,0,54,0],[51,6,54,6],[55,0,58,0],[55,6,58,6],[43,0,46,0],[43,6,46,6],[47,0,50,0],[47,6,50,6],[35,0,38,0],[35,6,38,6],[39,0,42,0],[39,6,42,6],[27,0,30,0],[27,6,30,6],[31,0,34,0],[31,6,34,6],[19,0,22,0],[19,6,22,6],[23,0,26,0],[23,6,26,6],[2,10,2,11],[11,0,14,0],[11,6,14,6],[15,0,18,0],[15,6,18,6],[3,0,6,0],[7,0,10,0],[3,6,6,6],[7,6,10,6],[0,0,0,11],[1,0,1,2],[1,3,1,4],[1,6,1,8],[1,9,1,11]]}
[{"$f":"大会名簿!D1","v":"第○○回　○○杯グラウンド・ゴルフ大会"}]
["組名",null,null,{"$f":"大会名簿!D2","v":"Ａ組"},null,null,"大会日",null,null,{"$f":"大会名簿!H2","v":"令和○年○月○日"}]
[null,null,null,null,null,null,null,null,null,null,"（○はリーダー）"]
["１","1",{"$f":"IF(大会名簿!E5=\"\",\"\",大会名簿!E5)","v":"〇"},{"$f":"IF(大会名簿!F5=\"\",\"\",大会名簿!F5)","v":"萩"},{"$f":"IF(大会名簿!G5=\"\",\"\",大会名簿!G5)","v":"萩　　四朗"},{"$f":"IF(大会名簿!I5=\"\",\"\",大会名簿!I5)","v":"男"},"５","1",{"$f":"IF(大会名簿!E37=\"\",\"\",大会名簿!E37)","v":""},{"$f":"IF(大会名簿!F37=\"\",\"\",大会名簿!F37)","v":""},{"$f":"IF(大会名簿!G37=\"\",\"\",大会名簿!G37)","v":""},{"$f":"IF(大会名簿!I37=\"\",\"\",大会名簿!I37)","v":""}]
[null,"２",{"$f":"IF(大会名簿!E6=\"\",\"\",大会名簿!E6)","v":""},{"$f":"IF(大会名簿!F6=\"\",\"\",大会名簿!F6)","v":"秋芳"},{"$f":"IF(大会名簿!G6=\"\",\"\",大会名簿!G6)","v":"秋芳　花子"},{"$f":"IF(大会名簿!I6=\"\",\"\",大会名簿!I6)","v":"女"},null,"２",{"$f":"IF(大会名簿!E38=\"\",\"\",大会名簿!E38)","v":""},{"$f":"IF(大会名簿!F38=\"\",\"\",大会名簿!F38)","v":""},{"$f":"IF(大会名簿!G38=\"\",\"\",大会名簿!G38)","v":""},{"$f":"IF(大会名簿!I38=\"\",\"\",大会名簿!I38)","v":""}]
[null,"３",{"$f":"IF(大会名簿!E7=\"\",\"\",大会名簿!E7)","v":""},{"$f":"IF(大会名簿!F7=\"\",\"\",大会名簿!F7)","v":"山口"},{"$f":"IF(大会名簿!G7=\"\",\"\",大会名簿!G7)","v":"山口　五郎"},{"$f":"IF(大会名簿!I7=\"\",\"\",大会名簿!I7)","v":"男"},null,"３",{"$f":"IF(大会名簿!E39=\"\",\"\",大会名簿!E39)","v":""},{"$f":"IF(大会名簿!F39=\"\",\"\",大会名簿!F39)","v":""},{"$f":"IF(大会名簿!G39=\"\",\"\",大会名簿!G39)","v":""},{"$f":"IF(大会名簿!I39=\"\",\"\",大会名簿!I39)","v":""}]
[null,"４",{"$f":"IF(大会名簿!E8=\"\",\"\",大会名簿!E8)","v":""},{"$f":"IF(大会名簿!F8=\"\",\"\",大会名簿!F8)","v":""},{"$f":"IF(大会名簿!G8=\"\",\"\",大会名簿!G8)","v":""},{"$f":"IF(大会名簿!I8=\"\",\"\",大会名簿!I8)","v":""},null,"４",{"$f":"IF(大会名簿!E40=\"\",\"\",大会名簿!E40)","v":""},{"$f":"IF(大会名簿!F40=\"\",\"\",大会名簿!F40)","v":""},{"$f":"IF(大会名簿!G40=\"\",\"\",大会名簿!G40)","v":""},{"$f":"IF(大会名簿!I40=\"\",\"\",大会名簿!I40)","v":""}]
["組","５",{"$f":"IF(大会名簿!E9=\"\",\"\",大会名簿!E9)","v":""},{"$f":"IF(大会名簿!F9=\"\",\"\",大会名簿!F9)","v":""},{"$f":"IF(大会名簿!G9=\"\",\"\",大会名簿!G9)","v":""},{"$f":"IF(大会名簿!I9=\"\",\"\",大会名簿!I9)","v":""},"組","５",{"$f":"IF(大会名簿!E41=\"\",\"\",大会名簿!E41)","v":""},{"$f":"IF(大会名簿!F41=\"\",\"\",大会名簿!F41)","v":""},{"$f":"IF(大会名簿!G41=\"\",\"\",大会名簿!G41)","v":""},{"$f":"IF(大会名簿!I41=\"\",\"\",大会名簿!I41)","v":""}]
[null,"６",{"$f":"IF(大会名簿!E10=\"\",\"\",大会名簿!E10)","v":""},{"$f":"IF(大会名簿!F10=\"\",\"\",大会名簿!F10)","v":""},{"$f":"IF(大会名簿!G10=\"\",\"\",大会名簿!G10)","v":""},{"$f":"IF(大会名簿!I10=\"\",\"\",大会名簿!I10)","v":""},null,"６",{"$f":"IF(大会名簿!E42=\"\",\"\",大会名簿!E42)","v":""},{"$f":"IF(大会名簿!F42=\"\",\"\",大会名簿!F42)","v":""},{"$f":"IF(大会名簿!G42=\"\",\"\",大会名簿!G42)","v":""},{"$f":"IF(大会名簿!I42=\"\",\"\",大会名簿!I42)","v":""}]
[null,"７",{"$f":"IF(大会名簿!E11=\"\",\"\",大会名簿!E11)","v":""},{"$f":"IF(大会名簿!F11=\"\",\"\",大会名簿!F11)","v":""},{"$f":"IF(大会名簿!G11=\"\",\"\",大会名簿!G11)","v":""},{"$f":"IF(大会名簿!I11=\"\",\"\",大会名簿!I11)","v":""},null,"７",{"$f":"IF(大会名簿!E43=\"\",\"\",大会名簿!E43)","v":""},{"$f":"IF(大会名簿!F43=\"\",\"\",大会名簿!F43)","v":""},{"$f":"IF(大会名簿!G43=\"\",\"\",大会名簿!G43)","v":""},{"$f":"IF(大会名簿!I43=\"\",\"\",大会名簿!I43)","v":""}]
[null,"８",{"$f":"IF(大会名簿!E12=\"\",\"\",大会名簿!E12)","v":""},{"$f":"IF(大会名簿!F12=\"\",\"\",大会名簿!F12)","v":""},{"$f":"IF(大会名簿!G12=\"\",\"\",大会名簿!G12)","v":""},{"$f":"IF(大会名簿!I12=\"\",\"\",大会名簿!I12)","v":""},null,"８",{"$f":"IF(大会名簿!E44=\"\",\"\",大会名簿!E44)","v":""},{"$f":"IF(大会名簿!F44=\"\",\"\",大会名簿!F44)","v":""},{"$f":"IF(大会名簿!G44=\"\",\"\",大会名簿!G44)","v":""},{"$f":"IF(大会名簿!I44=\"\",\"\",大会名簿!I44)","v":""}]
["２","1",{"$f":"IF(大会名簿!E13=\"\",\"\",大会名簿!E13)","v":""},{"$f":"IF(大会名簿!F13=\"\",\"\",大会名簿!F13)","v":""},{"$f":"IF(大会名簿!G13=\"\",\"\",大会名簿!G13)","v":""},{"$f":"IF(大会名簿!I13=\"\",\"\",大会名簿!I13)","v":""},"６","1",{"$f":"IF(大会名簿!E45=\"\",\"\",大会名簿!E45)","v":""},{"$f":"IF(大会名簿!F45=\"\",\"\",大会名簿!F45)","v":""},{"$f":"IF(大会名簿!G45=\"\",\"\",大会名簿!G45)","v":""},{"$f":"IF(大会名簿!I45=\"\",\"\",大会名簿!I45)","v":""}]
[null,"２",{"$f":"IF(大会名簿!E14=\"\",\"\",大会名簿!E14)","v":""},{"$f":"IF(大会名簿!F14=\"\",\"\",大会名簿!F14)","v":""},{"$f":"IF(大会名簿!G14=\"\",\"\",大会名簿!G14)","v":""},{"$f":"IF(大会名簿!I14=\"\",\"\",大会名簿!I14)","v":""},null,"２",{"$f":"IF(大会名簿!E46=\"\",\"\",大会名簿!E46)","v":""},{"$f":"IF(大会名簿!F46=\"\",\"\",大会名簿!F46)","v":""},{"$f":"IF(大会名簿!G46=\"\",\"\",大会名簿!G46)","v":""},{"$f":"IF(大会名簿!I46=\"\",\"\",大会名簿!I46)","v":""}]
[null,"３",{"$f":"IF(大会名簿!E15=\"\",\"\",大会名簿!E15)","v":""},{"$f":"IF(大会名簿!F15=\"\",\"\",大会名簿!F15)","v":""},{"$f":"IF(大会名簿!G15=\"\",\"\",大会名簿!G15)","v":""},{"$f":"IF(大会名簿!I15=\"\",\"\",大会名簿!I15)","v":""},null,"３",{"$f":"IF(大会名簿!E47=\"\",\"\",大会名簿!E47)","v":""},{"$f":"IF(大会名簿!F47=\"\",\"\",大会名簿!F47)","v":""},{"$f":"IF(大会名簿!G47=\"\",\"\",大会名簿!G47)","v":""},{"$f":"IF(大会名簿!I47=\"\",\"\",大会名簿!I47)","v":""}]
[null,"４",{"$f":"IF(大会名簿!E16=\"\",\"\",大会名簿!E16)","v":""},{"$f":"IF(大会名簿!F16=\"\",\"\",大会名簿!F16)","v":""},{"$f":"IF(大会名簿!G16=\"\",\"\",大会名簿!G16)","v":""},{"$f":"IF(大会名簿!I16=\"\",\"\",大会名簿!I16)","v":""},null,"４",{"$f":"IF(大会名簿!E48=\"\",\"\",大会名簿!E48)","v":""},{"$f":"IF(大会名簿!F48=\"\",\"\",大会名簿!F48)","v":""},{"$f":"IF(大会名簿!G48=\"\",\"\",大会名簿!G48)","v":""},{"$f":"IF(大会名簿!I48=\"\",\"\",大会名簿!I48)","v":""}]
["組","５",{"$f":"IF(大会名簿!E17=\"\",\"\",大会名簿!E17)","v":""},{"$f":"IF(大会名簿!F17=\"\",\"\",大会名簿!F17)","v":""},{"$f":"IF(大会名簿!G17=\"\",\"\",大会名簿!G17)","v":""},{"$f":"IF(大会名簿!I17=\"\",\"\",大会名簿!I17)","v":""},"組","５",{"$f":"IF(大会名簿!E49=\"\",\"\",大会名簿!E49)","v":""},{"$f":"IF(大会名簿!F49=\"\",\"\",大会名簿!F49)","v":""},{"$f":"IF(大会名簿!G49=\"\",\"\",大会名簿!G49)","v":""},{"$f":"IF(大会名簿!I49=\"\",\"\",大会名簿!I49)","v":""}]
[null,"６",{"$f":"IF(大会名簿!E18=\"\",\"\",大会名簿!E18)","v":""},{"$f":"IF(大会名簿!F18=\"\",\"\",大会名簿!F18)","v":""},{"$f":"IF(大会名簿!G18=\"\",\"\",大会名簿!G18)","v":""},{"$f":"IF(大会名簿!I18=\"\",\"\",大会名簿!I18)","v":""},null,"６",{"$f":"IF(大会名簿!E50=\"\",\"\",大会名簿!E50)","v":""},{"$f":"IF(大会名簿!F50=\"\",\"\",大会名簿!F50)","v":""},{"$f":"IF(大会名簿!G50=\"\",\"\",大会名簿!G50)","v":""},{"$f":"IF(大会名簿!I50=\"\",\"\",大会名簿!I50)","v":""}]
[null,"７",{"$f":"IF(大会名簿!E19=\"\",\"\",大会名簿!E19)","v":""},{"$f":"IF(大会名簿!F19=\"\",\"\",大会名簿!F19)","v":""},{"$f":"IF(大会名簿!G19=\"\",\"\",大会名簿!G19)","v":""},{"$f":"IF(大会名簿!I19=\"\",\"\",大会名簿!I19)","v":""},null,"７",{"$f":"IF(大会名簿!E51=\"\",\"\",大会名簿!E51)","v":""},{"$f":"IF(大会名簿!F51=\"\",\"\",大会名簿!F51)","v":""},{"$f":"IF(大会名簿!G51=\"\",\"\",大会名簿!G51)","v":""},{"$f":"IF(大会名簿!I51=\"\",\"\",大会名簿!I51)","v":""}]
[null,"８",{"$f":"IF(大会名簿!E20=\"\",\"\",大会名簿!E20)","v":""},{"$f":"IF(大会名簿!F20=\"\",\"\",大会名簿!F20)","v":""},{"$f":"IF(大会名簿!G20=\"\",\"\",大会名簿!G20)","v":""},{"$f":"IF(大会名簿!I20=\"\",\"\",大会名簿!I20)","v":""},null,"８",{"$f":"IF(大会名簿!E52=\"\",\"\",大会名簿!E52)","v":""},{"$f":"IF(大会名簿!F52=\"\",\"\",大会名簿!F52)","v":""},{"$f":"IF(大会名簿!G52=\"\",\"\",大会名簿!G52)","v":""},{"$f":"IF(大会名簿!I52=\"\",\"\",大会名簿!I52)","v":""}]
["３","1",{"$f":"IF(大会名簿!E21=\"\",\"\",大会名簿!E21)","v":""},{"$f":"IF(大会名簿!F21=\"\",\"\",大会名簿!F21)","v":""},{"$f":"IF(大会名簿!G21=\"\",\"\",大会名簿!G21)","v":""},{"$f":"IF(大会名簿!I21=\"\",\"\",大会名簿!I21)","v":""},"７","1",{"$f":"IF(大会名簿!E53=\"\",\"\",大会名簿!E53)","v":""},{"$f":"IF(大会名簿!F53=\"\",\"\",大会名簿!F53)","v":""},{"$f":"IF(大会名簿!G53=\"\",\"\",大会名簿!G53)","v":""},{"$f":"IF(大会名簿!I53=\"\",\"\",大会名簿!I53)","v":""}]
[null,"２",{"$f":"IF(大会名簿!E22=\"\",\"\",大会名簿!E22)","v":""},{"$f":"IF(大会名簿!F22=\"\",\"\",大会名簿!F22)","v":""},{"$f":"IF(大会名簿!G22=\"\",\"\",大会名簿!G22)","v":""},{"$f":"IF(大会名簿!I22=\"\",\"\",大会名簿!I22)","v":""},null,"２",{"$f":"IF(大会名簿!E54=\"\",\"\",大会名簿!E54)","v":""},{"$f":"IF(大会名簿!F54=\"\",\"\",大会名簿!F54)","v":""},{"$f":"IF(大会名簿!G54=\"\",\"\",大会名簿!G54)","v":""},{"$f":"IF(大会名簿!I54=\"\",\"\",大会名簿!I54)","v":""}]
[null,"３",{"$f":"IF(大会名簿!E23=\"\",\"\",大会名簿!E23)","v":""},{"$f":"IF(大会名簿!F23=\"\",\"\",大会名簿!F23)","v":""},{"$f":"IF(大会名簿!G23=\"\",\"\",大会名簿!G23)","v":""},{"$f":"IF(大会名簿!I23=\"\",\"\",大会名簿!I23)","v":""},null,"３",{"$f":"IF(大会名簿!E55=\"\",\"\",大会名簿!E55)","v":""},{"$f":"IF(大会名簿!F55=\"\",\"\",大会名簿!F55)","v":""},{"$f":"IF(大会名簿!G55=\"\",\"\",大会名簿!G55)","v":""},{"$f":"IF(大会名簿!I55=\"\",\"\",大会名簿!I55)","v":""}]
[null,"４",{"$f":"IF(大会名簿!E24=\"\",\"\",大会名簿!E24)","v":""},{"$f":"IF(大会名簿!F24=\"\",\"\",大会名簿!F24)","v":""},{"$f":"IF(大会名簿!G24=\"\",\"\",大会名簿!G24)","v":""},{"$f":"IF(大会名簿!I24=\"\",\"\",大会名簿!I24)","v":""},null,"４",{"$f":"IF(大会名簿!E56=\"\",\"\",大会名簿!E56)","v":""},{"$f":"IF(大会名簿!F56=\"\",\"\",大会名簿!F56)","v":""},{"$f":"IF(大会名簿!G56=\"\",\"\",大会名簿!G56)","v":""},{"$f":"IF(大会名簿!I56=\"\",\"\",大会名簿!I56)","v":""}]
["組","５",{"$f":"IF(大会名簿!E25=\"\",\"\",大会名簿!E25)","v":""},{"$f":"IF(大会名簿!F25=\"\",\"\",大会名簿!F25)","v":""},{"$f":"IF(大会名簿!G25=\"\",\"\",大会名簿!G25)","v":""},{"$f":"IF(大会名簿!I25=\"\",\"\",大会名簿!I25)","v":""},"組","５",{"$f":"IF(大会名簿!E57=\"\",\"\",大会名簿!E57)","v":""},{"$f":"IF(大会名簿!F57=\"\",\"\",大会名簿!F57)","v":""},{"$f":"IF(大会名簿!G57=\"\",\"\",大会名簿!G57)","v":""},{"$f":"IF(大会名簿!I57=\"\",\"\",大会名簿!I57)","v":""}]
[null,"６",{"$f":"IF(大会名簿!E26=\"\",\"\",大会名簿!E26)","v":""},{"$f":"IF(大会名簿!F26=\"\",\"\",大会名簿!F26)","v":""},{"$f":"IF(大会名簿!G26=\"\",\"\",大会名簿!G26)","v":""},{"$f":"IF(大会名簿!I26=\"\",\"\",大会名簿!I26)","v":""},null,"６",{"$f":"IF(大会名簿!E58=\"\",\"\",大会名簿!E58)","v":""},{"$f":"IF(大会名簿!F58=\"\",\"\",大会名簿!F58)","v":""},{"$f":"IF(大会名簿!G58=\"\",\"\",大会名簿!G58)","v":""},{"$f":"IF(大会名簿!I58=\"\",\"\",大会名簿!I58)","v":""}]
[null,"７",{"$f":"IF(大会名簿!E27=\"\",\"\",大会名簿!E27)","v":""},{"$f":"IF(大会名簿!F27=\"\",\"\",大会名簿!F27)","v":""},{"$f":"IF(大会名簿!G27=\"\",\"\",大会名簿!G27)","v":""},{"$f":"IF(大会名簿!I27=\"\",\"\",大会名簿!I27)","v":""},null,"７",{"$f":"IF(大会名簿!E59=\"\",\"\",大会名簿!E59)","v":""},{"$f":"IF(大会名簿!F59=\"\",\"\",大会名簿!F59)","v":""},{"$f":"IF(大会名簿!G59=\"\",\"\",大会名簿!G59)","v":""},{"$f":"IF(大会名簿!I59=\"\",\"\",大会名簿!I59)","v":""}]
[null,"８",{"$f":"IF(大会名簿!E28=\"\",\"\",大会名簿!E28)","v":""},{"$f":"IF(大会名簿!F28=\"\",\"\",大会名簿!F28)","v":""},{"$f":"IF(大会名簿!G28=\"\",\"\",大会名簿!G28)","v":""},{"$f":"IF(大会名簿!I28=\"\",\"\",大会名簿!I28)","v":""},null,"８",{"$f":"IF(大会名簿!E60=\"\",\"\",大会名簿!E60)","v":""},{"$f":"IF(大会名簿!F60=\"\",\"\",大会名簿!F60)","v":""},{"$f":"IF(大会名簿!G60=\"\",\"\",大会名簿!G60)","v":""},{"$f":"IF(大会名簿!I60=\"\",\"\",大会名簿!I60)","v":""}]
["４","1",{"$f":"IF(大会名簿!E29=\"\",\"\",大会名簿!E29)","v":""},{"$f":"IF(大会名簿!F29=\"\",\"\",大会名簿!F29)","v":""},{"$f":"IF(大会名簿!G29=\"\",\"\",大会名簿!G29)","v":""},{"$f":"IF(大会名簿!I29=\"\",\"\",大会名簿!I29)","v":""},"８","1",{"$f":"IF(大会名簿!E61=\"\",\"\",大会名簿!E61)","v":""},{"$f":"IF(大会名簿!F61=\"\",\"\",大会名簿!F61)","v":""},{"$f":"IF(大会名簿!G61=\"\",\"\",大会名簿!G61)","v":""},{"$f":"IF(大会名簿!I61=\"\",\"\",大会名簿!I61)","v":""}]
[null,"２",{"$f":"IF(大会名簿!E30=\"\",\"\",大会名簿!E30)","v":""},{"$f":"IF(大会名簿!F30=\"\",\"\",大会名簿!F30)","v":""},{"$f":"IF(大会名簿!G30=\"\",\"\",大会名簿!G30)","v":""},{"$f":"IF(大会名簿!I30=\"\",\"\",大会名簿!I30)","v":""},null,"２",{"$f":"IF(大会名簿!E62=\"\",\"\",大会名簿!E62)","v":""},{"$f":"IF(大会名簿!F62=\"\",\"\",大会名簿!F62)","v":""},{"$f":"IF(大会名簿!G62=\"\",\"\",大会名簿!G62)","v":""},{"$f":"IF(大会名簿!I62=\"\",\"\",大会名簿!I62)","v":""}]
[null,"３",{"$f":"IF(大会名簿!E31=\"\",\"\",大会名簿!E31)","v":""},{"$f":"IF(大会名簿!F31=\"\",\"\",大会名簿!F31)","v":""},{"$f":"IF(大会名簿!G31=\"\",\"\",大会名簿!G31)","v":""},{"$f":"IF(大会名簿!I31=\"\",\"\",大会名簿!I31)","v":""},null,"３",{"$f":"IF(大会名簿!E63=\"\",\"\",大会名簿!E63)","v":""},{"$f":"IF(大会名簿!F63=\"\",\"\",大会名簿!F63)","v":""},{"$f":"IF(大会名簿!G63=\"\",\"\",大会名簿!G63)","v":""},{"$f":"IF(大会名簿!I63=\"\",\"\",大会名簿!I63)","v":""}]
[null,"４",{"$f":"IF(大会名簿!E32=\"\",\"\",大会名簿!E32)","v":""},{"$f":"IF(大会名簿!F32=\"\",\"\",大会名簿!F32)","v":""},{"$f":"IF(大会名簿!G32=\"\",\"\",大会名簿!G32)","v":""},{"$f":"IF(大会名簿!I32=\"\",\"\",大会名簿!I32)","v":""},null,"４",{"$f":"IF(大会名簿!E64=\"\",\"\",大会名簿!E64)","v":""},{"$f":"IF(大会名簿!F64=\"\",\"\",大会名簿!F64)","v":""},{"$f":"IF(大会名簿!G64=\"\",\"\",大会名簿!G64)","v":""},{"$f":"IF(大会名簿!I64=\"\",\"\",大会名簿!I64)","v":""}]
["組","５",{"$f":"IF(大会名簿!E33=\"\",\"\",大会名簿!E33)","v":""},{"$f":"IF(大会名簿!F33=\"\",\"\",大会名簿!F33)","v":""},{"$f":"IF(大会名簿!G33=\"\",\"\",大会名簿!G33)","v":""},{"$f":"IF(大会名簿!I33=\"\",\"\",大会名簿!I33)","v":""},"組","５",{"$f":"IF(大会名簿!E65=\"\",\"\",大会名簿!E65)","v":""},{"$f":"IF(大会名簿!F65=\"\",\"\",大会名簿!F65)","v":""},{"$f":"IF(大会名簿!G65=\"\",\"\",大会名簿!G65)","v":""},{"$f":"IF(大会名簿!I65=\"\",\"\",大会名簿!I65)","v":""}]
[null,"６",{"$f":"IF(大会名簿!E34=\"\",\"\",大会名簿!E34)","v":""},{"$f":"IF(大会名簿!F34=\"\",\"\",大会名簿!F34)","v":""},{"$f":"IF(大会名簿!G34=\"\",\"\",大会名簿!G34)","v":""},{"$f":"IF(大会名簿!I34=\"\",\"\",大会名簿!I34)","v":""},null,"６",{"$f":"IF(大会名簿!E66=\"\",\"\",大会名簿!E66)","v":""},{"$f":"IF(大会名簿!F66=\"\",\"\",大会名簿!F66)","v":""},{"$f":"IF(大会名簿!G66=\"\",\"\",大会名簿!G66)","v":""},{"$f":"IF(大会名簿!I66=\"\",\"\",大会名簿!I66)","v":""}]
[null,"７",{"$f":"IF(大会名簿!E35=\"\",\"\",大会名簿!E35)","v":""},{"$f":"IF(大会名簿!F35=\"\",\"\",大会名簿!F35)","v":""},{"$f":"IF(大会名簿!G35=\"\",\"\",大会名簿!G35)","v":""},{"$f":"IF(大会名簿!I35=\"\",\"\",大会名簿!I35)","v":""},null,"７",{"$f":"IF(大会名簿!E67=\"\",\"\",大会名簿!E67)","v":""},{"$f":"IF(大会名簿!F67=\"\",\"\",大会名簿!F67)","v":""},{"$f":"IF(大会名簿!G67=\"\",\"\",大会名簿!G67)","v":""},{"$f":"IF(大会名簿!I67=\"\",\"\",大会名簿!I67)","v":""}]
[null,"８",{"$f":"IF(大会名簿!E36=\"\",\"\",大会名簿!E36)","v":""},{"$f":"IF(大会名簿!F36=\"\",\"\",大会名簿!F36)","v":""},{"$f":"IF(大会名簿!G36=\"\",\"\",大会名簿!G36)","v":""},{"$f":"IF(大会名簿!I36=\"\",\"\",大会名簿!I36)","v":""},null,"８",{"$f":"IF(大会名簿!E68=\"\",\"\",大会名簿!E68)","v":""},{"$f":"IF(大会名簿!F68=\"\",\"\",大会名簿!F68)","v":""},{"$f":"IF(大会名簿!G68=\"\",\"\",大会名簿!G68)","v":""},{"$f":"IF(大会名簿!I68=\"\",\"\",大会名簿!I68)","v":""}]
["９","1",{"$f":"IF(大会名簿!E69=\"\",\"\",大会名簿!E69)","v":""},{"$f":"IF(大会名簿!F69=\"\",\"\",大会名簿!F69)","v":""},{"$f":"IF(大会名簿!G69=\"\",\"\",大会名簿!G69)","v":""},{"$f":"IF(大会名簿!I69=\"\",\"\",大会名簿!I69)","v":""},13,"1",{"$f":"IF(大会名簿!E101=\"\",\"\",大会名簿!E101)","v":""},{"$f":"IF(大会名簿!F101=\"\",\"\",大会名簿!F101)","v":""},{"$f":"IF(大会名簿!G101=\"\",\"\",大会名簿!G101)","v":""},{"$f":"IF(大会名簿!I101=\"\",\"\",大会名簿!I101)","v":""}]
[null,"２",{"$f":"IF(大会名簿!E70=\"\",\"\",大会名簿!E70)","v":""},{"$f":"IF(大会名簿!F70=\"\",\"\",大会名簿!F70)","v":""},{"$f":"IF(大会名簿!G70=\"\",\"\",大会名簿!G70)","v":""},{"$f":"IF(大会名簿!I70=\"\",\"\",大会名簿!I70)","v":""},null,"２",{"$f":"IF(大会名簿!E102=\"\",\"\",大会名簿!E102)","v":""},{"$f":"IF(大会名簿!F102=\"\",\"\",大会名簿!F102)","v":""},{"$f":"IF(大会名簿!G102=\"\",\"\",大会名簿!G102)","v":""},{"$f":"IF(大会名簿!I102=\"\",\"\",大会名簿!I102)","v":""}]
[null,"３",{"$f":"IF(大会名簿!E71=\"\",\"\",大会名簿!E71)","v":""},{"$f":"IF(大会名簿!F71=\"\",\"\",大会名簿!F71)","v":""},{"$f":"IF(大会名簿!G71=\"\",\"\",大会名簿!G71)","v":""},{"$f":"IF(大会名簿!I71=\"\",\"\",大会名簿!I71)","v":""},null,"３",{"$f":"IF(大会名簿!E103=\"\",\"\",大会名簿!E103)","v":""},{"$f":"IF(大会名簿!F103=\"\",\"\",大会名簿!F103)","v":""},{"$f":"IF(大会名簿!G103=\"\",\"\",大会名簿!G103)","v":""},{"$f":"IF(大会名簿!I103=\"\",\"\",大会名簿!I103)","v":""}]
[null,"４",{"$f":"IF(大会名簿!E72=\"\",\"\",大会名簿!E72)","v":""},{"$f":"IF(大会名簿!F72=\"\",\"\",大会名簿!F72)","v":""},{"$f":"IF(大会名簿!G72=\"\",\"\",大会名簿!G72)","v":""},{"$f":"IF(大会名簿!I72=\"\",\"\",大会名簿!I72)","v":""},null,"４",{"$f":"IF(大会名簿!E104=\"\",\"\",大会名簿!E104)","v":""},{"$f":"IF(大会名簿!F104=\"\",\"\",大会名簿!F104)","v":""},{"$f":"IF(大会名簿!G104=\"\",\"\",大会名簿!G104)","v":""},{"$f":"IF(大会名簿!I104=\"\",\"\",大会名簿!I104)","v":""}]
["組","５",{"$f":"IF(大会名簿!E73=\"\",\"\",大会名簿!E73)","v":""},{"$f":"IF(大会名簿!F73=\"\",\"\",大会名簿!F73)","v":""},{"$f":"IF(大会名簿!G73=\"\",\"\",大会名簿!G73)","v":""},{"$f":"IF(大会名簿!I73=\"\",\"\",大会名簿!I73)","v":""},"組","５",{"$f":"IF(大会名簿!E105=\"\",\"\",大会名簿!E105)","v":""},{"$f":"IF(大会名簿!F105=\"\",\"\",大会名簿!F105)","v":""},{"$f":"IF(大会名簿!G105=\"\",\"\",大会名簿!G105)","v":""},{"$f":"IF(大会名簿!I105=\"\",\"\",大会名簿!I105)","v":""}]
[null,"６",{"$f":"IF(大会名簿!E74=\"\",\"\",大会名簿!E74)","v":""},{"$f":"IF(大会名簿!F74=\"\",\"\",大会名簿!F74)","v":""},{"$f":"IF(大会名簿!G74=\"\",\"\",大会名簿!G74)","v":""},{"$f":"IF(大会名簿!I74=\"\",\"\",大会名簿!I74)","v":""},null,"６",{"$f":"IF(大会名簿!E106=\"\",\"\",大会名簿!E106)","v":""},{"$f":"IF(大会名簿!F106=\"\",\"\",大会名簿!F106)","v":""},{"$f":"IF(大会名簿!G106=\"\",\"\",大会名簿!G106)","v":""},{"$f":"IF(大会名簿!I106=\"\",\"\",大会名簿!I106)","v":""}]
[null,"７",{"$f":"IF(大会名簿!E75=\"\",\"\",大会名簿!E75)","v":""},{"$f":"IF(大会名簿!F75=\"\",\"\",大会名簿!F75)","v":""},{"$f":"IF(大会名簿!G75=\"\",\"\",大会名簿!G75)","v":""},{"$f":"IF(大会名簿!I75=\"\",\"\",大会名簿!I75)","v":""},null,"７",{"$f":"IF(大会名簿!E107=\"\",\"\",大会名簿!E107)","v":""},{"$f":"IF(大会名簿!F107=\"\",\"\",大会名簿!F107)","v":""},{"$f":"IF(大会名簿!G107=\"\",\"\",大会名簿!G107)","v":""},{"$f":"IF(大会名簿!I107=\"\",\"\",大会名簿!I107)","v":""}]
[null,"８",{"$f":"IF(大会名簿!E76=\"\",\"\",大会名簿!E76)","v":""},{"$f":"IF(大会名簿!F76=\"\",\"\",大会名簿!F76)","v":""},{"$f":"IF(大会名簿!G76=\"\",\"\",大会名簿!G76)","v":""},{"$f":"IF(大会名簿!I76=\"\",\"\",大会名簿!I76)","v":""},null,"８",{"$f":"IF(大会名簿!E108=\"\",\"\",大会名簿!E108)","v":""},{"$f":"IF(大会名簿!F108=\"\",\"\",大会名簿!F108)","v":""},{"$f":"IF(大会名簿!G108=\"\",\"\",大会名簿!G108)","v":""},{"$f":"IF(大会名簿!I108=\"\",\"\",大会名簿!I108)","v":""}]
[10,"1",{"$f":"IF(大会名簿!E77=\"\",\"\",大会名簿!E77)","v":""},{"$f":"IF(大会名簿!F77=\"\",\"\",大会名簿!F77)","v":""},{"$f":"IF(大会名簿!G77=\"\",\"\",大会名簿!G77)","v":""},{"$f":"IF(大会名簿!I77=\"\",\"\",大会名簿!I77)","v":""},14,"1",{"$f":"IF(大会名簿!E109=\"\",\"\",大会名簿!E109)","v":""},{"$f":"IF(大会名簿!F109=\"\",\"\",大会名簿!F109)","v":""},{"$f":"IF(大会名簿!G109=\"\",\"\",大会名簿!G109)","v":""},{"$f":"IF(大会名簿!I109=\"\",\"\",大会名簿!I109)","v":""}]
[null,"２",{"$f":"IF(大会名簿!E78=\"\",\"\",大会名簿!E78)","v":""},{"$f":"IF(大会名簿!F78=\"\",\"\",大会名簿!F78)","v":""},{"$f":"IF(大会名簿!G78=\"\",\"\",大会名簿!G78)","v":""},{"$f":"IF(大会名簿!I78=\"\",\"\",大会名簿!I78)","v":""},null,"２",{"$f":"IF(大会名簿!E110=\"\",\"\",大会名簿!E110)","v":""},{"$f":"IF(大会名簿!F110=\"\",\"\",大会名簿!F110)","v":""},{"$f":"IF(大会名簿!G110=\"\",\"\",大会名簿!G110)","v":""},{"$f":"IF(大会名簿!I110=\"\",\"\",大会名簿!I110)","v":""}]
[null,"３",{"$f":"IF(大会名簿!E79=\"\",\"\",大会名簿!E79)","v":""},{"$f":"IF(大会名簿!F79=\"\",\"\",大会名簿!F79)","v":""},{"$f":"IF(大会名簿!G79=\"\",\"\",大会名簿!G79)","v":""},{"$f":"IF(大会名簿!I79=\"\",\"\",大会名簿!I79)","v":""},null,"３",{"$f":"IF(大会名簿!E111=\"\",\"\",大会名簿!E111)","v":""},{"$f":"IF(大会名簿!F111=\"\",\"\",大会名簿!F111)","v":""},{"$f":"IF(大会名簿!G111=\"\",\"\",大会名簿!G111)","v":""},{"$f":"IF(大会名簿!I111=\"\",\"\",大会名簿!I111)","v":""}]
[null,"４",{"$f":"IF(大会名簿!E80=\"\",\"\",大会名簿!E80)","v":""},{"$f":"IF(大会名簿!F80=\"\",\"\",大会名簿!F80)","v":""},{"$f":"IF(大会名簿!G80=\"\",\"\",大会名簿!G80)","v":""},{"$f":"IF(大会名簿!I80=\"\",\"\",大会名簿!I80)","v":""},null,"４",{"$f":"IF(大会名簿!E112=\"\",\"\",大会名簿!E112)","v":""},{"$f":"IF(大会名簿!F112=\"\",\"\",大会名簿!F112)","v":""},{"$f":"IF(大会名簿!G112=\"\",\"\",大会名簿!G112)","v":""},{"$f":"IF(大会名簿!I112=\"\",\"\",大会名簿!I112)","v":""}]
["組","５",{"$f":"IF(大会名簿!E81=\"\",\"\",大会名簿!E81)","v":""},{"$f":"IF(大会名簿!F81=\"\",\"\",大会名簿!F81)","v":""},{"$f":"IF(大会名簿!G81=\"\",\"\",大会名簿!G81)","v":""},{"$f":"IF(大会名簿!I81=\"\",\"\",大会名簿!I81)","v":""},"組","５",{"$f":"IF(大会名簿!E113=\"\",\"\",大会名簿!E113)","v":""},{"$f":"IF(大会名簿!F113=\"\",\"\",大会名簿!F113)","v":""},{"$f":"IF(大会名簿!G113=\"\",\"\",大会名簿!G113)","v":""},{"$f":"IF(大会名簿!I113=\"\",\"\",大会名簿!I113)","v":""}]
[null,"６",{"$f":"IF(大会名簿!E82=\"\",\"\",大会名簿!E82)","v":""},{"$f":"IF(大会名簿!F82=\"\",\"\",大会名簿!F82)","v":""},{"$f":"IF(大会名簿!G82=\"\",\"\",大会名簿!G82)","v":""},{"$f":"IF(大会名簿!I82=\"\",\"\",大会名簿!I82)","v":""},null,"６",{"$f":"IF(大会名簿!E114=\"\",\"\",大会名簿!E114)","v":""},{"$f":"IF(大会名簿!F114=\"\",\"\",大会名簿!F114)","v":""},{"$f":"IF(大会名簿!G114=\"\",\"\",大会名簿!G114)","v":""},{"$f":"IF(大会名簿!I114=\"\",\"\",大会名簿!I114)","v":""}]
[null,"７",{"$f":"IF(大会名簿!E83=\"\",\"\",大会名簿!E83)","v":""},{"$f":"IF(大会名簿!F83=\"\",\"\",大会名簿!F83)","v":""},{"$f":"IF(大会名簿!G83=\"\",\"\",大会名簿!G83)","v":""},{"$f":"IF(大会名簿!I83=\"\",\"\",大会名簿!I83)","v":""},null,"７",{"$f":"IF(大会名簿!E115=\"\",\"\",大会名簿!E115)","v":""},{"$f":"IF(大会名簿!F115=\"\",\"\",大会名簿!F115)","v":""},{"$f":"IF(大会名簿!G115=\"\",\"\",大会名簿!G115)","v":""},{"$f":"IF(大会名簿!I115=\"\",\"\",大会名簿!I115)","v":""}]
[null,"８",{"$f":"IF(大会名簿!E84=\"\",\"\",大会名簿!E84)","v":""},{"$f":"IF(大会名簿!F84=\"\",\"\",大会名簿!F84)","v":""},{"$f":"IF(大会名簿!G84=\"\",\"\",大会名簿!G84)","v":""},{"$f":"IF(大会名簿!I84=\"\",\"\",大会名簿!I84)","v":""},null,"８",{"$f":"IF(大会名簿!E116=\"\",\"\",大会名簿!E116)","v":""},{"$f":"IF(大会名簿!F116=\"\",\"\",大会名簿!F116)","v":""},{"$f":"IF(大会名簿!G116=\"\",\"\",大会名簿!G116)","v":""},{"$f":"IF(大会名簿!I116=\"\",\"\",大会名簿!I116)","v":""}]
[11,"1",{"$f":"IF(大会名簿!E85=\"\",\"\",大会名簿!E85)","v":""},{"$f":"IF(大会名簿!F85=\"\",\"\",大会名簿!F85)","v":""},{"$f":"IF(大会名簿!G85=\"\",\"\",大会名簿!G85)","v":""},{"$f":"IF(大会名簿!I85=\"\",\"\",大会名簿!I85)","v":""},15,"1",{"$f":"IF(大会名簿!E117=\"\",\"\",大会名簿!E117)","v":""},{"$f":"IF(大会名簿!F117=\"\",\"\",大会名簿!F117)","v":""},{"$f":"IF(大会名簿!G117=\"\",\"\",大会名簿!G117)","v":""},{"$f":"IF(大会名簿!I117=\"\",\"\",大会名簿!I117)","v":""}]
[null,"２",{"$f":"IF(大会名簿!E86=\"\",\"\",大会名簿!E86)","v":""},{"$f":"IF(大会名簿!F86=\"\",\"\",大会名簿!F86)","v":""},{"$f":"IF(大会名簿!G86=\"\",\"\",大会名簿!G86)","v":""},{"$f":"IF(大会名簿!I86=\"\",\"\",大会名簿!I86)","v":""},null,"２",{"$f":"IF(大会名簿!E118=\"\",\"\",大会名簿!E118)","v":""},{"$f":"IF(大会名簿!F118=\"\",\"\",大会名簿!F118)","v":""},{"$f":"IF(大会名簿!G118=\"\",\"\",大会名簿!G118)","v":""},{"$f":"IF(大会名簿!I118=\"\",\"\",大会名簿!I118)","v":""}]
[null,"３",{"$f":"IF(大会名簿!E87=\"\",\"\",大会名簿!E87)","v":""},{"$f":"IF(大会名簿!F87=\"\",\"\",大会名簿!F87)","v":""},{"$f":"IF(大会名簿!G87=\"\",\"\",大会名簿!G87)","v":""},{"$f":"IF(大会名簿!I87=\"\",\"\",大会名簿!I87)","v":""},null,"３",{"$f":"IF(大会名簿!E119=\"\",\"\",大会名簿!E119)","v":""},{"$f":"IF(大会名簿!F119=\"\",\"\",大会名簿!F119)","v":""},{"$f":"IF(大会名簿!G119=\"\",\"\",大会名簿!G119)","v":""},{"$f":"IF(大会名簿!I119=\"\",\"\",大会名簿!I119)","v":""}]
[null,"４",{"$f":"IF(大会名簿!E88=\"\",\"\",大会名簿!E88)","v":""},{"$f":"IF(大会名簿!F88=\"\",\"\",大会名簿!F88)","v":""},{"$f":"IF(大会名簿!G88=\"\",\"\",大会名簿!G88)","v":""},{"$f":"IF(大会名簿!I88=\"\",\"\",大会名簿!I88)","v":""},null,"４",{"$f":"IF(大会名簿!E120=\"\",\"\",大会名簿!E120)","v":""},{"$f":"IF(大会名簿!F120=\"\",\"\",大会名簿!F120)","v":""},{"$f":"IF(大会名簿!G120=\"\",\"\",大会名簿!G120)","v":""},{"$f":"IF(大会名簿!I120=\"\",\"\",大会名簿!I120)","v":""}]
["組","５",{"$f":"IF(大会名簿!E89=\"\",\"\",大会名簿!E89)","v":""},{"$f":"IF(大会名簿!F89=\"\",\"\",大会名簿!F89)","v":""},{"$f":"IF(大会名簿!G89=\"\",\"\",大会名簿!G89)","v":""},{"$f":"IF(大会名簿!I89=\"\",\"\",大会名簿!I89)","v":""},"組","５",{"$f":"IF(大会名簿!E121=\"\",\"\",大会名簿!E121)","v":""},{"$f":"IF(大会名簿!F121=\"\",\"\",大会名簿!F121)","v":""},{"$f":"IF(大会名簿!G121=\"\",\"\",大会名簿!G121)","v":""},{"$f":"IF(大会名簿!I121=\"\",\"\",大会名簿!I121)","v":""}]
[null,"６",{"$f":"IF(大会名簿!E90=\"\",\"\",大会名簿!E90)","v":""},{"$f":"IF(大会名簿!F90=\"\",\"\",大会名簿!F90)","v":""},{"$f":"IF(大会名簿!G90=\"\",\"\",大会名簿!G90)","v":""},{"$f":"IF(大会名簿!I90=\"\",\"\",大会名簿!I90)","v":""},null,"６",{"$f":"IF(大会名簿!E122=\"\",\"\",大会名簿!E122)","v":""},{"$f":"IF(大会名簿!F122=\"\",\"\",大会名簿!F122)","v":""},{"$f":"IF(大会名簿!G122=\"\",\"\",大会名簿!G122)","v":""},{"$f":"IF(大会名簿!I122=\"\",\"\",大会名簿!I122)","v":""}]
[null,"７",{"$f":"IF(大会名簿!E91=\"\",\"\",大会名簿!E91)","v":""},{"$f":"IF(大会名簿!F91=\"\",\"\",大会名簿!F91)","v":""},{"$f":"IF(大会名簿!G91=\"\",\"\",大会名簿!G91)","v":""},{"$f":"IF(大会名簿!I91=\"\",\"\",大会名簿!I91)","v":""},null,"７",{"$f":"IF(大会名簿!E123=\"\",\"\",大会名簿!E123)","v":""},{"$f":"IF(大会名簿!F123=\"\",\"\",大会名簿!F123)","v":""},{"$f":"IF(大会名簿!G123=\"\",\"\",大会名簿!G123)","v":""},{"$f":"IF(大会名簿!I123=\"\",\"\",大会名簿!I123)","v":""}]
[null,"８",{"$f":"IF(大会名簿!E92=\"\",\"\",大会名簿!E92)","v":""},{"$f":"IF(大会名簿!F92=\"\",\"\",大会名簿!F92)","v":""},{"$f":"IF(大会名簿!G92=\"\",\"\",大会名簿!G92)","v":""},{"$f":"IF(大会名簿!I92=\"\",\"\",大会名簿!I92)","v":""},null,"８",{"$f":"IF(大会名簿!E124=\"\",\"\",大会名簿!E124)","v":""},{"$f":"IF(大会名簿!F124=\"\",\"\",大会名簿!F124)","v":""},{"$f":"IF(大会名簿!G124=\"\",\"\",大会名簿!G124)","v":""},{"$f":"IF(大会名簿!I124=\"\",\"\",大会名簿!I124)","v":""}]
[12,"1",{"$f":"IF(大会名簿!E93=\"\",\"\",大会名簿!E93)","v":""},{"$f":"IF(大会名簿!F93=\"\",\"\",大会名簿!F93)","v":""},{"$f":"IF(大会名簿!G93=\"\",\"\",大会名簿!G93)","v":""},{"$f":"IF(大会名簿!I93=\"\",\"\",大会名簿!I93)","v":""},16,"1",{"$f":"IF(大会名簿!E125=\"\",\"\",大会名簿!E125)","v":""},{"$f":"IF(大会名簿!F125=\"\",\"\",大会名簿!F125)","v":""},{"$f":"IF(大会名簿!G125=\"\",\"\",大会名簿!G125)","v":""},{"$f":"IF(大会名簿!I125=\"\",\"\",大会名簿!I125)","v":""}]
[null,"２",{"$f":"IF(大会名簿!E94=\"\",\"\",大会名簿!E94)","v":""},{"$f":"IF(大会名簿!F94=\"\",\"\",大会名簿!F94)","v":""},{"$f":"IF(大会名簿!G94=\"\",\"\",大会名簿!G94)","v":""},{"$f":"IF(大会名簿!I94=\"\",\"\",大会名簿!I94)","v":""},null,"２",{"$f":"IF(大会名簿!E126=\"\",\"\",大会名簿!E126)","v":""},{"$f":"IF(大会名簿!F126=\"\",\"\",大会名簿!F126)","v":""},{"$f":"IF(大会名簿!G126=\"\",\"\",大会名簿!G126)","v":""},{"$f":"IF(大会名簿!I126=\"\",\"\",大会名簿!I126)","v":""}]
[null,"３",{"$f":"IF(大会名簿!E95=\"\",\"\",大会名簿!E95)","v":""},{"$f":"IF(大会名簿!F95=\"\",\"\",大会名簿!F95)","v":""},{"$f":"IF(大会名簿!G95=\"\",\"\",大会名簿!G95)","v":""},{"$f":"IF(大会名簿!I95=\"\",\"\",大会名簿!I95)","v":""},null,"３",{"$f":"IF(大会名簿!E127=\"\",\"\",大会名簿!E127)","v":""},{"$f":"IF(大会名簿!F127=\"\",\"\",大会名簿!F127)","v":""},{"$f":"IF(大会名簿!G127=\"\",\"\",大会名簿!G127)","v":""},{"$f":"IF(大会名簿!I127=\"\",\"\",大会名簿!I127)","v":""}]
[null,"４",{"$f":"IF(大会名簿!E96=\"\",\"\",大会名簿!E96)","v":""},{"$f":"IF(大会名簿!F96=\"\",\"\",大会名簿!F96)","v":""},{"$f":"IF(大会名簿!G96=\"\",\"\",大会名簿!G96)","v":""},{"$f":"IF(大会名簿!I96=\"\",\"\",大会名簿!I96)","v":""},null,"４",{"$f":"IF(大会名簿!E128=\"\",\"\",大会名簿!E128)","v":""},{"$f":"IF(大会名簿!F128=\"\",\"\",大会名簿!F128)","v":""},{"$f":"IF(大会名簿!G128=\"\",\"\",大会名簿!G128)","v":""},{"$f":"IF(大会名簿!I128=\"\",\"\",大会名簿!I128)","v":""}]
["組","５",{"$f":"IF(大会名簿!E97=\"\",\"\",大会名簿!E97)","v":""},{"$f":"IF(大会名簿!F97=\"\",\"\",大会名簿!F97)","v":""},{"$f":"IF(大会名簿!G97=\"\",\"\",大会名簿!G97)","v":""},{"$f":"IF(大会名簿!I97=\"\",\"\",大会名簿!I97)","v":""},"組","５",{"$f":"IF(大会名簿!E129=\"\",\"\",大会名簿!E129)","v":""},{"$f":"IF(大会名簿!F129=\"\",\"\",大会名簿!F129)","v":""},{"$f":"IF(大会名簿!G129=\"\",\"\",大会名簿!G129)","v":""},{"$f":"IF(大会名簿!I129=\"\",\"\",大会名簿!I129)","v":""}]
[null,"６",{"$f":"IF(大会名簿!E98=\"\",\"\",大会名簿!E98)","v":""},{"$f":"IF(大会名簿!F98=\"\",\"\",大会名簿!F98)","v":""},{"$f":"IF(大会名簿!G98=\"\",\"\",大会名簿!G98)","v":""},{"$f":"IF(大会名簿!I98=\"\",\"\",大会名簿!I98)","v":""},null,"６",{"$f":"IF(大会名簿!E130=\"\",\"\",大会名簿!E130)","v":""},{"$f":"IF(大会名簿!F130=\"\",\"\",大会名簿!F130)","v":""},{"$f":"IF(大会名簿!G130=\"\",\"\",大会名簿!G130)","v":""},{"$f":"IF(大会名簿!I130=\"\",\"\",大会名簿!I130)","v":""}]
[null,"７",{"$f":"IF(大会名簿!E99=\"\",\"\",大会名簿!E99)","v":""},{"$f":"IF(大会名簿!F99=\"\",\"\",大会名簿!F99)","v":""},{"$f":"IF(大会名簿!G99=\"\",\"\",大会名簿!G99)","v":""},{"$f":"IF(大会名簿!I99=\"\",\"\",大会名簿!I99)","v":""},null,"７",{"$f":"IF(大会名簿!E131=\"\",\"\",大会名簿!E131)","v":""},{"$f":"IF(大会名簿!F131=\"\",\"\",大会名簿!F131)","v":""},{"$f":"IF(大会名簿!G131=\"\",\"\",大会名簿!G131)","v":""},{"$f":"IF(大会名簿!I131=\"\",\"\",大会名簿!I131)","v":""}]
[null,"８",{"$f":"IF(大会名簿!E100=\"\",\"\",大会名簿!E100)","v":""},{"$f":"IF(大会名簿!F100=\"\",\"\",大会名簿!F100)","v":""},{"$f":"IF(大会名簿!G100=\"\",\"\",大会名簿!G100)","v":""},{"$f":"IF(大会名簿!I100=\"\",\"\",大会名簿!I100)","v":""},null,"８",{"$f":"IF(大会名簿!E132=\"\",\"\",大会名簿!E132)","v":""},{"$f":"IF(大会名簿!F132=\"\",\"\",大会名簿!F132)","v":""},{"$f":"IF(大会名簿!G132=\"\",\"\",大会名簿!G132)","v":""},{"$f":"IF(大会名簿!I132=\"\",\"\",大会名簿!I132)","v":""}]
[17,"1",{"$f":"IF(大会名簿!E133=\"\",\"\",大会名簿!E133)","v":""},{"$f":"IF(大会名簿!F133=\"\",\"\",大会名簿!F133)","v":""},{"$f":"IF(大会名簿!G133=\"\",\"\",大会名簿!G133)","v":""},{"$f":"IF(大会名簿!I133=\"\",\"\",大会名簿!I133)","v":""},21,"1",{"$f":"IF(大会名簿!E165=\"\",\"\",大会名簿!E165)","v":""},{"$f":"IF(大会名簿!F165=\"\",\"\",大会名簿!F165)","v":""},{"$f":"IF(大会名簿!G165=\"\",\"\",大会名簿!G165)","v":""},{"$f":"IF(大会名簿!I165=\"\",\"\",大会名簿!I165)","v":""}]
[null,"２",{"$f":"IF(大会名簿!E134=\"\",\"\",大会名簿!E134)","v":""},{"$f":"IF(大会名簿!F134=\"\",\"\",大会名簿!F134)","v":""},{"$f":"IF(大会名簿!G134=\"\",\"\",大会名簿!G134)","v":""},{"$f":"IF(大会名簿!I134=\"\",\"\",大会名簿!I134)","v":""},null,"２",{"$f":"IF(大会名簿!E166=\"\",\"\",大会名簿!E166)","v":""},{"$f":"IF(大会名簿!F166=\"\",\"\",大会名簿!F166)","v":""},{"$f":"IF(大会名簿!G166=\"\",\"\",大会名簿!G166)","v":""},{"$f":"IF(大会名簿!I166=\"\",\"\",大会名簿!I166)","v":""}]
[null,"３",{"$f":"IF(大会名簿!E135=\"\",\"\",大会名簿!E135)","v":""},{"$f":"IF(大会名簿!F135=\"\",\"\",大会名簿!F135)","v":""},{"$f":"IF(大会名簿!G135=\"\",\"\",大会名簿!G135)","v":""},{"$f":"IF(大会名簿!I135=\"\",\"\",大会名簿!I135)","v":""},null,"３",{"$f":"IF(大会名簿!E167=\"\",\"\",大会名簿!E167)","v":""},{"$f":"IF(大会名簿!F167=\"\",\"\",大会名簿!F167)","v":""},{"$f":"IF(大会名簿!G167=\"\",\"\",大会名簿!G167)","v":""},{"$f":"IF(大会名簿!I167=\"\",\"\",大会名簿!I167)","v":""}]
[null,"４",{"$f":"IF(大会名簿!E136=\"\",\"\",大会名簿!E136)","v":""},{"$f":"IF(大会名簿!F136=\"\",\"\",大会名簿!F136)","v":""},{"$f":"IF(大会名簿!G136=\"\",\"\",大会名簿!G136)","v":""},{"$f":"IF(大会名簿!I136=\"\",\"\",大会名簿!I136)","v":""},null,"４",{"$f":"IF(大会名簿!E168=\"\",\"\",大会名簿!E168)","v":""},{"$f":"IF(大会名簿!F168=\"\",\"\",大会名簿!F168)","v":""},{"$f":"IF(大会名簿!G168=\"\",\"\",大会名簿!G168)","v":""},{"$f":"IF(大会名簿!I168=\"\",\"\",大会名簿!I168)","v":""}]
["組","５",{"$f":"IF(大会名簿!E137=\"\",\"\",大会名簿!E137)","v":""},{"$f":"IF(大会名簿!F137=\"\",\"\",大会名簿!F137)","v":""},{"$f":"IF(大会名簿!G137=\"\",\"\",大会名簿!G137)","v":""},{"$f":"IF(大会名簿!I137=\"\",\"\",大会名簿!I137)","v":""},"組","５",{"$f":"IF(大会名簿!E169=\"\",\"\",大会名簿!E169)","v":""},{"$f":"IF(大会名簿!F169=\"\",\"\",大会名簿!F169)","v":""},{"$f":"IF(大会名簿!G169=\"\",\"\",大会名簿!G169)","v":""},{"$f":"IF(大会名簿!I169=\"\",\"\",大会名簿!I169)","v":""}]
[null,"６",{"$f":"IF(大会名簿!E138=\"\",\"\",大会名簿!E138)","v":""},{"$f":"IF(大会名簿!F138=\"\",\"\",大会名簿!F138)","v":""},{"$f":"IF(大会名簿!G138=\"\",\"\",大会名簿!G138)","v":""},{"$f":"IF(大会名簿!I138=\"\",\"\",大会名簿!I138)","v":""},null,"６",{"$f":"IF(大会名簿!E170=\"\",\"\",大会名簿!E170)","v":""},{"$f":"IF(大会名簿!F170=\"\",\"\",大会名簿!F170)","v":""},{"$f":"IF(大会名簿!G170=\"\",\"\",大会名簿!G170)","v":""},{"$f":"IF(大会名簿!I170=\"\",\"\",大会名簿!I170)","v":""}]
[null,"７",{"$f":"IF(大会名簿!E139=\"\",\"\",大会名簿!E139)","v":""},{"$f":"IF(大会名簿!F139=\"\",\"\",大会名簿!F139)","v":""},{"$f":"IF(大会名簿!G139=\"\",\"\",大会名簿!G139)","v":""},{"$f":"IF(大会名簿!I139=\"\",\"\",大会名簿!I139)","v":""},null,"７",{"$f":"IF(大会名簿!E171=\"\",\"\",大会名簿!E171)","v":""},{"$f":"IF(大会名簿!F171=\"\",\"\",大会名簿!F171)","v":""},{"$f":"IF(大会名簿!G171=\"\",\"\",大会名簿!G171)","v":""},{"$f":"IF(大会名簿!I171=\"\",\"\",大会名簿!I171)","v":""}]
[null,"８",{"$f":"IF(大会名簿!E140=\"\",\"\",大会名簿!E140)","v":""},{"$f":"IF(大会名簿!F140=\"\",\"\",大会名簿!F140)","v":""},{"$f":"IF(大会名簿!G140=\"\",\"\",大会名簿!G140)","v":""},{"$f":"IF(大会名簿!I140=\"\",\"\",大会名簿!I140)","v":""},null,"８",{"$f":"IF(大会名簿!E172=\"\",\"\",大会名簿!E172)","v":""},{"$f":"IF(大会名簿!F172=\"\",\"\",大会名簿!F172)","v":""},{"$f":"IF(大会名簿!G172=\"\",\"\",大会名簿!G172)","v":""},{"$f":"IF(大会名簿!I172=\"\",\"\",大会名簿!I172)","v":""}]
[18,"1",{"$f":"IF(大会名簿!E141=\"\",\"\",大会名簿!E141)","v":""},{"$f":"IF(大会名簿!F141=\"\",\"\",大会名簿!F141)","v":""},{"$f":"IF(大会名簿!G141=\"\",\"\",大会名簿!G141)","v":""},{"$f":"IF(大会名簿!I141=\"\",\"\",大会名簿!I141)","v":""},22,"1",{"$f":"IF(大会名簿!E173=\"\",\"\",大会名簿!E173)","v":""},{"$f":"IF(大会名簿!F173=\"\",\"\",大会名簿!F173)","v":""},{"$f":"IF(大会名簿!G173=\"\",\"\",大会名簿!G173)","v":""},{"$f":"IF(大会名簿!I173=\"\",\"\",大会名簿!I173)","v":""}]
[null,"２",{"$f":"IF(大会名簿!E142=\"\",\"\",大会名簿!E142)","v":""},{"$f":"IF(大会名簿!F142=\"\",\"\",大会名簿!F142)","v":""},{"$f":"IF(大会名簿!G142=\"\",\"\",大会名簿!G142)","v":""},{"$f":"IF(大会名簿!I142=\"\",\"\",大会名簿!I142)","v":""},null,"２",{"$f":"IF(大会名簿!E174=\"\",\"\",大会名簿!E174)","v":""},{"$f":"IF(大会名簿!F174=\"\",\"\",大会名簿!F174)","v":""},{"$f":"IF(大会名簿!G174=\"\",\"\",大会名簿!G174)","v":""},{"$f":"IF(大会名簿!I174=\"\",\"\",大会名簿!I174)","v":""}]
[null,"３",{"$f":"IF(大会名簿!E143=\"\",\"\",大会名簿!E143)","v":""},{"$f":"IF(大会名簿!F143=\"\",\"\",大会名簿!F143)","v":""},{"$f":"IF(大会名簿!G143=\"\",\"\",大会名簿!G143)","v":""},{"$f":"IF(大会名簿!I143=\"\",\"\",大会名簿!I143)","v":""},null,"３",{"$f":"IF(大会名簿!E175=\"\",\"\",大会名簿!E175)","v":""},{"$f":"IF(大会名簿!F175=\"\",\"\",大会名簿!F175)","v":""},{"$f":"IF(大会名簿!G175=\"\",\"\",大会名簿!G175)","v":""},{"$f":"IF(大会名簿!I175=\"\",\"\",大会名簿!I175)","v":""}]
[null,"４",{"$f":"IF(大会名簿!E144=\"\",\"\",大会名簿!E144)","v":""},{"$f":"IF(大会名簿!F144=\"\",\"\",大会名簿!F144)","v":""},{"$f":"IF(大会名簿!G144=\"\",\"\",大会名簿!G144)","v":""},{"$f":"IF(大会名簿!I144=\"\",\"\",大会名簿!I144)","v":""},null,"４",{"$f":"IF(大会名簿!E176=\"\",\"\",大会名簿!E176)","v":""},{"$f":"IF(大会名簿!F176=\"\",\"\",大会名簿!F176)","v":""},{"$f":"IF(大会名簿!G176=\"\",\"\",大会名簿!G176)","v":""},{"$f":"IF(大会名簿!I176=\"\",\"\",大会名簿!I176)","v":""}]
["組","５",{"$f":"IF(大会名簿!E145=\"\",\"\",大会名簿!E145)","v":""},{"$f":"IF(大会名簿!F145=\"\",\"\",大会名簿!F145)","v":""},{"$f":"IF(大会名簿!G145=\"\",\"\",大会名簿!G145)","v":""},{"$f":"IF(大会名簿!I145=\"\",\"\",大会名簿!I145)","v":""},"組","５",{"$f":"IF(大会名簿!E177=\"\",\"\",大会名簿!E177)","v":""},{"$f":"IF(大会名簿!F177=\"\",\"\",大会名簿!F177)","v":""},{"$f":"IF(大会名簿!G177=\"\",\"\",大会名簿!G177)","v":""},{"$f":"IF(大会名簿!I177=\"\",\"\",大会名簿!I177)","v":""}]
[null,"６",{"$f":"IF(大会名簿!E146=\"\",\"\",大会名簿!E146)","v":""},{"$f":"IF(大会名簿!F146=\"\",\"\",大会名簿!F146)","v":""},{"$f":"IF(大会名簿!G146=\"\",\"\",大会名簿!G146)","v":""},{"$f":"IF(大会名簿!I146=\"\",\"\",大会名簿!I146)","v":""},null,"６",{"$f":"IF(大会名簿!E178=\"\",\"\",大会名簿!E178)","v":""},{"$f":"IF(大会名簿!F178=\"\",\"\",大会名簿!F178)","v":""},{"$f":"IF(大会名簿!G178=\"\",\"\",大会名簿!G178)","v":""},{"$f":"IF(大会名簿!I178=\"\",\"\",大会名簿!I178)","v":""}]
[null,"７",{"$f":"IF(大会名簿!E147=\"\",\"\",大会名簿!E147)","v":""},{"$f":"IF(大会名簿!F147=\"\",\"\",大会名簿!F147)","v":""},{"$f":"IF(大会名簿!G147=\"\",\"\",大会名簿!G147)","v":""},{"$f":"IF(大会名簿!I147=\"\",\"\",大会名簿!I147)","v":""},null,"７",{"$f":"IF(大会名簿!E179=\"\",\"\",大会名簿!E179)","v":""},{"$f":"IF(大会名簿!F179=\"\",\"\",大会名簿!F179)","v":""},{"$f":"IF(大会名簿!G179=\"\",\"\",大会名簿!G179)","v":""},{"$f":"IF(大会名簿!I179=\"\",\"\",大会名簿!I179)","v":""}]
[null,"８",{"$f":"IF(大会名簿!E148=\"\",\"\",大会名簿!E148)","v":""},{"$f":"IF(大会名簿!F148=\"\",\"\",大会名簿!F148)","v":""},{"$f":"IF(大会名簿!G148=\"\",\"\",大会名簿!G148)","v":""},{"$f":"IF(大会名簿!I148=\"\",\"\",大会名簿!I148)","v":""},null,"８",{"$f":"IF(大会名簿!E180=\"\",\"\",大会名簿!E180)","v":""},{"$f":"IF(大会名簿!F180=\"\",\"\",大会名簿!F180)","v":""},{"$f":"IF(大会名簿!G180=\"\",\"\",大会名簿!G180)","v":""},{"$f":"IF(大会名簿!I180=\"\",\"\",大会名簿!I180)","v":""}]
[19,"1",{"$f":"IF(大会名簿!E149=\"\",\"\",大会名簿!E149)","v":""},{"$f":"IF(大会名簿!F149=\"\",\"\",大会名簿!F149)","v":""},{"$f":"IF(大会名簿!G149=\"\",\"\",大会名簿!G149)","v":""},{"$f":"IF(大会名簿!I149=\"\",\"\",大会名簿!I149)","v":""},23,"1",{"$f":"IF(大会名簿!E181=\"\",\"\",大会名簿!E181)","v":""},{"$f":"IF(大会名簿!F181=\"\",\"\",大会名簿!F181)","v":""},{"$f":"IF(大会名簿!G181=\"\",\"\",大会名簿!G181)","v":""},{"$f":"IF(大会名簿!I181=\"\",\"\",大会名簿!I181)","v":""}]
[null,"２",{"$f":"IF(大会名簿!E150=\"\",\"\",大会名簿!E150)","v":""},{"$f":"IF(大会名簿!F150=\"\",\"\",大会名簿!F150)","v":""},{"$f":"IF(大会名簿!G150=\"\",\"\",大会名簿!G150)","v":""},{"$f":"IF(大会名簿!I150=\"\",\"\",大会名簿!I150)","v":""},null,"２",{"$f":"IF(大会名簿!E182=\"\",\"\",大会名簿!E182)","v":""},{"$f":"IF(大会名簿!F182=\"\",\"\",大会名簿!F182)","v":""},{"$f":"IF(大会名簿!G182=\"\",\"\",大会名簿!G182)","v":""},{"$f":"IF(大会名簿!I182=\"\",\"\",大会名簿!I182)","v":""}]
[null,"３",{"$f":"IF(大会名簿!E151=\"\",\"\",大会名簿!E151)","v":""},{"$f":"IF(大会名簿!F151=\"\",\"\",大会名簿!F151)","v":""},{"$f":"IF(大会名簿!G151=\"\",\"\",大会名簿!G151)","v":""},{"$f":"IF(大会名簿!I151=\"\",\"\",大会名簿!I151)","v":""},null,"３",{"$f":"IF(大会名簿!E183=\"\",\"\",大会名簿!E183)","v":""},{"$f":"IF(大会名簿!F183=\"\",\"\",大会名簿!F183)","v":""},{"$f":"IF(大会名簿!G183=\"\",\"\",大会名簿!G183)","v":""},{"$f":"IF(大会名簿!I183=\"\",\"\",大会名簿!I183)","v":""}]
[null,"４",{"$f":"IF(大会名簿!E152=\"\",\"\",大会名簿!E152)","v":""},{"$f":"IF(大会名簿!F152=\"\",\"\",大会名簿!F152)","v":""},{"$f":"IF(大会名簿!G152=\"\",\"\",大会名簿!G152)","v":""},{"$f":"IF(大会名簿!I152=\"\",\"\",大会名簿!I152)","v":""},null,"４",{"$f":"IF(大会名簿!E184=\"\",\"\",大会名簿!E184)","v":""},{"$f":"IF(大会名簿!F184=\"\",\"\",大会名簿!F184)","v":""},{"$f":"IF(大会名簿!G184=\"\",\"\",大会名簿!G184)","v":""},{"$f":"IF(大会名簿!I184=\"\",\"\",大会名簿!I184)","v":""}]
["組","５",{"$f":"IF(大会名簿!E153=\"\",\"\",大会名簿!E153)","v":""},{"$f":"IF(大会名簿!F153=\"\",\"\",大会名簿!F153)","v":""},{"$f":"IF(大会名簿!G153=\"\",\"\",大会名簿!G153)","v":""},{"$f":"IF(大会名簿!I153=\"\",\"\",大会名簿!I153)","v":""},"組","５",{"$f":"IF(大会名簿!E185=\"\",\"\",大会名簿!E185)","v":""},{"$f":"IF(大会名簿!F185=\"\",\"\",大会名簿!F185)","v":""},{"$f":"IF(大会名簿!G185=\"\",\"\",大会名簿!G185)","v":""},{"$f":"IF(大会名簿!I185=\"\",\"\",大会名簿!I185)","v":""}]
[null,"６",{"$f":"IF(大会名簿!E154=\"\",\"\",大会名簿!E154)","v":""},{"$f":"IF(大会名簿!F154=\"\",\"\",大会名簿!F154)","v":""},{"$f":"IF(大会名簿!G154=\"\",\"\",大会名簿!G154)","v":""},{"$f":"IF(大会名簿!I154=\"\",\"\",大会名簿!I154)","v":""},null,"６",{"$f":"IF(大会名簿!E186=\"\",\"\",大会名簿!E186)","v":""},{"$f":"IF(大会名簿!F186=\"\",\"\",大会名簿!F186)","v":""},{"$f":"IF(大会名簿!G186=\"\",\"\",大会名簿!G186)","v":""},{"$f":"IF(大会名簿!I186=\"\",\"\",大会名簿!I186)","v":""}]
[null,"７",{"$f":"IF(大会名簿!E155=\"\",\"\",大会名簿!E155)","v":""},{"$f":"IF(大会名簿!F155=\"\",\"\",大会名簿!F155)","v":""},{"$f":"IF(大会名簿!G155=\"\",\"\",大会名簿!G155)","v":""},{"$f":"IF(大会名簿!I155=\"\",\"\",大会名簿!I155)","v":""},null,"７",{"$f":"IF(大会名簿!E187=\"\",\"\",大会名簿!E187)","v":""},{"$f":"IF(大会名簿!F187=\"\",\"\",大会名簿!F187)","v":""},{"$f":"IF(大会名簿!G187=\"\",\"\",大会名簿!G187)","v":""},{"$f":"IF(大会名簿!I187=\"\",\"\",大会名簿!I187)","v":""}]
[null,"８",{"$f":"IF(大会名簿!E156=\"\",\"\",大会名簿!E156)","v":""},{"$f":"IF(大会名簿!F156=\"\",\"\",大会名簿!F156)","v":""},{"$f":"IF(大会名簿!G156=\"\",\"\",大会名簿!G156)","v":""},{"$f":"IF(大会名簿!I156=\"\",\"\",大会名簿!I156)","v":""},null,"８",{"$f":"IF(大会名簿!E188=\"\",\"\",大会名簿!E188)","v":""},{"$f":"IF(大会名簿!F188=\"\",\"\",大会名簿!F188)","v":""},{"$f":"IF(大会名簿!G188=\"\",\"\",大会名簿!G188)","v":""},{"$f":"IF(大会名簿!I188=\"\",\"\",大会名簿!I188)","v":""}]
[20,"1",{"$f":"IF(大会名簿!E157=\"\",\"\",大会名簿!E157)","v":""},{"$f":"IF(大会名簿!F157=\"\",\"\",大会名簿!F157)","v":""},{"$f":"IF(大会名簿!G157=\"\",\"\",大会名簿!G157)","v":""},{"$f":"IF(大会名簿!I157=\"\",\"\",大会名簿!I157)","v":""},24,"1",{"$f":"IF(大会名簿!E189=\"\",\"\",大会名簿!E189)","v":""},{"$f":"IF(大会名簿!F189=\"\",\"\",大会名簿!F189)","v":""},{"$f":"IF(大会名簿!G189=\"\",\"\",大会名簿!G189)","v":""},{"$f":"IF(大会名簿!I189=\"\",\"\",大会名簿!I189)","v":""}]
[null,"２",{"$f":"IF(大会名簿!E158=\"\",\"\",大会名簿!E158)","v":""},{"$f":"IF(大会名簿!F158=\"\",\"\",大会名簿!F158)","v":""},{"$f":"IF(大会名簿!G158=\"\",\"\",大会名簿!G158)","v":""},{"$f":"IF(大会名簿!I158=\"\",\"\",大会名簿!I158)","v":""},null,"２",{"$f":"IF(大会名簿!E190=\"\",\"\",大会名簿!E190)","v":""},{"$f":"IF(大会名簿!F190=\"\",\"\",大会名簿!F190)","v":""},{"$f":"IF(大会名簿!G190=\"\",\"\",大会名簿!G190)","v":""},{"$f":"IF(大会名簿!I190=\"\",\"\",大会名簿!I190)","v":""}]
[null,"３",{"$f":"IF(大会名簿!E159=\"\",\"\",大会名簿!E159)","v":""},{"$f":"IF(大会名簿!F159=\"\",\"\",大会名簿!F159)","v":""},{"$f":"IF(大会名簿!G159=\"\",\"\",大会名簿!G159)","v":""},{"$f":"IF(大会名簿!I159=\"\",\"\",大会名簿!I159)","v":""},null,"３",{"$f":"IF(大会名簿!E191=\"\",\"\",大会名簿!E191)","v":""},{"$f":"IF(大会名簿!F191=\"\",\"\",大会名簿!F191)","v":""},{"$f":"IF(大会名簿!G191=\"\",\"\",大会名簿!G191)","v":""},{"$f":"IF(大会名簿!I191=\"\",\"\",大会名簿!I191)","v":""}]
[null,"４",{"$f":"IF(大会名簿!E160=\"\",\"\",大会名簿!E160)","v":""},{"$f":"IF(大会名簿!F160=\"\",\"\",大会名簿!F160)","v":""},{"$f":"IF(大会名簿!G160=\"\",\"\",大会名簿!G160)","v":""},{"$f":"IF(大会名簿!I160=\"\",\"\",大会名簿!I160)","v":""},null,"４",{"$f":"IF(大会名簿!E192=\"\",\"\",大会名簿!E192)","v":""},{"$f":"IF(大会名簿!F192=\"\",\"\",大会名簿!F192)","v":""},{"$f":"IF(大会名簿!G192=\"\",\"\",大会名簿!G192)","v":""},{"$f":"IF(大会名簿!I192=\"\",\"\",大会名簿!I192)","v":""}]
["組","５",{"$f":"IF(大会名簿!E161=\"\",\"\",大会名簿!E161)","v":""},{"$f":"IF(大会名簿!F161=\"\",\"\",大会名簿!F161)","v":""},{"$f":"IF(大会名簿!G161=\"\",\"\",大会名簿!G161)","v":""},{"$f":"IF(大会名簿!I161=\"\",\"\",大会名簿!I161)","v":""},"組","５",{"$f":"IF(大会名簿!E193=\"\",\"\",大会名簿!E193)","v":""},{"$f":"IF(大会名簿!F193=\"\",\"\",大会名簿!F193)","v":""},{"$f":"IF(大会名簿!G193=\"\",\"\",大会名簿!G193)","v":""},{"$f":"IF(大会名簿!I193=\"\",\"\",大会名簿!I193)","v":""}]
[null,"６",{"$f":"IF(大会名簿!E162=\"\",\"\",大会名簿!E162)","v":""},{"$f":"IF(大会名簿!F162=\"\",\"\",大会名簿!F162)","v":""},{"$f":"IF(大会名簿!G162=\"\",\"\",大会名簿!G162)","v":""},{"$f":"IF(大会名簿!I162=\"\",\"\",大会名簿!I162)","v":""},null,"６",{"$f":"IF(大会名簿!E194=\"\",\"\",大会名簿!E194)","v":""},{"$f":"IF(大会名簿!F194=\"\",\"\",大会名簿!F194)","v":""},{"$f":"IF(大会名簿!G194=\"\",\"\",大会名簿!G194)","v":""},{"$f":"IF(大会名簿!I194=\"\",\"\",大会名簿!I194)","v":""}]
[null,"７",{"$f":"IF(大会名簿!E163=\"\",\"\",大会名簿!E163)","v":""},{"$f":"IF(大会名簿!F163=\"\",\"\",大会名簿!F163)","v":""},{"$f":"IF(大会名簿!G163=\"\",\"\",大会名簿!G163)","v":""},{"$f":"IF(大会名簿!I163=\"\",\"\",大会名簿!I163)","v":""},null,"７",{"$f":"IF(大会名簿!E195=\"\",\"\",大会名簿!E195)","v":""},{"$f":"IF(大会名簿!F195=\"\",\"\",大会名簿!F195)","v":""},{"$f":"IF(大会名簿!G195=\"\",\"\",大会名簿!G195)","v":""},{"$f":"IF(大会名簿!I195=\"\",\"\",大会名簿!I195)","v":""}]
[null,"８",{"$f":"IF(大会名簿!E164=\"\",\"\",大会名簿!E164)","v":""},{"$f":"IF(大会名簿!F164=\"\",\"\",大会名簿!F164)","v":""},{"$f":"IF(大会名簿!G164=\"\",\"\",大会名簿!G164)","v":""},{"$f":"IF(大会名簿!I164=\"\",\"\",大会名簿!I164)","v":""},null,"８",{"$f":"IF(大会名簿!E196=\"\",\"\",大会名簿!E196)","v":""},{"$f":"IF(大会名簿!F196=\"\",\"\",大会名簿!F196)","v":""},{"$f":"IF(大会名簿!G196=\"\",\"\",大会名簿!G196)","v":""},{"$f":"IF(大会名簿!I196=\"\",\"\",大会名簿!I196)","v":""}]
[25,"1",{"$f":"IF(大会名簿!E197=\"\",\"\",大会名簿!E197)","v":""},{"$f":"IF(大会名簿!F197=\"\",\"\",大会名簿!F197)","v":""},{"$f":"IF(大会名簿!G197=\"\",\"\",大会名簿!G197)","v":""},{"$f":"IF(大会名簿!I197=\"\",\"\",大会名簿!I197)","v":""},29,"1",{"$f":"IF(大会名簿!E229=\"\",\"\",大会名簿!E229)","v":""},{"$f":"IF(大会名簿!F229=\"\",\"\",大会名簿!F229)","v":""},{"$f":"IF(大会名簿!G229=\"\",\"\",大会名簿!G229)","v":""},{"$f":"IF(大会名簿!I229=\"\",\"\",大会名簿!I229)","v":""}]
[null,"２",{"$f":"IF(大会名簿!E198=\"\",\"\",大会名簿!E198)","v":""},{"$f":"IF(大会名簿!F198=\"\",\"\",大会名簿!F198)","v":""},{"$f":"IF(大会名簿!G198=\"\",\"\",大会名簿!G198)","v":""},{"$f":"IF(大会名簿!I198=\"\",\"\",大会名簿!I198)","v":""},null,"２",{"$f":"IF(大会名簿!E230=\"\",\"\",大会名簿!E230)","v":""},{"$f":"IF(大会名簿!F230=\"\",\"\",大会名簿!F230)","v":""},{"$f":"IF(大会名簿!G230=\"\",\"\",大会名簿!G230)","v":""},{"$f":"IF(大会名簿!I230=\"\",\"\",大会名簿!I230)","v":""}]
[null,"３",{"$f":"IF(大会名簿!E199=\"\",\"\",大会名簿!E199)","v":""},{"$f":"IF(大会名簿!F199=\"\",\"\",大会名簿!F199)","v":""},{"$f":"IF(大会名簿!G199=\"\",\"\",大会名簿!G199)","v":""},{"$f":"IF(大会名簿!I199=\"\",\"\",大会名簿!I199)","v":""},null,"３",{"$f":"IF(大会名簿!E231=\"\",\"\",大会名簿!E231)","v":""},{"$f":"IF(大会名簿!F231=\"\",\"\",大会名簿!F231)","v":""},{"$f":"IF(大会名簿!G231=\"\",\"\",大会名簿!G231)","v":""},{"$f":"IF(大会名簿!I231=\"\",\"\",大会名簿!I231)","v":""}]
[null,"４",{"$f":"IF(大会名簿!E200=\"\",\"\",大会名簿!E200)","v":""},{"$f":"IF(大会名簿!F200=\"\",\"\",大会名簿!F200)","v":""},{"$f":"IF(大会名簿!G200=\"\",\"\",大会名簿!G200)","v":""},{"$f":"IF(大会名簿!I200=\"\",\"\",大会名簿!I200)","v":""},null,"４",{"$f":"IF(大会名簿!E232=\"\",\"\",大会名簿!E232)","v":""},{"$f":"IF(大会名簿!F232=\"\",\"\",大会名簿!F232)","v":""},{"$f":"IF(大会名簿!G232=\"\",\"\",大会名簿!G232)","v":""},{"$f":"IF(大会名簿!I232=\"\",\"\",大会名簿!I232)","v":""}]
["組","５",{"$f":"IF(大会名簿!E201=\"\",\"\",大会名簿!E201)","v":""},{"$f":"IF(大会名簿!F201=\"\",\"\",大会名簿!F201)","v":""},{"$f":"IF(大会名簿!G201=\"\",\"\",大会名簿!G201)","v":""},{"$f":"IF(大会名簿!I201=\"\",\"\",大会名簿!I201)","v":""},"組","５",{"$f":"IF(大会名簿!E233=\"\",\"\",大会名簿!E233)","v":""},{"$f":"IF(大会名簿!F233=\"\",\"\",大会名簿!F233)","v":""},{"$f":"IF(大会名簿!G233=\"\",\"\",大会名簿!G233)","v":""},{"$f":"IF(大会名簿!I233=\"\",\"\",大会名簿!I233)","v":""}]
[null,"６",{"$f":"IF(大会名簿!E202=\"\",\"\",大会名簿!E202)","v":""},{"$f":"IF(大会名簿!F202=\"\",\"\",大会名簿!F202)","v":""},{"$f":"IF(大会名簿!G202=\"\",\"\",大会名簿!G202)","v":""},{"$f":"IF(大会名簿!I202=\"\",\"\",大会名簿!I202)","v":""},null,"６",{"$f":"IF(大会名簿!E234=\"\",\"\",大会名簿!E234)","v":""},{"$f":"IF(大会名簿!F234=\"\",\"\",大会名簿!F234)","v":""},{"$f":"IF(大会名簿!G234=\"\",\"\",大会名簿!G234)","v":""},{"$f":"IF(大会名簿!I234=\"\",\"\",大会名簿!I234)","v":""}]
[null,"７",{"$f":"IF(大会名簿!E203=\"\",\"\",大会名簿!E203)","v":""},{"$f":"IF(大会名簿!F203=\"\",\"\",大会名簿!F203)","v":""},{"$f":"IF(大会名簿!G203=\"\",\"\",大会名簿!G203)","v":""},{"$f":"IF(大会名簿!I203=\"\",\"\",大会名簿!I203)","v":""},null,"７",{"$f":"IF(大会名簿!E235=\"\",\"\",大会名簿!E235)","v":""},{"$f":"IF(大会名簿!F235=\"\",\"\",大会名簿!F235)","v":""},{"$f":"IF(大会名簿!G235=\"\",\"\",大会名簿!G235)","v":""},{"$f":"IF(大会名簿!I235=\"\",\"\",大会名簿!I235)","v":""}]
[null,"８",{"$f":"IF(大会名簿!E204=\"\",\"\",大会名簿!E204)","v":""},{"$f":"IF(大会名簿!F204=\"\",\"\",大会名簿!F204)","v":""},{"$f":"IF(大会名簿!G204=\"\",\"\",大会名簿!G204)","v":""},{"$f":"IF(大会名簿!I204=\"\",\"\",大会名簿!I204)","v":""},null,"８",{"$f":"IF(大会名簿!E236=\"\",\"\",大会名簿!E236)","v":""},{"$f":"IF(大会名簿!F236=\"\",\"\",大会名簿!F236)","v":""},{"$f":"IF(大会名簿!G236=\"\",\"\",大会名簿!G236)","v":""},{"$f":"IF(大会名簿!I236=\"\",\"\",大会名簿!I236)","v":""}]
[26,"1",{"$f":"IF(大会名簿!E205=\"\",\"\",大会名簿!E205)","v":""},{"$f":"IF(大会名簿!F205=\"\",\"\",大会名簿!F205)","v":""},{"$f":"IF(大会名簿!G205=\"\",\"\",大会名簿!G205)","v":""},{"$f":"IF(大会名簿!I205=\"\",\"\",大会名簿!I205)","v":""},30,"1",{"$f":"IF(大会名簿!E237=\"\",\"\",大会名簿!E237)","v":""},{"$f":"IF(大会名簿!F237=\"\",\"\",大会名簿!F237)","v":""},{"$f":"IF(大会名簿!G237=\"\",\"\",大会名簿!G237)","v":""},{"$f":"IF(大会名簿!I237=\"\",\"\",大会名簿!I237)","v":""}]
[null,"２",{"$f":"IF(大会名簿!E206=\"\",\"\",大会名簿!E206)","v":""},{"$f":"IF(大会名簿!F206=\"\",\"\",大会名簿!F206)","v":""},{"$f":"IF(大会名簿!G206=\"\",\"\",大会名簿!G206)","v":""},{"$f":"IF(大会名簿!I206=\"\",\"\",大会名簿!I206)","v":""},null,"２",{"$f":"IF(大会名簿!E238=\"\",\"\",大会名簿!E238)","v":""},{"$f":"IF(大会名簿!F238=\"\",\"\",大会名簿!F238)","v":""},{"$f":"IF(大会名簿!G238=\"\",\"\",大会名簿!G238)","v":""},{"$f":"IF(大会名簿!I238=\"\",\"\",大会名簿!I238)","v":""}]
[null,"３",{"$f":"IF(大会名簿!E207=\"\",\"\",大会名簿!E207)","v":""},{"$f":"IF(大会名簿!F207=\"\",\"\",大会名簿!F207)","v":""},{"$f":"IF(大会名簿!G207=\"\",\"\",大会名簿!G207)","v":""},{"$f":"IF(大会名簿!I207=\"\",\"\",大会名簿!I207)","v":""},null,"３",{"$f":"IF(大会名簿!E239=\"\",\"\",大会名簿!E239)","v":""},{"$f":"IF(大会名簿!F239=\"\",\"\",大会名簿!F239)","v":""},{"$f":"IF(大会名簿!G239=\"\",\"\",大会名簿!G239)","v":""},{"$f":"IF(大会名簿!I239=\"\",\"\",大会名簿!I239)","v":""}]
[null,"４",{"$f":"IF(大会名簿!E208=\"\",\"\",大会名簿!E208)","v":""},{"$f":"IF(大会名簿!F208=\"\",\"\",大会名簿!F208)","v":""},{"$f":"IF(大会名簿!G208=\"\",\"\",大会名簿!G208)","v":""},{"$f":"IF(大会名簿!I208=\"\",\"\",大会名簿!I208)","v":""},null,"４",{"$f":"IF(大会名簿!E240=\"\",\"\",大会名簿!E240)","v":""},{"$f":"IF(大会名簿!F240=\"\",\"\",大会名簿!F240)","v":""},{"$f":"IF(大会名簿!G240=\"\",\"\",大会名簿!G240)","v":""},{"$f":"IF(大会名簿!I240=\"\",\"\",大会名簿!I240)","v":""}]
["組","５",{"$f":"IF(大会名簿!E209=\"\",\"\",大会名簿!E209)","v":""},{"$f":"IF(大会名簿!F209=\"\",\"\",大会名簿!F209)","v":""},{"$f":"IF(大会名簿!G209=\"\",\"\",大会名簿!G209)","v":""},{"$f":"IF(大会名簿!I209=\"\",\"\",大会名簿!I209)","v":""},"組","５",{"$f":"IF(大会名簿!E241=\"\",\"\",大会名簿!E241)","v":""},{"$f":"IF(大会名簿!F241=\"\",\"\",大会名簿!F241)","v":""},{"$f":"IF(大会名簿!G241=\"\",\"\",大会名簿!G241)","v":""},{"$f":"IF(大会名簿!I241=\"\",\"\",大会名簿!I241)","v":""}]
[null,"６",{"$f":"IF(大会名簿!E210=\"\",\"\",大会名簿!E210)","v":""},{"$f":"IF(大会名簿!F210=\"\",\"\",大会名簿!F210)","v":""},{"$f":"IF(大会名簿!G210=\"\",\"\",大会名簿!G210)","v":""},{"$f":"IF(大会名簿!I210=\"\",\"\",大会名簿!I210)","v":""},null,"６",{"$f":"IF(大会名簿!E242=\"\",\"\",大会名簿!E242)","v":""},{"$f":"IF(大会名簿!F242=\"\",\"\",大会名簿!F242)","v":""},{"$f":"IF(大会名簿!G242=\"\",\"\",大会名簿!G242)","v":""},{"$f":"IF(大会名簿!I242=\"\",\"\",大会名簿!I242)","v":""}]
[null,"７",{"$f":"IF(大会名簿!E211=\"\",\"\",大会名簿!E211)","v":""},{"$f":"IF(大会名簿!F211=\"\",\"\",大会名簿!F211)","v":""},{"$f":"IF(大会名簿!G211=\"\",\"\",大会名簿!G211)","v":""},{"$f":"IF(大会名簿!I211=\"\",\"\",大会名簿!I211)","v":""},null,"７",{"$f":"IF(大会名簿!E243=\"\",\"\",大会名簿!E243)","v":""},{"$f":"IF(大会名簿!F243=\"\",\"\",大会名簿!F243)","v":""},{"$f":"IF(大会名簿!G243=\"\",\"\",大会名簿!G243)","v":""},{"$f":"IF(大会名簿!I243=\"\",\"\",大会名簿!I243)","v":""}]
[null,"８",{"$f":"IF(大会名簿!E212=\"\",\"\",大会名簿!E212)","v":""},{"$f":"IF(大会名簿!F212=\"\",\"\",大会名簿!F212)","v":""},{"$f":"IF(大会名簿!G212=\"\",\"\",大会名簿!G212)","v":""},{"$f":"IF(大会名簿!I212=\"\",\"\",大会名簿!I212)","v":""},null,"８",{"$f":"IF(大会名簿!E244=\"\",\"\",大会名簿!E244)","v":""},{"$f":"IF(大会名簿!F244=\"\",\"\",大会名簿!F244)","v":""},{"$f":"IF(大会名簿!G244=\"\",\"\",大会名簿!G244)","v":""},{"$f":"IF(大会名簿!I244=\"\",\"\",大会名簿!I244)","v":""}]
[27,"1",{"$f":"IF(大会名簿!E213=\"\",\"\",大会名簿!E213)","v":""},{"$f":"IF(大会名簿!F213=\"\",\"\",大会名簿!F213)","v":""},{"$f":"IF(大会名簿!G213=\"\",\"\",大会名簿!G213)","v":""},{"$f":"IF(大会名簿!I213=\"\",\"\",大会名簿!I213)","v":""},31,"1",{"$f":"IF(大会名簿!E245=\"\",\"\",大会名簿!E245)","v":""},{"$f":"IF(大会名簿!F245=\"\",\"\",大会名簿!F245)","v":""},{"$f":"IF(大会名簿!G245=\"\",\"\",大会名簿!G245)","v":""},{"$f":"IF(大会名簿!I245=\"\",\"\",大会名簿!I245)","v":""}]
[null,"２",{"$f":"IF(大会名簿!E214=\"\",\"\",大会名簿!E214)","v":""},{"$f":"IF(大会名簿!F214=\"\",\"\",大会名簿!F214)","v":""},{"$f":"IF(大会名簿!G214=\"\",\"\",大会名簿!G214)","v":""},{"$f":"IF(大会名簿!I214=\"\",\"\",大会名簿!I214)","v":""},null,"２",{"$f":"IF(大会名簿!E246=\"\",\"\",大会名簿!E246)","v":""},{"$f":"IF(大会名簿!F246=\"\",\"\",大会名簿!F246)","v":""},{"$f":"IF(大会名簿!G246=\"\",\"\",大会名簿!G246)","v":""},{"$f":"IF(大会名簿!I246=\"\",\"\",大会名簿!I246)","v":""}]
[null,"３",{"$f":"IF(大会名簿!E215=\"\",\"\",大会名簿!E215)","v":""},{"$f":"IF(大会名簿!F215=\"\",\"\",大会名簿!F215)","v":""},{"$f":"IF(大会名簿!G215=\"\",\"\",大会名簿!G215)","v":""},{"$f":"IF(大会名簿!I215=\"\",\"\",大会名簿!I215)","v":""},null,"３",{"$f":"IF(大会名簿!E247=\"\",\"\",大会名簿!E247)","v":""},{"$f":"IF(大会名簿!F247=\"\",\"\",大会名簿!F247)","v":""},{"$f":"IF(大会名簿!G247=\"\",\"\",大会名簿!G247)","v":""},{"$f":"IF(大会名簿!I247=\"\",\"\",大会名簿!I247)","v":""}]
[null,"４",{"$f":"IF(大会名簿!E216=\"\",\"\",大会名簿!E216)","v":""},{"$f":"IF(大会名簿!F216=\"\",\"\",大会名簿!F216)","v":""},{"$f":"IF(大会名簿!G216=\"\",\"\",大会名簿!G216)","v":""},{"$f":"IF(大会名簿!I216=\"\",\"\",大会名簿!I216)","v":""},null,"４",{"$f":"IF(大会名簿!E248=\"\",\"\",大会名簿!E248)","v":""},{"$f":"IF(大会名簿!F248=\"\",\"\",大会名簿!F248)","v":""},{"$f":"IF(大会名簿!G248=\"\",\"\",大会名簿!G248)","v":""},{"$f":"IF(大会名簿!I248=\"\",\"\",大会名簿!I248)","v":""}]
["組","５",{"$f":"IF(大会名簿!E217=\"\",\"\",大会名簿!E217)","v":""},{"$f":"IF(大会名簿!F217=\"\",\"\",大会名簿!F217)","v":""},{"$f":"IF(大会名簿!G217=\"\",\"\",大会名簿!G217)","v":""},{"$f":"IF(大会名簿!I217=\"\",\"\",大会名簿!I217)","v":""},"組","５",{"$f":"IF(大会名簿!E249=\"\",\"\",大会名簿!E249)","v":""},{"$f":"IF(大会名簿!F249=\"\",\"\",大会名簿!F249)","v":""},{"$f":"IF(大会名簿!G249=\"\",\"\",大会名簿!G249)","v":""},{"$f":"IF(大会名簿!I249=\"\",\"\",大会名簿!I249)","v":""}]
[null,"６",{"$f":"IF(大会名簿!E218=\"\",\"\",大会名簿!E218)","v":""},{"$f":"IF(大会名簿!F218=\"\",\"\",大会名簿!F218)","v":""},{"$f":"IF(大会名簿!G218=\"\",\"\",大会名簿!G218)","v":""},{"$f":"IF(大会名簿!I218=\"\",\"\",大会名簿!I218)","v":""},null,"６",{"$f":"IF(大会名簿!E250=\"\",\"\",大会名簿!E250)","v":""},{"$f":"IF(大会名簿!F250=\"\",\"\",大会名簿!F250)","v":""},{"$f":"IF(大会名簿!G250=\"\",\"\",大会名簿!G250)","v":""},{"$f":"IF(大会名簿!I250=\"\",\"\",大会名簿!I250)","v":""}]
[null,"７",{"$f":"IF(大会名簿!E219=\"\",\"\",大会名簿!E219)","v":""},{"$f":"IF(大会名簿!F219=\"\",\"\",大会名簿!F219)","v":""},{"$f":"IF(大会名簿!G219=\"\",\"\",大会名簿!G219)","v":""},{"$f":"IF(大会名簿!I219=\"\",\"\",大会名簿!I219)","v":""},null,"７",{"$f":"IF(大会名簿!E251=\"\",\"\",大会名簿!E251)","v":""},{"$f":"IF(大会名簿!F251=\"\",\"\",大会名簿!F251)","v":""},{"$f":"IF(大会名簿!G251=\"\",\"\",大会名簿!G251)","v":""},{"$f":"IF(大会名簿!I251=\"\",\"\",大会名簿!I251)","v":""}]
[null,"８",{"$f":"IF(大会名簿!E220=\"\",\"\",大会名簿!E220)","v":""},{"$f":"IF(大会名簿!F220=\"\",\"\",大会名簿!F220)","v":""},{"$f":"IF(大会名簿!G220=\"\",\"\",大会名簿!G220)","v":""},{"$f":"IF(大会名簿!I220=\"\",\"\",大会名簿!I220)","v":""},null,"８",{"$f":"IF(大会名簿!E252=\"\",\"\",大会名簿!E252)","v":""},{"$f":"IF(大会名簿!F252=\"\",\"\",大会名簿!F252)","v":""},{"$f":"IF(大会名簿!G252=\"\",\"\",大会名簿!G252)","v":""},{"$f":"IF(大会名簿!I252=\"\",\"\",大会名簿!I252)","v":""}]
[28,"1",{"$f":"IF(大会名簿!E221=\"\",\"\",大会名簿!E221)","v":""},{"$f":"IF(大会名簿!F221=\"\",\"\",大会名簿!F221)","v":""},{"$f":"IF(大会名簿!G221=\"\",\"\",大会名簿!G221)","v":""},{"$f":"IF(大会名簿!I221=\"\",\"\",大会名簿!I221)","v":""},32,"1",{"$f":"IF(大会名簿!E253=\"\",\"\",大会名簿!E253)","v":""},{"$f":"IF(大会名簿!F253=\"\",\"\",大会名簿!F253)","v":""},{"$f":"IF(大会名簿!G253=\"\",\"\",大会名簿!G253)","v":""},{"$f":"IF(大会名簿!I253=\"\",\"\",大会名簿!I253)","v":""}]
[null,"２",{"$f":"IF(大会名簿!E222=\"\",\"\",大会名簿!E222)","v":""},{"$f":"IF(大会名簿!F222=\"\",\"\",大会名簿!F222)","v":""},{"$f":"IF(大会名簿!G222=\"\",\"\",大会名簿!G222)","v":""},{"$f":"IF(大会名簿!I222=\"\",\"\",大会名簿!I222)","v":""},null,"２",{"$f":"IF(大会名簿!E254=\"\",\"\",大会名簿!E254)","v":""},{"$f":"IF(大会名簿!F254=\"\",\"\",大会名簿!F254)","v":""},{"$f":"IF(大会名簿!G254=\"\",\"\",大会名簿!G254)","v":""},{"$f":"IF(大会名簿!I254=\"\",\"\",大会名簿!I254)","v":""}]
[null,"３",{"$f":"IF(大会名簿!E223=\"\",\"\",大会名簿!E223)","v":""},{"$f":"IF(大会名簿!F223=\"\",\"\",大会名簿!F223)","v":""},{"$f":"IF(大会名簿!G223=\"\",\"\",大会名簿!G223)","v":""},{"$f":"IF(大会名簿!I223=\"\",\"\",大会名簿!I223)","v":""},null,"３",{"$f":"IF(大会名簿!E255=\"\",\"\",大会名簿!E255)","v":""},{"$f":"IF(大会名簿!F255=\"\",\"\",大会名簿!F255)","v":""},{"$f":"IF(大会名簿!G255=\"\",\"\",大会名簿!G255)","v":""},{"$f":"IF(大会名簿!I255=\"\",\"\",大会名簿!I255)","v":""}]
[null,"４",{"$f":"IF(大会名簿!E224=\"\",\"\",大会名簿!E224)","v":""},{"$f":"IF(大会名簿!F224=\"\",\"\",大会名簿!F224)","v":""},{"$f":"IF(大会名簿!G224=\"\",\"\",大会名簿!G224)","v":""},{"$f":"IF(大会名簿!I224=\"\",\"\",大会名簿!I224)","v":""},null,"４",{"$f":"IF(大会名簿!E256=\"\",\"\",大会名簿!E256)","v":""},{"$f":"IF(大会名簿!F256=\"\",\"\",大会名簿!F256)","v":""},{"$f":"IF(大会名簿!G256=\"\",\"\",大会名簿!G256)","v":""},{"$f":"IF(大会名簿!I256=\"\",\"\",大会名簿!I256)","v":""}]
["組","５",{"$f":"IF(大会名簿!E225=\"\",\"\",大会名簿!E225)","v":""},{"$f":"IF(大会名簿!F225=\"\",\"\",大会名簿!F225)","v":""},{"$f":"IF(大会名簿!G225=\"\",\"\",大会名簿!G225)","v":""},{"$f":"IF(大会名簿!I225=\"\",\"\",大会名簿!I225)","v":""},"組","５",{"$f":"IF(大会名簿!E257=\"\",\"\",大会名簿!E257)","v":""},{"$f":"IF(大会名簿!F257=\"\",\"\",大会名簿!F257)","v":""},{"$f":"IF(大会名簿!G257=\"\",\"\",大会名簿!G257)","v":""},{"$f":"IF(大会名簿!I257=\"\",\"\",大会名簿!I257)","v":""}]
[null,"６",{"$f":"IF(大会名簿!E226=\"\",\"\",大会名簿!E226)","v":""},{"$f":"IF(大会名簿!F226=\"\",\"\",大会名簿!F226)","v":""},{"$f":"IF(大会名簿!G226=\"\",\"\",大会名簿!G226)","v":""},{"$f":"IF(大会名簿!I226=\"\",\"\",大会名簿!I226)","v":""},null,"６",{"$f":"IF(大会名簿!E258=\"\",\"\",大会名簿!E258)","v":""},{"$f":"IF(大会名簿!F258=\"\",\"\",大会名簿!F258)","v":""},{"$f":"IF(大会名簿!G258=\"\",\"\",大会名簿!G258)","v":""},{"$f":"IF(大会名簿!I258=\"\",\"\",大会名簿!I258)","v":""}]
[null,"７",{"$f":"IF(大会名簿!E227=\"\",\"\",大会名簿!E227)","v":""},{"$f":"IF(大会名簿!F227=\"\",\"\",大会名簿!F227)","v":""},{"$f":"IF(大会名簿!G227=\"\",\"\",大会名簿!G227)","v":""},{"$f":"IF(大会名簿!I227=\"\",\"\",大会名簿!I227)","v":""},null,"７",{"$f":"IF(大会名簿!E259=\"\",\"\",大会名簿!E259)","v":""},{"$f":"IF(大会名簿!F259=\"\",\"\",大会名簿!F259)","v":""},{"$f":"IF(大会名簿!G259=\"\",\"\",大会名簿!G259)","v":""},{"$f":"IF(大会名簿!I259=\"\",\"\",大会名簿!I259)","v":""}]
[null,"８",{"$f":"IF(大会名簿!E228=\"\",\"\",大会名簿!E228)","v":""},{"$f":"IF(大会名簿!F228=\"\",\"\",大会名簿!F228)","v":""},{"$f":"IF(大会名簿!G228=\"\",\"\",大会名簿!G228)","v":""},{"$f":"IF(大会名簿!I228=\"\",\"\",大会名簿!I228)","v":""},null,"８",{"$f":"IF(大会名簿!E260=\"\",\"\",大会名簿!E260)","v":""},{"$f":"IF(大会名簿!F260=\"\",\"\",大会名簿!F260)","v":""},{"$f":"IF(大会名簿!G260=\"\",\"\",大会名簿!G260)","v":""},{"$f":"IF(大会名簿!I260=\"\",\"\",大会名簿!I260)","v":""}]
[33,"1",{"$f":"IF(大会名簿!E261=\"\",\"\",大会名簿!E261)","v":""},{"$f":"IF(大会名簿!F261=\"\",\"\",大会名簿!F261)","v":""},{"$f":"IF(大会名簿!G261=\"\",\"\",大会名簿!G261)","v":""},{"$f":"IF(大会名簿!I261=\"\",\"\",大会名簿!I261)","v":""},37,"1",{"$f":"IF(大会名簿!E293=\"\",\"\",大会名簿!E293)","v":""},{"$f":"IF(大会名簿!F293=\"\",\"\",大会名簿!F293)","v":""},{"$f":"IF(大会名簿!G293=\"\",\"\",大会名簿!G293)","v":""},{"$f":"IF(大会名簿!I293=\"\",\"\",大会名簿!I293)","v":""}]
[null,"２",{"$f":"IF(大会名簿!E262=\"\",\"\",大会名簿!E262)","v":""},{"$f":"IF(大会名簿!F262=\"\",\"\",大会名簿!F262)","v":""},{"$f":"IF(大会名簿!G262=\"\",\"\",大会名簿!G262)","v":""},{"$f":"IF(大会名簿!I262=\"\",\"\",大会名簿!I262)","v":""},null,"２",{"$f":"IF(大会名簿!E294=\"\",\"\",大会名簿!E294)","v":""},{"$f":"IF(大会名簿!F294=\"\",\"\",大会名簿!F294)","v":""},{"$f":"IF(大会名簿!G294=\"\",\"\",大会名簿!G294)","v":""},{"$f":"IF(大会名簿!I294=\"\",\"\",大会名簿!I294)","v":""}]
[null,"３",{"$f":"IF(大会名簿!E263=\"\",\"\",大会名簿!E263)","v":""},{"$f":"IF(大会名簿!F263=\"\",\"\",大会名簿!F263)","v":""},{"$f":"IF(大会名簿!G263=\"\",\"\",大会名簿!G263)","v":""},{"$f":"IF(大会名簿!I263=\"\",\"\",大会名簿!I263)","v":""},null,"３",{"$f":"IF(大会名簿!E295=\"\",\"\",大会名簿!E295)","v":""},{"$f":"IF(大会名簿!F295=\"\",\"\",大会名簿!F295)","v":""},{"$f":"IF(大会名簿!G295=\"\",\"\",大会名簿!G295)","v":""},{"$f":"IF(大会名簿!I295=\"\",\"\",大会名簿!I295)","v":""}]
[null,"４",{"$f":"IF(大会名簿!E264=\"\",\"\",大会名簿!E264)","v":""},{"$f":"IF(大会名簿!F264=\"\",\"\",大会名簿!F264)","v":""},{"$f":"IF(大会名簿!G264=\"\",\"\",大会名簿!G264)","v":""},{"$f":"IF(大会名簿!I264=\"\",\"\",大会名簿!I264)","v":""},null,"４",{"$f":"IF(大会名簿!E296=\"\",\"\",大会名簿!E296)","v":""},{"$f":"IF(大会名簿!F296=\"\",\"\",大会名簿!F296)","v":""},{"$f":"IF(大会名簿!G296=\"\",\"\",大会名簿!G296)","v":""},{"$f":"IF(大会名簿!I296=\"\",\"\",大会名簿!I296)","v":""}]
["組","５",{"$f":"IF(大会名簿!E265=\"\",\"\",大会名簿!E265)","v":""},{"$f":"IF(大会名簿!F265=\"\",\"\",大会名簿!F265)","v":""},{"$f":"IF(大会名簿!G265=\"\",\"\",大会名簿!G265)","v":""},{"$f":"IF(大会名簿!I265=\"\",\"\",大会名簿!I265)","v":""},"組","５",{"$f":"IF(大会名簿!E297=\"\",\"\",大会名簿!E297)","v":""},{"$f":"IF(大会名簿!F297=\"\",\"\",大会名簿!F297)","v":""},{"$f":"IF(大会名簿!G297=\"\",\"\",大会名簿!G297)","v":""},{"$f":"IF(大会名簿!I297=\"\",\"\",大会名簿!I297)","v":""}]
[null,"６",{"$f":"IF(大会名簿!E266=\"\",\"\",大会名簿!E266)","v":""},{"$f":"IF(大会名簿!F266=\"\",\"\",大会名簿!F266)","v":""},{"$f":"IF(大会名簿!G266=\"\",\"\",大会名簿!G266)","v":""},{"$f":"IF(大会名簿!I266=\"\",\"\",大会名簿!I266)","v":""},null,"６",{"$f":"IF(大会名簿!E298=\"\",\"\",大会名簿!E298)","v":""},{"$f":"IF(大会名簿!F298=\"\",\"\",大会名簿!F298)","v":""},{"$f":"IF(大会名簿!G298=\"\",\"\",大会名簿!G298)","v":""},{"$f":"IF(大会名簿!I298=\"\",\"\",大会名簿!I298)","v":""}]
[null,"７",{"$f":"IF(大会名簿!E267=\"\",\"\",大会名簿!E267)","v":""},{"$f":"IF(大会名簿!F267=\"\",\"\",大会名簿!F267)","v":""},{"$f":"IF(大会名簿!G267=\"\",\"\",大会名簿!G267)","v":""},{"$f":"IF(大会名簿!I267=\"\",\"\",大会名簿!I267)","v":""},null,"７",{"$f":"IF(大会名簿!E299=\"\",\"\",大会名簿!E299)","v":""},{"$f":"IF(大会名簿!F299=\"\",\"\",大会名簿!F299)","v":""},{"$f":"IF(大会名簿!G299=\"\",\"\",大会名簿!G299)","v":""},{"$f":"IF(大会名簿!I299=\"\",\"\",大会名簿!I299)","v":""}]
[null,"８",{"$f":"IF(大会名簿!E268=\"\",\"\",大会名簿!E268)","v":""},{"$f":"IF(大会名簿!F268=\"\",\"\",大会名簿!F268)","v":""},{"$f":"IF(大会名簿!G268=\"\",\"\",大会名簿!G268)","v":""},{"$f":"IF(大会名簿!I268=\"\",\"\",大会名簿!I268)","v":""},null,"８",{"$f":"IF(大会名簿!E300=\"\",\"\",大会名簿!E300)","v":""},{"$f":"IF(大会名簿!F300=\"\",\"\",大会名簿!F300)","v":""},{"$f":"IF(大会名簿!G300=\"\",\"\",大会名簿!G300)","v":""},{"$f":"IF(大会名簿!I300=\"\",\"\",大会名簿!I300)","v":""}]
[34,"1",{"$f":"IF(大会名簿!E269=\"\",\"\",大会名簿!E269)","v":""},{"$f":"IF(大会名簿!F269=\"\",\"\",大会名簿!F269)","v":""},{"$f":"IF(大会名簿!G269=\"\",\"\",大会名簿!G269)","v":""},{"$f":"IF(大会名簿!I269=\"\",\"\",大会名簿!I269)","v":""},38,"1",{"$f":"IF(大会名簿!E301=\"\",\"\",大会名簿!E301)","v":""},{"$f":"IF(大会名簿!F301=\"\",\"\",大会名簿!F301)","v":""},{"$f":"IF(大会名簿!G301=\"\",\"\",大会名簿!G301)","v":""},{"$f":"IF(大会名簿!I301=\"\",\"\",大会名簿!I301)","v":""}]
[null,"２",{"$f":"IF(大会名簿!E270=\"\",\"\",大会名簿!E270)","v":""},{"$f":"IF(大会名簿!F270=\"\",\"\",大会名簿!F270)","v":""},{"$f":"IF(大会名簿!G270=\"\",\"\",大会名簿!G270)","v":""},{"$f":"IF(大会名簿!I270=\"\",\"\",大会名簿!I270)","v":""},null,"２",{"$f":"IF(大会名簿!E302=\"\",\"\",大会名簿!E302)","v":""},{"$f":"IF(大会名簿!F302=\"\",\"\",大会名簿!F302)","v":""},{"$f":"IF(大会名簿!G302=\"\",\"\",大会名簿!G302)","v":""},{"$f":"IF(大会名簿!I302=\"\",\"\",大会名簿!I302)","v":""}]
[null,"３",{"$f":"IF(大会名簿!E271=\"\",\"\",大会名簿!E271)","v":""},{"$f":"IF(大会名簿!F271=\"\",\"\",大会名簿!F271)","v":""},{"$f":"IF(大会名簿!G271=\"\",\"\",大会名簿!G271)","v":""},{"$f":"IF(大会名簿!I271=\"\",\"\",大会名簿!I271)","v":""},null,"３",{"$f":"IF(大会名簿!E303=\"\",\"\",大会名簿!E303)","v":""},{"$f":"IF(大会名簿!F303=\"\",\"\",大会名簿!F303)","v":""},{"$f":"IF(大会名簿!G303=\"\",\"\",大会名簿!G303)","v":""},{"$f":"IF(大会名簿!I303=\"\",\"\",大会名簿!I303)","v":""}]
[null,"４",{"$f":"IF(大会名簿!E272=\"\",\"\",大会名簿!E272)","v":""},{"$f":"IF(大会名簿!F272=\"\",\"\",大会名簿!F272)","v":""},{"$f":"IF(大会名簿!G272=\"\",\"\",大会名簿!G272)","v":""},{"$f":"IF(大会名簿!I272=\"\",\"\",大会名簿!I272)","v":""},null,"４",{"$f":"IF(大会名簿!E304=\"\",\"\",大会名簿!E304)","v":""},{"$f":"IF(大会名簿!F304=\"\",\"\",大会名簿!F304)","v":""},{"$f":"IF(大会名簿!G304=\"\",\"\",大会名簿!G304)","v":""},{"$f":"IF(大会名簿!I304=\"\",\"\",大会名簿!I304)","v":""}]
["組","５",{"$f":"IF(大会名簿!E273=\"\",\"\",大会名簿!E273)","v":""},{"$f":"IF(大会名簿!F273=\"\",\"\",大会名簿!F273)","v":""},{"$f":"IF(大会名簿!G273=\"\",\"\",大会名簿!G273)","v":""},{"$f":"IF(大会名簿!I273=\"\",\"\",大会名簿!I273)","v":""},"組","５",{"$f":"IF(大会名簿!E305=\"\",\"\",大会名簿!E305)","v":""},{"$f":"IF(大会名簿!F305=\"\",\"\",大会名簿!F305)","v":""},{"$f":"IF(大会名簿!G305=\"\",\"\",大会名簿!G305)","v":""},{"$f":"IF(大会名簿!I305=\"\",\"\",大会名簿!I305)","v":""}]
[null,"６",{"$f":"IF(大会名簿!E274=\"\",\"\",大会名簿!E274)","v":""},{"$f":"IF(大会名簿!F274=\"\",\"\",大会名簿!F274)","v":""},{"$f":"IF(大会名簿!G274=\"\",\"\",大会名簿!G274)","v":""},{"$f":"IF(大会名簿!I274=\"\",\"\",大会名簿!I274)","v":""},null,"６",{"$f":"IF(大会名簿!E306=\"\",\"\",大会名簿!E306)","v":""},{"$f":"IF(大会名簿!F306=\"\",\"\",大会名簿!F306)","v":""},{"$f":"IF(大会名簿!G306=\"\",\"\",大会名簿!G306)","v":""},{"$f":"IF(大会名簿!I306=\"\",\"\",大会名簿!I306)","v":""}]
[null,"７",{"$f":"IF(大会名簿!E275=\"\",\"\",大会名簿!E275)","v":""},{"$f":"IF(大会名簿!F275=\"\",\"\",大会名簿!F275)","v":""},{"$f":"IF(大会名簿!G275=\"\",\"\",大会名簿!G275)","v":""},{"$f":"IF(大会名簿!I275=\"\",\"\",大会名簿!I275)","v":""},null,"７",{"$f":"IF(大会名簿!E307=\"\",\"\",大会名簿!E307)","v":""},{"$f":"IF(大会名簿!F307=\"\",\"\",大会名簿!F307)","v":""},{"$f":"IF(大会名簿!G307=\"\",\"\",大会名簿!G307)","v":""},{"$f":"IF(大会名簿!I307=\"\",\"\",大会名簿!I307)","v":""}]
[null,"８",{"$f":"IF(大会名簿!E276=\"\",\"\",大会名簿!E276)","v":""},{"$f":"IF(大会名簿!F276=\"\",\"\",大会名簿!F276)","v":""},{"$f":"IF(大会名簿!G276=\"\",\"\",大会名簿!G276)","v":""},{"$f":"IF(大会名簿!I276=\"\",\"\",大会名簿!I276)","v":""},null,"８",{"$f":"IF(大会名簿!E308=\"\",\"\",大会名簿!E308)","v":""},{"$f":"IF(大会名簿!F308=\"\",\"\",大会名簿!F308)","v":""},{"$f":"IF(大会名簿!G308=\"\",\"\",大会名簿!G308)","v":""},{"$f":"IF(大会名簿!I308=\"\",\"\",大会名簿!I308)","v":""}]
[35,"1",{"$f":"IF(大会名簿!E277=\"\",\"\",大会名簿!E277)","v":""},{"$f":"IF(大会名簿!F277=\"\",\"\",大会名簿!F277)","v":""},{"$f":"IF(大会名簿!G277=\"\",\"\",大会名簿!G277)","v":""},{"$f":"IF(大会名簿!I277=\"\",\"\",大会名簿!I277)","v":""},39,"1",{"$f":"IF(大会名簿!E309=\"\",\"\",大会名簿!E309)","v":""},{"$f":"IF(大会名簿!F309=\"\",\"\",大会名簿!F309)","v":""},{"$f":"IF(大会名簿!G309=\"\",\"\",大会名簿!G309)","v":""},{"$f":"IF(大会名簿!I309=\"\",\"\",大会名簿!I309)","v":""}]
[null,"２",{"$f":"IF(大会名簿!E278=\"\",\"\",大会名簿!E278)","v":""},{"$f":"IF(大会名簿!F278=\"\",\"\",大会名簿!F278)","v":""},{"$f":"IF(大会名簿!G278=\"\",\"\",大会名簿!G278)","v":""},{"$f":"IF(大会名簿!I278=\"\",\"\",大会名簿!I278)","v":""},null,"２",{"$f":"IF(大会名簿!E310=\"\",\"\",大会名簿!E310)","v":""},{"$f":"IF(大会名簿!F310=\"\",\"\",大会名簿!F310)","v":""},{"$f":"IF(大会名簿!G310=\"\",\"\",大会名簿!G310)","v":""},{"$f":"IF(大会名簿!I310=\"\",\"\",大会名簿!I310)","v":""}]
[null,"３",{"$f":"IF(大会名簿!E279=\"\",\"\",大会名簿!E279)","v":""},{"$f":"IF(大会名簿!F279=\"\",\"\",大会名簿!F279)","v":""},{"$f":"IF(大会名簿!G279=\"\",\"\",大会名簿!G279)","v":""},{"$f":"IF(大会名簿!I279=\"\",\"\",大会名簿!I279)","v":""},null,"３",{"$f":"IF(大会名簿!E311=\"\",\"\",大会名簿!E311)","v":""},{"$f":"IF(大会名簿!F311=\"\",\"\",大会名簿!F311)","v":""},{"$f":"IF(大会名簿!G311=\"\",\"\",大会名簿!G311)","v":""},{"$f":"IF(大会名簿!I311=\"\",\"\",大会名簿!I311)","v":""}]
[null,"４",{"$f":"IF(大会名簿!E280=\"\",\"\",大会名簿!E280)","v":""},{"$f":"IF(大会名簿!F280=\"\",\"\",大会名簿!F280)","v":""},{"$f":"IF(大会名簿!G280=\"\",\"\",大会名簿!G280)","v":""},{"$f":"IF(大会名簿!I280=\"\",\"\",大会名簿!I280)","v":""},null,"４",{"$f":"IF(大会名簿!E312=\"\",\"\",大会名簿!E312)","v":""},{"$f":"IF(大会名簿!F312=\"\",\"\",大会名簿!F312)","v":""},{"$f":"IF(大会名簿!G312=\"\",\"\",大会名簿!G312)","v":""},{"$f":"IF(大会名簿!I312=\"\",\"\",大会名簿!I312)","v":""}]
["組","５",{"$f":"IF(大会名簿!E281=\"\",\"\",大会名簿!E281)","v":""},{"$f":"IF(大会名簿!F281=\"\",\"\",大会名簿!F281)","v":""},{"$f":"IF(大会名簿!G281=\"\",\"\",大会名簿!G281)","v":""},{"$f":"IF(大会名簿!I281=\"\",\"\",大会名簿!I281)","v":""},"組","５",{"$f":"IF(大会名簿!E313=\"\",\"\",大会名簿!E313)","v":""},{"$f":"IF(大会名簿!F313=\"\",\"\",大会名簿!F313)","v":""},{"$f":"IF(大会名簿!G313=\"\",\"\",大会名簿!G313)","v":""},{"$f":"IF(大会名簿!I313=\"\",\"\",大会名簿!I313)","v":""}]
[null,"６",{"$f":"IF(大会名簿!E282=\"\",\"\",大会名簿!E282)","v":""},{"$f":"IF(大会名簿!F282=\"\",\"\",大会名簿!F282)","v":""},{"$f":"IF(大会名簿!G282=\"\",\"\",大会名簿!G282)","v":""},{"$f":"IF(大会名簿!I282=\"\",\"\",大会名簿!I282)","v":""},null,"６",{"$f":"IF(大会名簿!E314=\"\",\"\",大会名簿!E314)","v":""},{"$f":"IF(大会名簿!F314=\"\",\"\",大会名簿!F314)","v":""},{"$f":"IF(大会名簿!G314=\"\",\"\",大会名簿!G314)","v":""},{"$f":"IF(大会名簿!I314=\"\",\"\",大会名簿!I314)","v":""}]
[null,"７",{"$f":"IF(大会名簿!E283=\"\",\"\",大会名簿!E283)","v":""},{"$f":"IF(大会名簿!F283=\"\",\"\",大会名簿!F283)","v":""},{"$f":"IF(大会名簿!G283=\"\",\"\",大会名簿!G283)","v":""},{"$f":"IF(大会名簿!I283=\"\",\"\",大会名簿!I283)","v":""},null,"７",{"$f":"IF(大会名簿!E315=\"\",\"\",大会名簿!E315)","v":""},{"$f":"IF(大会名簿!F315=\"\",\"\",大会名簿!F315)","v":""},{"$f":"IF(大会名簿!G315=\"\",\"\",大会名簿!G315)","v":""},{"$f":"IF(大会名簿!I315=\"\",\"\",大会名簿!I315)","v":""}]
[null,"８",{"$f":"IF(大会名簿!E284=\"\",\"\",大会名簿!E284)","v":""},{"$f":"IF(大会名簿!F284=\"\",\"\",大会名簿!F284)","v":""},{"$f":"IF(大会名簿!G284=\"\",\"\",大会名簿!G284)","v":""},{"$f":"IF(大会名簿!I284=\"\",\"\",大会名簿!I284)","v":""},null,"８",{"$f":"IF(大会名簿!E316=\"\",\"\",大会名簿!E316)","v":""},{"$f":"IF(大会名簿!F316=\"\",\"\",大会名簿!F316)","v":""},{"$f":"IF(大会名簿!G316=\"\",\"\",大会名簿!G316)","v":""},{"$f":"IF(大会名簿!I316=\"\",\"\",大会名簿!I316)","v":""}]
[36,"1",{"$f":"IF(大会名簿!E285=\"\",\"\",大会名簿!E285)","v":""},{"$f":"IF(大会名簿!F285=\"\",\"\",大会名簿!F285)","v":""},{"$f":"IF(大会名簿!G285=\"\",\"\",大会名簿!G285)","v":""},{"$f":"IF(大会名簿!I285=\"\",\"\",大会名簿!I285)","v":""},40,"1",{"$f":"IF(大会名簿!E317=\"\",\"\",大会名簿!E317)","v":""},{"$f":"IF(大会名簿!F317=\"\",\"\",大会名簿!F317)","v":""},{"$f":"IF(大会名簿!G317=\"\",\"\",大会名簿!G317)","v":""},{"$f":"IF(大会名簿!I317=\"\",\"\",大会名簿!I317)","v":""}]
[null,"２",{"$f":"IF(大会名簿!E286=\"\",\"\",大会名簿!E286)","v":""},{"$f":"IF(大会名簿!F286=\"\",\"\",大会名簿!F286)","v":""},{"$f":"IF(大会名簿!G286=\"\",\"\",大会名簿!G286)","v":""},{"$f":"IF(大会名簿!I286=\"\",\"\",大会名簿!I286)","v":""},null,"２",{"$f":"IF(大会名簿!E318=\"\",\"\",大会名簿!E318)","v":""},{"$f":"IF(大会名簿!F318=\"\",\"\",大会名簿!F318)","v":""},{"$f":"IF(大会名簿!G318=\"\",\"\",大会名簿!G318)","v":""},{"$f":"IF(大会名簿!I318=\"\",\"\",大会名簿!I318)","v":""}]
[null,"３",{"$f":"IF(大会名簿!E287=\"\",\"\",大会名簿!E287)","v":""},{"$f":"IF(大会名簿!F287=\"\",\"\",大会名簿!F287)","v":""},{"$f":"IF(大会名簿!G287=\"\",\"\",大会名簿!G287)","v":""},{"$f":"IF(大会名簿!I287=\"\",\"\",大会名簿!I287)","v":""},null,"３",{"$f":"IF(大会名簿!E319=\"\",\"\",大会名簿!E319)","v":""},{"$f":"IF(大会名簿!F319=\"\",\"\",大会名簿!F319)","v":""},{"$f":"IF(大会名簿!G319=\"\",\"\",大会名簿!G319)","v":""},{"$f":"IF(大会名簿!I319=\"\",\"\",大会名簿!I319)","v":""}]
[null,"４",{"$f":"IF(大会名簿!E288=\"\",\"\",大会名簿!E288)","v":""},{"$f":"IF(大会名簿!F288=\"\",\"\",大会名簿!F288)","v":""},{"$f":"IF(大会名簿!G288=\"\",\"\",大会名簿!G288)","v":""},{"$f":"IF(大会名簿!I288=\"\",\"\",大会名簿!I288)","v":""},null,"４",{"$f":"IF(大会名簿!E320=\"\",\"\",大会名簿!E320)","v":""},{"$f":"IF(大会名簿!F320=\"\",\"\",大会名簿!F320)","v":""},{"$f":"IF(大会名簿!G320=\"\",\"\",大会名簿!G320)","v":""},{"$f":"IF(大会名簿!I320=\"\",\"\",大会名簿!I320)","v":""}]
["組","５",{"$f":"IF(大会名簿!E289=\"\",\"\",大会名簿!E289)","v":""},{"$f":"IF(大会名簿!F289=\"\",\"\",大会名簿!F289)","v":""},{"$f":"IF(大会名簿!G289=\"\",\"\",大会名簿!G289)","v":""},{"$f":"IF(大会名簿!I289=\"\",\"\",大会名簿!I289)","v":""},"組","５",{"$f":"IF(大会名簿!E321=\"\",\"\",大会名簿!E321)","v":""},{"$f":"IF(大会名簿!F321=\"\",\"\",大会名簿!F321)","v":""},{"$f":"IF(大会名簿!G321=\"\",\"\",大会名簿!G321)","v":""},{"$f":"IF(大会名簿!I321=\"\",\"\",大会名簿!I321)","v":""}]
[null,"６",{"$f":"IF(大会名簿!E290=\"\",\"\",大会名簿!E290)","v":""},{"$f":"IF(大会名簿!F290=\"\",\"\",大会名簿!F290)","v":""},{"$f":"IF(大会名簿!G290=\"\",\"\",大会名簿!G290)","v":""},{"$f":"IF(大会名簿!I290=\"\",\"\",大会名簿!I290)","v":""},null,"６",{"$f":"IF(大会名簿!E322=\"\",\"\",大会名簿!E322)","v":""},{"$f":"IF(大会名簿!F322=\"\",\"\",大会名簿!F322)","v":""},{"$f":"IF(大会名簿!G322=\"\",\"\",大会名簿!G322)","v":""},{"$f":"IF(大会名簿!I322=\"\",\"\",大会名簿!I322)","v":""}]
[null,"７",{"$f":"IF(大会名簿!E291=\"\",\"\",大会名簿!E291)","v":""},{"$f":"IF(大会名簿!F291=\"\",\"\",大会名簿!F291)","v":""},{"$f":"IF(大会名簿!G291=\"\",\"\",大会名簿!G291)","v":""},{"$f":"IF(大会名簿!I291=\"\",\"\",大会名簿!I291)","v":""},null,"７",{"$f":"IF(大会名簿!E323=\"\",\"\",大会名簿!E323)","v":""},{"$f":"IF(大会名簿!F323=\"\",\"\",大会名簿!F323)","v":""},{"$f":"IF(大会名簿!G323=\"\",\"\",大会名簿!G323)","v":""},{"$f":"IF(大会名簿!I323=\"\",\"\",大会名簿!I323)","v":""}]
[null,"８",{"$f":"IF(大会名簿!E292=\"\",\"\",大会名簿!E292)","v":""},{"$f":"IF(大会名簿!F292=\"\",\"\",大会名簿!F292)","v":""},{"$f":"IF(大会名簿!G292=\"\",\"\",大会名簿!G292)","v":""},{"$f":"IF(大会名簿!I292=\"\",\"\",大会名簿!I292)","v":""},null,"８",{"$f":"IF(大会名簿!E324=\"\",\"\",大会名簿!E324)","v":""},{"$f":"IF(大会名簿!F324=\"\",\"\",大会名簿!F324)","v":""},{"$f":"IF(大会名簿!G324=\"\",\"\",大会名簿!G324)","v":""},{"$f":"IF(大会名簿!I324=\"\",\"\",大会名簿!I324)","v":""}]

{"sheet":"スコアカード","index":3,"n_rows":353,"n_cols":64,"rows_kept":353,"cut":false,"hidden":false,"merged":[[0,0,0,15],[0,16,0,31],[0,32,0,47],[0,48,0,63],[1,0,2,1],[1,2,1,3],[2,2,2,3],[1,4,1,15],[1,16,2,17],[1,18,1,19],[1,52,1,63],[2,52,2,53],[2,54,2,55],[2,56,2,59],[2,60,2,61],[2,62,2,63],[1,48,2,49],[1,36,1,47],[2,36,2,37],[2,20,2,21],[2,22,2,23],[1,32,2,33],[1,50,1,51],[2,50,2,51],[2,40,2,43],[2,44,2,45],[2,46,2,47],[2,18,2,19],[2,12,2,13],[2,14,2,15],[2,38,2,39],[1,34,1,35],[2,34,2,35],[2,24,2,27],[2,28,2,29],[2,30,2,31],[1,20,1,31],[7,1,7,2],[7,17,7,18],[7,33,7,34],[7,49,7,50],[8,1,8,2],[8,17,8,18],[8,33,8,34],[8,49,8,50],[5,1,5,2],[5,17,5,18],[5,33,5,34],[5,49,5,50],[6,1,6,2],[6,17,6,18],[6,33,6,34],[6,49,6,50],[3,17,3,18],[3,1,3,2],[4,1,4,2],[4,17,4,18],[4,33,4,34],[4,49,4,50],[3,49,3,50],[3,33,3,34],[11,1,11,2],[11,17,11,18],[11,33,11,34],[11,49,11,50],[12,0,13,1],[12,2,12,3],[13,2,13,3],[12,4,12,15],[13,4,13,5],[13,6,13,7],[13,40,13,43],[13,44,13,45],[13,46,13,47],[12,48,13,49],[12,36,12,47],[13,36,13,37],[9,1,9,2],[9,17,9,18],[9,33,9,34],[9,49,9,50],[10,1,10,2],[10,17,10,18],[10,33,10,34],[10,49,10,50],[13,56,13,59],[12,52,12,63],[13,52,13,53],[13,60,13,61],[13,62,13,63],[14,49,14,50],[12,50,12,51],[13,50,13,51],[13,30,13,31],[12,20,12,31],[13,20,13,21],[13,22,13,23],[12,32,13,33],[13,54,13,55],[18,1,18,2],[18,17,18,18],[18,33,18,34],[18,49,18,50],[12,16,13,17],[12,18,12,19],[13,18,13,19],[13,12,13,13],[13,14,13,15],[13,38,13,39],[12,34,12,35],[13,34,13,35],[13,24,13,27],[13,28,13,29],[19,1,19,2],[19,17,19,18],[19,33,19,34],[19,49,19,50],[16,1,16,2],[16,17,16,18],[16,33,16,34],[16,49,16,50],[17,1,17,2],[17,17,17,18],[17,33,17,34],[17,49,17,50],[14,17,14,18],[14,1,14,2],[15,1,15,2],[15,17,15,18],[15,33,15,34],[15,49,15,50],[14,33,14,34],[23,34,23,35],[24,34,24,35],[24,24,24,27],[24,28,24,29],[24,30,24,31],[22,1,22,2],[22,17,22,18],[22,33,22,34],[22,49,22,50],[23,0,24,1],[23,2,23,3],[24,2,24,3],[23,4,23,15],[24,4,24,5],[24,6,24,7],[20,1,20,2],[20,17,20,18],[20,33,20,34],[20,49,20,50],[21,1,21,2],[21,17,21,18],[21,33,21,34],[21,49,21,50],[25,49,25,50],[25,33,25,34],[25,17,25,18],[25,1,25,2],[26,1,26,2],[26,17,26,18],[26,33,26,34],[26,49,26,50],[24,46,24,47],[23,50,23,51],[23,52,23,63],[24,50,24,51],[24,52,24,53],[24,54,24,55],[24,56,24,59],[24,60,24,61],[24,62,24,63],[23,20,23,31],[24,20,24,21],[24,22,24,23],[23,32,24,33],[23,48,24,49],[23,36,23,47],[24,36,24,37],[24,38,24,39],[24,40,24,43],[24,44,24,45],[23,16,24,17],[23,18,23,19],[24,18,24,19],[24,12,24,13],[24,14,24,15],[31,1,31,2],[31,17,31,18],[31,33,31,34],[31,49,31,50],[32,1,32,2],[32,17,32,18],[32,33,32,34],[32,49,32,50],[29,1,29,2],[29,17,29,18],[29,33,29,34],[29,49,29,50],[30,1,30,2],[30,17,30,18],[30,33,30,34],[30,49,30,50],[27,1,27,2],[27,17,27,18],[27,33,27,34],[27,49,27,50],[28,1,28,2],[28,17,28,18],[28,33,28,34],[28,49,28,50],[34,16,35,17],[34,18,34,19],[35,18,35,19],[35,12,35,13],[35,14,35,15],[34,34,34,35],[35,34,35,35],[35,24,35,27],[35,28,35,29],[35,30,35,31],[33,1,33,2],[33,17,33,18],[33,33,33,34],[33,49,33,50],[34,0,35,1],[34,2,34,3],[35,2,35,3],[34,4,34,15],[35,4,35,5],[35,6,35,7],[35,46,35,47],[34,50,34,51],[34,52,34,63],[35,50,35,51],[35,52,35,53],[35,54,35,55],[35,56,35,59],[35,60,35,61],[35,62,35,63],[34,20,34,31],[35,20,35,21],[35,22,35,23],[34,32,35,33],[34,48,35,49],[34,36,34,47],[35,36,35,37],[35,38,35,39],[35,40,35,43],[35,44,35,45],[40,1,40,2],[40,17,40,18],[40,33,40,34],[40,49,40,50],[41,1,41,2],[41,17,41,18],[41,33,41,34],[41,49,41,50],[38,1,38,2],[38,17,38,18],[38,33,38,34],[38,49,38,50],[39,1,39,2],[39,17,39,18],[39,33,39,34],[39,49,39,50],[36,49,36,50],[36,33,36,34],[36,17,36,18],[36,1,36,2],[37,1,37,2],[37,17,37,18],[37,33,37,34],[37,49,37,50],[46,24,46,27],[46,28,46,29],[46,30,46,31],[45,20,45,31],[46,20,46,21],[44,1,44,2],[44,17,44,18],[44,33,44,34],[44,49,44,50],[46,2,46,3],[45,4,45,15],[46,4,46,5],[46,6,46,7],[45,16,46,17],[45,18,45,19],[42,1,42,2],[42,17,42,18],[42,33,42,34],[42,49,42,50],[43,1,43,2],[43,17,43,18],[43,33,43,34],[43,49,43,50],[47,1,47,2],[2,6,2,7],[2,8,2,11],[2,4,2,5],[13,8,13,11],[24,8,24,11],[35,8,35,11],[46,8,46,11],[45,0,46,1],[45,2,45,3],[45,50,45,51],[45,52,45,63],[46,50,46,51],[46,52,46,53],[46,54,46,55],[46,56,46,59],[46,60,46,61],[46,62,46,63],[46,22,46,23],[45,32,46,33],[45,48,46,49],[45,36,45,47],[46,36,46,37],[46,38,46,39],[46,40,46,43],[46,44,46,45],[46,46,46,47],[46,18,46,19],[46,12,46,13],[46,14,46,15],[45,34,45,35],[46,34,46,35],[47,17,47,18],[89,4,89,15],[90,4,90,5],[90,6,90,7],[90,8,90,11],[90,12,90,13],[90,14,90,15],[56,16,57,17],[56,18,56,19],[57,18,57,19],[78,4,78,15],[79,4,79,5],[79,6,79,7],[79,8,79,11],[79,12,79,13],[79,14,79,15],[67,4,67,15],[68,4,68,5],[68,6,68,7],[68,8,68,11],[68,12,68,13],[68,14,68,15],[56,4,56,15],[57,4,57,5],[57,6,57,7],[57,8,57,11],[57,12,57,13],[57,14,57,15],[62,17,62,18],[67,16,68,17],[67,18,67,19],[68,18,68,19],[47,49,47,50],[166,4,166,15],[167,4,167,5],[167,6,167,7],[167,8,167,11],[167,12,167,13],[167,14,167,15],[57,24,57,27],[57,28,57,29],[57,30,57,31],[144,4,144,15],[145,4,145,5],[145,6,145,7],[145,8,145,11],[145,12,145,13],[145,14,145,15],[133,4,133,15],[134,4,134,5],[134,6,134,7],[134,8,134,11],[134,12,134,13],[134,14,134,15],[47,33,47,34],[122,4,122,15],[123,4,123,5],[123,6,123,7],[123,8,123,11],[123,12,123,13],[123,14,123,15],[56,20,56,31],[57,20,57,21],[57,22,57,23],[52,1,52,2],[52,17,52,18],[52,33,52,34],[52,49,52,50],[53,1,53,2],[53,17,53,18],[53,33,53,34],[53,49,53,50],[50,1,50,2],[50,17,50,18],[50,33,50,34],[50,49,50,50],[51,1,51,2],[51,17,51,18],[51,33,51,34],[51,49,51,50],[48,1,48,2],[48,17,48,18],[48,33,48,34],[48,49,48,50],[49,1,49,2],[49,17,49,18],[49,33,49,34],[49,49,49,50],[56,0,57,1],[56,2,56,3],[57,2,57,3],[210,4,210,15],[59,1,59,2],[61,1,61,2],[63,1,63,2],[65,1,65,2],[67,0,68,1],[67,2,67,3],[54,1,54,2],[54,17,54,18],[54,33,54,34],[54,49,54,50],[55,1,55,2],[55,17,55,18],[55,33,55,34],[55,49,55,50],[111,4,111,15],[112,4,112,5],[112,6,112,7],[112,8,112,11],[112,12,112,13],[112,14,112,15],[100,4,100,15],[101,4,101,5],[101,6,101,7],[101,8,101,11],[101,12,101,13],[101,14,101,15],[56,50,56,51],[62,1,62,2],[56,52,56,63],[57,50,57,51],[57,52,57,53],[57,54,57,55],[57,56,57,59],[57,60,57,61],[57,62,57,63],[56,32,57,33],[56,34,56,35],[57,34,57,35],[56,48,57,49],[56,36,56,47],[57,36,57,37],[57,38,57,39],[57,40,57,43],[57,44,57,45],[57,46,57,47],[62,33,62,34],[62,49,62,50],[63,17,63,18],[63,33,63,34],[63,49,63,50],[60,1,60,2],[60,17,60,18],[60,33,60,34],[60,49,60,50],[61,17,61,18],[61,33,61,34],[61,49,61,50],[58,49,58,50],[58,33,58,34],[58,17,58,18],[58,1,58,2],[59,17,59,18],[59,33,59,34],[59,49,59,50],[66,1,66,2],[66,17,66,18],[66,33,66,34],[66,49,66,50],[68,2,68,3],[211,4,211,5],[211,6,211,7],[211,8,211,11],[70,1,70,2],[72,1,72,2],[64,1,64,2],[64,17,64,18],[64,33,64,34],[64,49,64,50],[65,17,65,18],[65,33,65,34],[65,49,65,50],[67,50,67,51],[74,33,74,34],[74,49,74,50],[75,1,75,2],[75,17,75,18],[75,33,75,34],[75,49,75,50],[71,33,71,34],[71,49,71,50],[72,17,72,18],[72,33,72,34],[72,49,72,50],[73,1,73,2],[73,17,73,18],[73,33,73,34],[67,52,67,63],[68,50,68,51],[68,52,68,53],[68,54,68,55],[68,56,68,59],[68,60,68,61],[68,62,68,63],[67,34,67,35],[68,34,68,35],[68,30,68,31],[67,48,68,49],[67,36,67,47],[68,36,68,37],[68,38,68,39],[68,40,68,43],[68,44,68,45],[68,46,68,47],[67,20,67,31],[68,20,68,21],[68,22,68,23],[68,24,68,27],[68,28,68,29],[67,32,68,33],[73,49,73,50],[69,49,69,50],[69,33,69,34],[69,17,69,18],[69,1,69,2],[70,17,70,18],[70,33,70,34],[70,49,70,50],[74,1,74,2],[79,20,79,21],[79,22,79,23],[79,24,79,27],[79,28,79,29],[79,2,79,3],[79,30,79,31],[78,20,78,31],[71,1,71,2],[71,17,71,18],[74,17,74,18],[78,16,79,17],[78,18,78,19],[79,18,79,19],[81,1,81,2],[81,17,81,18],[83,1,83,2],[83,17,83,18],[85,1,85,2],[76,17,76,18],[76,33,76,34],[76,49,76,50],[77,1,77,2],[77,17,77,18],[77,33,77,34],[77,49,77,50],[76,1,76,2],[78,0,79,1],[78,2,78,3],[82,1,82,2],[82,17,82,18],[82,33,82,34],[82,49,82,50],[83,33,83,34],[83,49,83,50],[80,49,80,50],[80,33,80,34],[80,17,80,18],[80,1,80,2],[81,33,81,34],[81,49,81,50],[78,50,78,51],[78,52,78,63],[79,50,79,51],[79,52,79,53],[79,54,79,55],[79,56,79,59],[79,60,79,61],[79,62,79,63],[78,48,79,49],[78,36,78,47],[79,36,79,37],[79,38,79,39],[79,40,79,43],[79,44,79,45],[79,46,79,47],[78,32,79,33],[78,34,78,35],[79,34,79,35],[86,1,86,2],[86,17,86,18],[86,33,86,34],[86,49,86,50],[87,1,87,2],[87,17,87,18],[87,33,87,34],[87,49,87,50],[84,1,84,2],[84,17,84,18],[84,33,84,34],[84,49,84,50],[85,17,85,18],[85,33,85,34],[85,49,85,50],[90,20,90,21],[90,22,90,23],[90,24,90,27],[90,28,90,29],[89,32,90,33],[88,1,88,2],[88,17,88,18],[88,33,88,34],[93,17,93,18],[93,33,93,34],[93,49,93,50],[94,17,94,18],[94,33,94,34],[94,49,94,50],[91,49,91,50],[91,33,91,34],[91,17,91,18],[91,1,91,2],[92,17,92,18],[92,33,92,34],[92,49,92,50],[89,50,89,51],[88,49,88,50],[89,0,90,1],[89,2,89,3],[90,2,90,3],[89,16,90,17],[89,18,89,19],[90,18,90,19],[104,1,104,2],[104,17,104,18],[104,33,104,34],[104,49,104,50],[105,33,105,34],[105,49,105,50],[102,49,102,50],[89,52,89,63],[90,50,90,51],[90,52,90,53],[90,54,90,55],[90,56,90,59],[90,60,90,61],[90,62,90,63],[89,34,89,35],[90,34,90,35],[90,30,90,31],[89,48,90,49],[89,36,89,47],[90,36,90,37],[90,38,90,39],[90,40,90,43],[90,44,90,45],[90,46,90,47],[89,20,89,31],[92,1,92,2],[94,1,94,2],[96,1,96,2],[98,1,98,2],[100,0,101,1],[93,1,93,2],[95,1,95,2],[100,16,101,17],[100,18,100,19],[101,18,101,19],[103,1,103,2],[97,17,97,18],[97,33,97,34],[97,49,97,50],[98,17,98,18],[98,33,98,34],[98,49,98,50],[95,17,95,18],[95,33,95,34],[95,49,95,50],[96,17,96,18],[96,33,96,34],[96,49,96,50],[100,50,100,51],[100,2,100,3],[99,1,99,2],[99,17,99,18],[99,33,99,34],[99,49,99,50],[101,2,101,3],[102,33,102,34],[102,17,102,18],[102,1,102,2],[103,33,103,34],[103,49,103,50],[103,17,103,18],[97,1,97,2],[100,52,100,63],[101,50,101,51],[101,52,101,53],[101,54,101,55],[101,56,101,59],[101,60,101,61],[101,62,101,63],[101,22,101,23],[101,24,101,27],[101,28,101,29],[100,48,101,49],[100,36,100,47],[101,36,101,37],[101,38,101,39],[101,40,101,43],[101,44,101,45],[101,46,101,47],[100,32,101,33],[100,34,100,35],[101,34,101,35],[101,30,101,31],[100,20,100,31],[101,20,101,21],[105,1,105,2],[105,17,105,18],[107,1,107,2],[110,1,110,2],[110,17,110,18],[110,33,110,34],[110,49,110,50],[111,0,112,1],[111,2,111,3],[112,2,112,3],[111,16,112,17],[111,18,111,19],[112,18,112,19],[108,1,108,2],[108,17,108,18],[108,33,108,34],[108,49,108,50],[109,1,109,2],[109,17,109,18],[109,33,109,34],[109,49,109,50],[106,1,106,2],[106,17,106,18],[106,33,106,34],[106,49,106,50],[107,17,107,18],[107,33,107,34],[107,49,107,50],[113,49,113,50],[113,33,113,34],[113,17,113,18],[113,1,113,2],[114,33,114,34],[114,49,114,50],[111,50,111,51],[111,52,111,63],[112,50,112,51],[112,52,112,53],[112,54,112,55],[112,56,112,59],[112,60,112,61],[112,62,112,63],[111,48,112,49],[111,36,111,47],[112,36,112,37],[112,38,112,39],[112,40,112,43],[112,44,112,45],[112,46,112,47],[114,17,114,18],[111,32,112,33],[111,34,111,35],[112,34,112,35],[112,30,112,31],[111,20,111,31],[112,20,112,21],[112,22,112,23],[112,24,112,27],[112,28,112,29],[114,1,114,2],[120,33,120,34],[120,49,120,50],[121,1,121,2],[121,17,121,18],[121,33,121,34],[121,49,121,50],[120,17,120,18],[118,33,118,34],[118,49,118,50],[119,1,119,2],[119,17,119,18],[119,33,119,34],[119,49,119,50],[118,17,118,18],[115,17,115,18],[115,33,115,34],[115,49,115,50],[116,33,116,34],[116,49,116,50],[117,1,117,2],[117,17,117,18],[117,33,117,34],[117,49,117,50],[116,17,116,18],[116,1,116,2],[118,1,118,2],[120,1,120,2],[115,1,115,2],[123,60,123,61],[123,62,123,63],[124,49,124,50],[124,33,124,34],[124,17,124,18],[124,1,124,2],[122,48,123,49],[122,36,122,47],[123,36,123,37],[123,38,123,39],[122,50,122,51],[122,52,122,63],[123,50,123,51],[123,52,123,53],[123,54,123,55],[123,56,123,59],[122,32,123,33],[122,34,122,35],[123,34,123,35],[123,30,123,31],[122,20,122,31],[123,20,123,21],[123,22,123,23],[123,24,123,27],[123,28,123,29],[122,16,123,17],[122,18,122,19],[123,18,123,19],[122,0,123,1],[122,2,122,3],[123,2,123,3],[129,33,129,34],[129,49,129,50],[130,1,130,2],[130,17,130,18],[130,33,130,34],[130,49,130,50],[129,17,129,18],[127,33,127,34],[127,49,127,50],[128,1,128,2],[128,17,128,18],[128,33,128,34],[128,49,128,50],[125,33,125,34],[125,49,125,50],[126,1,126,2],[126,17,126,18],[126,33,126,34],[126,49,126,50],[125,1,125,2],[125,17,125,18],[127,1,127,2],[127,17,127,18],[129,1,129,2],[133,2,133,3],[134,2,134,3],[222,14,222,15],[136,1,136,2],[138,1,138,2],[140,1,140,2],[142,1,142,2],[144,0,145,1],[144,2,144,3],[137,1,137,2],[131,17,131,18],[131,33,131,34],[131,49,131,50],[132,1,132,2],[132,17,132,18],[132,33,132,34],[132,49,132,50],[222,12,222,13],[131,1,131,2],[222,4,222,5],[133,0,134,1],[133,50,133,51],[139,1,139,2],[139,17,139,18],[139,33,139,34],[139,49,139,50],[140,17,140,18],[140,33,140,34],[140,49,140,50],[137,17,137,18],[137,33,137,34],[137,49,137,50],[133,52,133,63],[134,50,134,51],[134,52,134,53],[134,54,134,55],[134,56,134,59],[134,60,134,61],[134,62,134,63],[133,32,134,33],[133,34,133,35],[134,34,134,35],[134,30,134,31],[133,48,134,49],[133,36,133,47],[134,36,134,37],[134,38,134,39],[133,16,134,17],[133,18,133,19],[134,18,134,19],[133,20,133,31],[134,20,134,21],[134,22,134,23],[134,24,134,27],[134,28,134,29],[138,17,138,18],[138,33,138,34],[138,49,138,50],[135,49,135,50],[135,33,135,34],[135,17,135,18],[135,1,135,2],[136,17,136,18],[136,33,136,34],[136,49,136,50],[143,1,143,2],[143,17,143,18],[143,33,143,34],[143,49,143,50],[145,2,145,3],[232,4,232,15],[144,16,145,17],[144,18,144,19],[145,18,145,19],[147,1,147,2],[141,1,141,2],[141,17,141,18],[141,33,141,34],[141,49,141,50],[142,17,142,18],[142,33,142,34],[142,49,142,50],[144,50,144,51],[150,1,150,2],[150,17,150,18],[150,33,150,34],[150,49,150,50],[144,52,144,63],[145,50,145,51],[145,52,145,53],[145,54,145,55],[145,56,145,59],[145,60,145,61],[145,62,145,63],[145,22,145,23],[145,24,145,27],[145,28,145,29],[144,48,145,49],[144,36,144,47],[145,36,145,37],[145,38,145,39],[147,17,147,18],[149,1,149,2],[149,17,149,18],[144,32,145,33],[144,34,144,35],[145,34,145,35],[145,30,145,31],[144,20,144,31],[145,20,145,21],[151,17,151,18],[151,33,151,34],[151,49,151,50],[148,1,148,2],[148,17,148,18],[148,33,148,34],[148,49,148,50],[149,33,149,34],[149,49,149,50],[146,49,146,50],[146,33,146,34]],"merged_total":2308,"flags":["merged_cut"]}
[1,null,null,null,null,null,null,null,null,null,null,null,null,null,null,null,1,null,null,null,null,null,null,null,null,null,null,null,null,null,null,null,1,null,null,null,null,null,null,null,null,null,null,null,null,null,null,null,1]
["１組",null,"大会名",null,{"$f":"大会名簿!$D$1","v":"第○○回　○○杯グラウンド・ゴルフ大会"},null,null,null,null,null,null,null,null,null,null,null,"１組",null,"大会名",null,{"$f":"大会名簿!$D$1","v":"第○○回　○○杯グラウンド・ゴルフ大会"},null,null,null,null,null,null,null,null,null,null,null,"１組",null,"大会名",null,{"$f":"大会名簿!$D$1","v":"第○○回　○○杯グラウンド・ゴルフ大会"},null,null,null,null,null,null,null,null,null,null,null,"１組",null,"大会名",null,{"$f":"大会名簿!$D$1","v":"第○○回　○○杯グラウンド・ゴルフ大会"}]
[null,null,"組　名",null,{"$f":"大会名簿!$D$2","v":"Ａ組"},null,"大会開催日",null,{"$f":"大会名簿!$H$2","v":"令和○年○月○日"},null,null,null,"スタートホール",null,"１－１",null,null,null,"組　名",null,{"$f":"大会名簿!$D$2","v":"Ａ組"},null,"大会開催日",null,{"$f":"大会名簿!$H$2","v":"令和○年○月○日"},null,null,null,"スタートホール",null,"２－１",null,null,null,"組　名",null,{"$f":"大会名簿!$D$2","v":"Ａ組"},null,"大会開催日",null,{"$f":"大会名簿!$H$2","v":"令和○年○月○日"},null,null,null,"スタートホール",null,"３－１",null,null,null,"組　名",null,{"$f":"大会名簿!$D$2","v":"Ａ組"},null,"大会開催日",null,{"$f":"大会名簿!$H$2","v":"令和○年○月○日"},null,null,null,"スタートホール",null,"４－１"]
["選手NO","　　　 ホールポスト\n\n　氏名",null,1,2,3,4,5,6,7,8,"実打数","１打回数","２打回数","合計","確　認\nサイン","選手NO","　　　 ホールポスト\n\n　氏名",null,1,2,3,4,5,6,7,8,"実打数","１打回数","２打回数","合計","確　認\nサイン","選手NO","　　　 ホールポスト\n\n　氏名",null,1,2,3,4,5,6,7,8,"実打数","１打回数","２打回数","合計","確　認\nサイン","選手NO","　　　 ホールポスト\n\n　氏名",null,1,2,3,4,5,6,7,8,"実打数","１打回数","２打回数","合計","確　認\nサイン"]
[1,{"$f":"大会名簿!G5","v":"萩　　四朗"},null,null,null,null,null,null,null,null,null,null,null,null,null,null,1,{"$f":"B5","v":"萩　　四朗"},null,null,null,null,null,null,null,null,null,null,null,null,null,null,1,null,null,null,null,null,null,null,null,null,null,null,null,null,null,null,1,{"$f":"B5","v":"萩　　四朗"}]
[2,{"$f":"大会名簿!G6","v":"秋芳　花子"},null,null,null,null,null,null,null,null,null,null,null,null,null,null,2,{"$f":"B6","v":"秋芳　花子"},null,null,null,null,null,null,null,null,null,null,null,null,null,null,2,{"$f":"B6","v":"秋芳　花子"},null,null,null,null,null,null,null,null,null,null,null,null,null,null,2,{"$f":"B6","v":"秋芳　花子"}]
[3,{"$f":"大会名簿!G7","v":"山口　五郎"},null,null,null,null,null,null,null,null,null,null,null,null,null,null,3,"山口　五郎",null,null,null,null,null,null,null,null,null,null,null,null,null,null,3,"山口　五郎",null,null,null,null,null,null,null,null,null,null,null,null,null,null,3,"山口　五郎"]
[4,{"$f":"大会名簿!G8","v":""},null,null,null,null,null,null,null,null,null,null,null,null,null,null,4,"",null,null,null,null,null,null,null,null,null,null,null,null,null,null,4,"",null,null,null,null,null,null,null,null,null,null,null,null,null,null,4,""]
[5,{"$f":"大会名簿!G9","v":""},null,null,null,null,null,null,null,null,null,null,null,null,null,null,5,"",null,null,null,null,null,null,null,null,null,null,null,null,null,null,5,"",null,null,null,null,null,null,null,null,null,null,null,null,null,null,5,""]
[6,{"$f":"大会名簿!G10","v":""},null,null,null,null,null,null,null,null,null,null,null,null,null,null,6,"",null,null,null,null,null,null,null,null,null,null,null,null,null,null,6,"",null,null,null,null,null,null,null,null,null,null,null,null,null,null,6,""]
[7,{"$f":"大会名簿!G11","v":""},null,null,null,null,null,null,null,null,null,null,null,null,null,null,7,"",null,null,null,null,null,null,null,null,null,null,null,null,null,null,7,"",null,null,null,null,null,null,null,null,null,null,null,null,null,null,7,""]
[8,{"$f":"大会名簿!G12","v":""},null,null,null,null,null,null,null,null,null,null,null,null,null,null,8,"",null,null,null,null,null,null,null,null,null,null,null,null,null,null,8,"",null,null,null,null,null,null,null,null,null,null,null,null,null,null,8,""]
["２組",null,"大会名",null,{"$f":"大会名簿!$D$1","v":"第○○回　○○杯グラウンド・ゴルフ大会"},null,null,null,null,null,null,null,null,null,null,null,"２組",null,"大会名",null,{"$f":"大会名簿!$D$1","v":"第○○回　○○杯グラウンド・ゴルフ大会"},null,null,null,null,null,null,null,null,null,null,null,"２組",null,"大会名",null,{"$f":"大会名簿!$D$1","v":"第○○回　○○杯グラウンド・ゴルフ大会"},null,null,null,null,null,null,null,null,null,null,null,"２組",null,"大会名",null,{"$f":"大会名簿!$D$1","v":"第○○回　○○杯グラウンド・ゴルフ大会"}]
[null,null,"組　名",null,{"$f":"大会名簿!$D$2","v":"Ａ組"},null,"大会開催日",null,{"$f":"大会名簿!$H$2","v":"令和○年○月○日"},null,null,null,"スタートホール",null,"１－２",null,null,null,"組　名",null,{"$f":"大会名簿!$D$2","v":"Ａ組"},null,"大会開催日",null,{"$f":"大会名簿!$H$2","v":"令和○年○月○日"},null,null,null,"スタートホール",null,"２－２",null,null,null,"組　名",null,{"$f":"大会名簿!$D$2","v":"Ａ組"},null,"大会開催日",null,{"$f":"大会名簿!$H$2","v":"令和○年○月○日"},null,null,null,"スタートホール",null,"３－２",null,null,null,"組　名",null,{"$f":"大会名簿!$D$2","v":"Ａ組"},null,"大会開催日",null,{"$f":"大会名簿!$H$2","v":"令和○年○月○日"},null,null,null,"スタートホール",null,"４－２"]
["選手NO","　　　 ホールポスト\n\n　氏名",null,2,3,4,5,6,7,8,1,"実打数","１打回数","２打回数","合計","確　認\nサイン","選手NO","　　　 ホールポスト\n\n　氏名",null,2,3,4,5,6,7,8,1,"実打数","１打回数","２打回数","合計","確　認\nサイン","選手NO","　　　 ホールポスト\n\n　氏名",null,2,3,4,5,6,7,8,1,"実打数","１打回数","２打回数","合計","確　認\nサイン","選手NO","　　　 ホールポスト\n\n　氏名",null,2,3,4,5,6,7,8,1,"実打数","１打回数","２打回数","合計","確　認\nサイン"]
[1,{"$f":"大会名簿!G13","v":""},null,null,null,null,null,null,null,null,null,null,null,null,null,null,1,{"$f":"B16","v":""},null,null,null,null,null,null,null,null,null,null,null,null,null,null,1,{"$f":"B16","v":""},null,null,null,null,null,null,null,null,null,null,null,null,null,null,1,{"$f":"B16","v":""}]
[2,{"$f":"大会名簿!G14","v":""},null,null,null,null,null,null,null,null,null,null,null,null,null,null,2,{"$f":"B17","v":""},null,null,null,null,null,null,null,null,null,null,null,null,null,null,2,{"$f":"B17","v":""},null,null,null,null,null,null,null,null,null,null,null,null,null,null,2,{"$f":"B17","v":""}]
[3,{"$f":"大会名簿!G15","v":""},null,null,null,null,null,null,null,null,null,null,null,null,null,null,3,"",null,null,null,null,null,null,null,null,null,null,null,null,null,null,3,"",null,null,null,null,null,null,null,null,null,null,null,null,null,null,3,""]
[4,{"$f":"大会名簿!G16","v":""},null,null,null,null,null,null,null,null,null,null,null,null,null,null,4,"",null,null,null,null,null,null,null,null,null,null,null,null,null,null,4,"",null,null,null,null,null,null,null,null,null,null,null,null,null,null,4,""]
[5,{"$f":"大会名簿!G17","v":""},null,null,null,null,null,null,null,null,null,null,null,null,null,null,5,"",null,null,null,null,null,null,null,null,null,null,null,null,null,null,5,"",null,null,null,null,null,null,null,null,null,null,null,null,null,null,5,""]
[6,{"$f":"大会名簿!G18","v":""},null,null,null,null,null,null,null,null,null,null,null,null,null,null,6,"",null,null,null,null,null,null,null,null,null,null,null,null,null,null,6,"",null,null,null,null,null,null,null,null,null,null,null,null,null,null,6,""]
[7,{"$f":"大会名簿!G19","v":""},null,null,null,null,null,null,null,null,null,null,null,null,null,null,7,"",null,null,null,null,null,null,null,null,null,null,null,null,null,null,7,"",null,null,null,null,null,null,null,null,null,null,null,null,null,null,7,""]
[8,{"$f":"大会名簿!G20","v":""},null,null,null,null,null,null,null,null,null,null,null,null,null,null,8,"",null,null,null,null,null,null,null,null,null,null,null,null,null,null,8,"",null,null,null,null,null,null,null,null,null,null,null,null,null,null,8,""]
["３組",null,"大会名",null,{"$f":"大会名簿!$D$1","v":"第○○回　○○杯グラウンド・ゴルフ大会"},null,null,null,null,null,null,null,null,null,null,null,"３組",null,"大会名",null,{"$f":"大会名簿!$D$1","v":"第○○回　○○杯グラウンド・ゴルフ大会"},null,null,null,null,null,null,null,null,null,null,null,"３組",null,"大会名",null,{"$f":"大会名簿!$D$1","v":"第○○回　○○杯グラウンド・ゴルフ大会"},null,null,null,null,null,null,null,null,null,null,null,"３組",null,"大会名",null,{"$f":"大会名簿!$D$1","v":"第○○回　○○杯グラウンド・ゴルフ大会"}]
[null,null,"組　名",null,{"$f":"大会名簿!$D$2","v":"Ａ組"},null,"大会開催日",null,{"$f":"大会名簿!$H$2","v":"令和○年○月○日"},null,null,null,"スタートホール",null,"１－３",null,null,null,"組　名",null,{"$f":"大会名簿!$D$2","v":"Ａ組"},null,"大会開催日",null,{"$f":"大会名簿!$H$2","v":"令和○年○月○日"},null,null,null,"スタートホール",null,"２－３",null,null,null,"組　名",null,{"$f":"大会名簿!$D$2","v":"Ａ組"},null,"大会開催日",null,{"$f":"大会名簿!$H$2","v":"令和○年○月○日"},null,null,null,"スタートホール",null,"３－３",null,null,null,"組　名",null,{"$f":"大会名簿!$D$2","v":"Ａ組"},null,"大会開催日",null,{"$f":"大会名簿!$H$2","v":"令和○年○月○日"},null,null,null,"スタートホール",null,"４－３"]
["選手NO","　　　 ホールポスト\n\n　氏名",null,3,4,5,6,7,8,1,2,"実打数","１打回数","２打回数","合計","確　認\nサイン","選手NO","　　　 ホールポスト\n\n　氏名",null,3,4,5,6,7,8,1,2,"実打数","１打回数","２打回数","合計","確　認\nサイン","選手NO","　　　 ホールポスト\n\n　氏名",null,3,4,5,6,7,8,1,2,"実打数","１打回数","２打回数","合計","確　認\nサイン","選手NO","　　　 ホールポスト\n\n　氏名",null,3,4,5,6,7,8,1,2,"実打数","１打回数","２打回数","合計","確　認\nサイン"]
[1,{"$f":"大会名簿!G21","v":""},null,null,null,null,null,null,null,null,null,null,null,null,null,null,1,{"$f":"B27","v":""},null,null,null,null,null,null,null,null,null,null,null,null,null,null,1,{"$f":"B27","v":""},null,null,null,null,null,null,null,null,null,null,null,null,null,null,1,{"$f":"B27","v":""}]
[2,{"$f":"大会名簿!G22","v":""},null,null,null,null,null,null,null,null,null,null,null,null,null,null,2,{"$f":"B28","v":""},null,null,null,null,null,null,null,null,null,null,null,null,null,null,2,{"$f":"B28","v":""},null,null,null,null,null,null,null,null,null,null,null,null,null,null,2,{"$f":"B28","v":""}]
[3,{"$f":"大会名簿!G23","v":""},null,null,null,null,null,null,null,null,null,null,null,null,null,null,3,"",null,null,null,null,null,null,null,null,null,null,null,null,null,null,3,"",null,null,null,null,null,null,null,null,null,null,null,null,null,null,3,""]
[4,{"$f":"大会名簿!G24","v":""},null,null,null,null,null,null,null,null,null,null,null,null,null,null,4,"",null,null,null,null,null,null,null,null,null,null,null,null,null,null,4,"",null,null,null,null,null,null,null,null,null,null,null,null,null,null,4,""]
[5,{"$f":"大会名簿!G25","v":""},null,null,null,null,null,null,null,null,null,null,null,null,null,null,5,"",null,null,null,null,null,null,null,null,null,null,null,null,null,null,5,"",null,null,null,null,null,null,null,null,null,null,null,null,null,null,5,""]
[6,{"$f":"大会名簿!G26","v":""},null,null,null,null,null,null,null,null,null,null,null,null,null,null,6,"",null,null,null,null,null,null,null,null,null,null,null,null,null,null,6,"",null,null,null,null,null,null,null,null,null,null,null,null,null,null,6,""]
[7,{"$f":"大会名簿!G27","v":""},null,null,null,null,null,null,null,null,null,null,null,null,null,null,7,"",null,null,null,null,null,null,null,null,null,null,null,null,null,null,7,"",null,null,null,null,null,null,null,null,null,null,null,null,null,null,7,""]
[8,{"$f":"大会名簿!G28","v":""},null,null,null,null,null,null,null,null,null,null,null,null,null,null,8,"",null,null,null,null,null,null,null,null,null,null,null,null,null,null,8,{"$f":"B34","v":""},null,null,null,null,null,null,null,null,null,null,null,null,null,null,8,""]
["４組",null,"大会名",null,{"$f":"大会名簿!$D$1","v":"第○○回　○○杯グラウンド・ゴルフ大会"},null,null,null,null,null,null,null,null,null,null,null,"４組",null,"大会名",null,{"$f":"大会名簿!$D$1","v":"第○○回　○○杯グラウンド・ゴルフ大会"},null,null,null,null,null,null,null,null,null,null,null,"４組",null,"大会名",null,{"$f":"大会名簿!$D$1","v":"第○○回　○○杯グラウンド・ゴルフ大会"},null,null,null,null,null,null,null,null,null,null,null,"４組",null,"大会名",null,{"$f":"大会名簿!$D$1","v":"第○○回　○○杯グラウンド・ゴルフ大会"}]
[null,null,"組　名",null,{"$f":"大会名簿!$D$2","v":"Ａ組"},null,"大会開催日",null,{"$f":"大会名簿!$H$2","v":"令和○年○月○日"},null,null,null,"スタートホール",null,"１－４",null,null,null,"組　名",null,{"$f":"大会名簿!$D$2","v":"Ａ組"},null,"大会開催日",null,{"$f":"大会名簿!$H$2","v":"令和○年○月○日"},null,null,null,"スタートホール",null,"２－４",null,null,null,"組　名",null,{"$f":"大会名簿!$D$2","v":"Ａ組"},null,"大会開催日",null,{"$f":"大会名簿!$H$2","v":"令和○年○月○日"},null,null,null,"スタートホール",null,"３－４",null,null,null,"組　名",null,{"$f":"大会名簿!$D$2","v":"Ａ組"},null,"大会開催日",null,{"$f":"大会名簿!$H$2","v":"令和○年○月○日"},null,null,null,"スタートホール",null,"４－４"]
["選手NO","　　　 ホールポスト\n\n　氏名",null,4,5,6,7,8,1,2,3,"実打数","１打回数","２打回数","合計","確　認\nサイン","選手NO","　　　 ホールポスト\n\n　氏名",null,4,5,6,7,8,1,2,3,"実打数","１打回数","２打回数","合計","確　認\nサイン","選手NO","　　　 ホールポスト\n\n　氏名",null,4,5,6,7,8,1,2,3,"実打数","１打回数","２打回数","合計","確　認\nサイン","選手NO","　　　 ホールポスト\n\n　氏名",null,4,5,6,7,8,1,2,3,"実打数","１打回数","２打回数","合計","確　認\nサイン"]
[1,{"$f":"大会名簿!G29","v":""},null,null,null,null,null,null,null,null,null,null,null,null,null,null,1,{"$f":"B38","v":""},null,null,null,null,null,null,null,null,null,null,null,null,null,null,1,{"$f":"B38","v":""},null,null,null,null,null,null,null,null,null,null,null,null,null,null,1,{"$f":"B38","v":""}]
[2,{"$f":"大会名簿!G30","v":""},null,null,null,null,null,null,null,null,null,null,null,null,null,null,2,{"$f":"B39","v":""},null,null,null,null,null,null,null,null,null,null,null,null,null,null,2,{"$f":"B39","v":""},null,null,null,null,null,null,null,null,null,null,null,null,null,null,2,{"$f":"B39","v":""}]
[3,{"$f":"大会名簿!G31","v":""},null,null,null,null,null,null,null,null,null,null,null,null,null,null,3,"",null,null,null,null,null,null,null,null,null,null,null,null,null,null,3,"",null,null,null,null,null,null,null,null,null,null,null,null,null,null,3,""]
[4,{"$f":"大会名簿!G32","v":""},null,null,null,null,null,null,null,null,null,null,null,null,null,null,4,"",null,null,null,null,null,null,null,null,null,null,null,null,null,null,4,"",null,null,null,null,null,null,null,null,null,null,null,null,null,null,4,""]
[5,{"$f":"大会名簿!G33","v":""},null,null,null,null,null,null,null,null,null,null,null,null,null,null,5,"",null,null,null,null,null,null,null,null,null,null,null,null,null,null,5,"",null,null,null,null,null,null,null,null,null,null,null,null,null,null,5,""]
[6,{"$f":"大会名簿!G34","v":""},null,null,null,null,null,null,null,null,null,null,null,null,null,null,6,"",null,null,null,null,null,null,null,null,null,null,null,null,null,null,6,"",null,null,null,null,null,null,null,null,null,null,null,null,null,null,6,""]
[7,{"$f":"大会名簿!G35","v":""},null,null,null,null,null,null,null,null,null,null,null,null,null,null,7,"",null,null,null,null,null,null,null,null,null,null,null,null,null,null,7,"",null,null,null,null,null,null,null,null,null,null,null,null,null,null,7,""]
[8,{"$f":"大会名簿!G36","v":""},null,null,null,null,null,null,null,null,null,null,null,null,null,null,8,"",null,null,null,null,null,null,null,null,null,null,null,null,null,null,8,"",null,null,null,null,null,null,null,null,null,null,null,null,null,null,8,""]
["５組",null,"大会名",null,{"$f":"大会名簿!$D$1","v":"第○○回　○○杯グラウンド・ゴルフ大会"},null,null,null,null,null,null,null,null,null,null,null,"５組",null,"大会名",null,{"$f":"大会名簿!$D$1","v":"第○○回　○○杯グラウンド・ゴルフ大会"},null,null,null,null,null,null,null,null,null,null,null,"５組",null,"大会名",null,{"$f":"大会名簿!$D$1","v":"第○○回　○○杯グラウンド・ゴルフ大会"},null,null,null,null,null,null,null,null,null,null,null,"５組",null,"大会名",null,{"$f":"大会名簿!$D$1","v":"第○○回　○○杯グラウンド・ゴルフ大会"}]
[null,null,"組　名",null,{"$f":"大会名簿!$D$2","v":"Ａ組"},null,"大会開催日",null,{"$f":"大会名簿!$H$2","v":"令和○年○月○日"},null,null,null,"スタートホール",null,"１－５",null,null,null,"組　名",null,{"$f":"大会名簿!$D$2","v":"Ａ組"},null,"大会開催日",null,{"$f":"大会名簿!$H$2","v":"令和○年○月○日"},null,null,null,"スタートホール",null,"２－５",null,null,null,"組　名",null,{"$f":"大会名簿!$D$2","v":"Ａ組"},null,"大会開催日",null,{"$f":"大会名簿!$H$2","v":"令和○年○月○日"},null,null,null,"スタートホール",null,"３－５",null,null,null,"組　名",null,{"$f":"大会名簿!$D$2","v":"Ａ組"},null,"大会開催日",null,{"$f":"大会名簿!$H$2","v":"令和○年○月○日"},null,null,null,"スタートホール",null,"４－５"]
["選手NO","　　　 ホールポスト\n\n　氏名",null,5,6,7,8,1,2,3,4,"実打数","１打回数","２打回数","合計","確　認\nサイン","選手NO","　　　 ホールポスト\n\n　氏名",null,5,6,7,8,1,2,3,4,"実打数","１打回数","２打回数","合計","確　認\nサイン","選手NO","　　　 ホールポスト\n\n　氏名",null,5,6,7,8,1,2,3,4,"実打数","１打回数","２打回数","合計","確　認\nサイン","選手NO","　　　 ホールポスト\n\n　氏名",null,5,6,7,8,1,2,3,4,"実打数","１打回数","２打回数","合計","確　認\nサイン"]
[1,{"$f":"大会名簿!G37","v":""},null,null,null,null,null,null,null,null,null,null,null,null,null,null,1,{"$f":"B49","v":""},null,null,null,null,null,null,null,null,null,null,null,null,null,null,1,{"$f":"B49","v":""},null,null,null,null,null,null,null,null,null,null,null,null,null,null,1,{"$f":"B49","v":""}]
[2,{"$f":"大会名簿!G38","v":""},null,null,null,null,null,null,null,null,null,null,null,null,null,null,2,{"$f":"B50","v":""},null,null,null,null,null,null,null,null,null,null,null,null,null,null,2,{"$f":"B50","v":""},null,null,null,null,null,null,null,null,null,null,null,null,null,null,2,{"$f":"B50","v":""}]
[3,{"$f":"大会名簿!G39","v":""},null,null,null,null,null,null,null,null,null,null,null,null,null,null,3,"",null,null,null,null,null,null,null,null,null,null,null,null,null,null,3,"",null,null,null,null,null,null,null,null,null,null,null,null,null,null,3,""]
[4,{"$f":"大会名簿!G40","v":""},null,null,null,null,null,null,null,null,null,null,null,null,null,null,4,"",null,null,null,null,null,null,null,null,null,null,null,null,null,null,4,"",null,null,null,null,null,null,null,null,null,null,null,null,null,null,4,""]
[5,{"$f":"大会名簿!G41","v":""},null,null,null,null,null,null,null,null,null,null,null,null,null,null,5,"",null,null,null,null,null,null,null,null,null,null,null,null,null,null,5,"",null,null,null,null,null,null,null,null,null,null,null,null,null,null,5,""]
[6,{"$f":"大会名簿!G42","v":""},null,null,null,null,null,null,null,null,null,null,null,null,null,null,6,"",null,null,null,null,null,null,null,null,null,null,null,null,null,null,6,"",null,null,null,null,null,null,null,null,null,null,null,null,null,null,6,""]
[7,{"$f":"大会名簿!G43","v":""},null,null,null,null,null,null,null,null,null,null,null,null,null,null,7,"",null,null,null,null,null,null,null,null,null,null,null,null,null,null,7,"",null,null,null,null,null,null,null,null,null,null,null,null,null,null,7,""]
[8,{"$f":"大会名簿!G44","v":""},null,null,null,null,null,null,null,null,null,null,null,null,null,null,8,"",null,null,null,null,null,null,null,null,null,null,null,null,null,null,8,"",null,null,null,null,null,null,null,null,null,null,null,null,null,null,8,""]
["６組",null,"大会名",null,{"$f":"大会名簿!$D$1","v":"第○○回　○○杯グラウンド・ゴルフ大会"},null,null,null,null,null,null,null,null,null,null,null,"６組",null,"大会名",null,{"$f":"大会名簿!$D$1","v":"第○○回　○○杯グラウンド・ゴルフ大会"},null,null,null,null,null,null,null,null,null,null,null,"６組",null,"大会名",null,{"$f":"大会名簿!$D$1","v":"第○○回　○○杯グラウンド・ゴルフ大会"},null,null,null,null,null,null,null,null,null,null,null,"６組",null,"大会名",null,{"$f":"大会名簿!$D$1","v":"第○○回　○○杯グラウンド・ゴルフ大会"}]
[null,null,"組　名",null,{"$f":"大会名簿!$D$2","v":"Ａ組"},null,"大会開催日",null,{"$f":"大会名簿!$H$2","v":"令和○年○月○日"},null,null,null,"スタートホール",null,"１－６",null,null,null,"組　名",null,{"$f":"大会名簿!$D$2","v":"Ａ組"},null,"大会開催日",null,{"$f":"大会名簿!$H$2","v":"令和○年○月○日"},null,null,null,"スタートホール",null,"２－６",null,null,null,"組　名",null,{"$f":"大会名簿!$D$2","v":"Ａ組"},null,"大会開催日",null,{"$f":"大会名簿!$H$2","v":"令和○年○月○日"},null,null,null,"スタートホール",null,"３－６",null,null,null,"組　名",null,{"$f":"大会名簿!$D$2","v":"Ａ組"},null,"大会開催日",null,{"$f":"大会名簿!$H$2","v":"令和○年○月○日"},null,null,null,"スタートホール",null,"４－６"]
["選手NO","　　　 ホールポスト\n\n　氏名",null,6,7,8,1,2,3,4,5,"実打数","１打回数","２打回数","合計","確　認\nサイン","選手NO","　　　 ホールポスト\n\n　氏名",null,6,7,8,1,2,3,4,5,"実打数","１打回数","２打回数","合計","確　認\nサイン","選手NO","　　　 ホールポスト\n\n　氏名",null,6,7,8,1,2,3,4,5,"実打数","１打回数","２打回数","合計","確　認\nサイン","選手NO","　　　 ホールポスト\n\n　氏名",null,6,7,8,1,2,3,4,5,"実打数","１打回数","２打回数","合計","確　認\nサイン"]
[1,{"$f":"大会名簿!G45","v":""},null,null,null,null,null,null,null,null,null,null,null,null,null,null,1,{"$f":"B60","v":""},null,null,null,null,null,null,null,null,null,null,null,null,null,null,1,{"$f":"B60","v":""},null,null,null,null,null,null,null,null,null,null,null,null,null,null,1,{"$f":"B60","v":""}]
[2,{"$f":"大会名簿!G46","v":""},null,null,null,null,null,null,null,null,null,null,null,null,null,null,2,{"$f":"B61","v":""},null,null,null,null,null,null,null,null,null,null,null,null,null,null,2,{"$f":"B61","v":""},null,null,null,null,null,null,null,null,null,null,null,null,null,null,2,{"$f":"B61","v":""}]
[3,{"$f":"大会名簿!G47","v":""},null,null,null,null,null,null,null,null,null,null,null,null,null,null,3,"",null,null,null,null,null,null,null,null,null,null,null,null,null,null,3,"",null,null,null,null,null,null,null,null,null,null,null,null,null,null,3,""]
[4,{"$f":"大会名簿!G48","v":""},null,null,null,null,null,null,null,null,null,null,null,null,null,null,4,"",null,null,null,null,null,null,null,null,null,null,null,null,null,null,4,"",null,null,null,null,null,null,null,null,null,null,null,null,null,null,4,""]
[5,{"$f":"大会名簿!G49","v":""},null,null,null,null,null,null,null,null,null,null,null,null,null,null,5,"",null,null,null,null,null,null,null,null,null,null,null,null,null,null,5,"",null,null,null,null,null,null,null,null,null,null,null,null,null,null,5,""]
[6,{"$f":"大会名簿!G50","v":""},null,null,null,null,null,null,null,null,null,null,null,null,null,null,6,"",null,null,null,null,null,null,null,null,null,null,null,null,null,null,6,"",null,null,null,null,null,null,null,null,null,null,null,null,null,null,6,""]
[7,{"$f":"大会名簿!G51","v":""},null,null,null,null,null,null,null,null,null,null,null,null,null,null,7,"",null,null,null,null,null,null,null,null,null,null,null,null,null,null,7,"",null,null,null,null,null,null,null,null,null,null,null,null,null,null,7,""]
[8,{"$f":"大会名簿!G52","v":""},null,null,null,null,null,null,null,null,null,null,null,null,null,null,8,"",null,null,null,null,null,null,null,null,null,null,null,null,null,null,8,"",null,null,null,null,null,null,null,null,null,null,null,null,null,null,8,""]
["７組",null,"大会名",null,{"$f":"大会名簿!$D$1","v":"第○○回　○○杯グラウンド・ゴルフ大会"},null,null,null,null,null,null,null,null,null,null,null,"７組",null,"大会名",null,{"$f":"大会名簿!$D$1","v":"第○○回　○○杯グラウンド・ゴルフ大会"},null,null,null,null,null,null,null,null,null,null,null,"７組",null,"大会名",null,{"$f":"大会名簿!$D$1","v":"第○○回　○○杯グラウンド・ゴルフ大会"},null,null,null,null,null,null,null,null,null,null,null,"７組",null,"大会名",null,{"$f":"大会名簿!$D$1","v":"第○○回　○○杯グラウンド・ゴルフ大会"}]
[null,null,"組　名",null,{"$f":"大会名簿!$D$2","v":"Ａ組"},null,"大会開催日",null,{"$f":"大会名簿!$H$2","v":"令和○年○月○日"},null,null,null,"スタートホール",null,"１－７",null,null,null,"組　名",null,{"$f":"大会名簿!$D$2","v":"Ａ組"},null,"大会開催日",null,{"$f":"大会名簿!$H$2","v":"令和○年○月○日"},null,null,null,"スタートホール",null,"２－７",null,null,null,"組　名",null,{"$f":"大会名簿!$D$2","v":"Ａ組"},null,"大会開催日",null,{"$f":"大会名簿!$H$2","v":"令和○年○月○日"},null,null,null,"スタートホール",null,"３－７",null,null,null,"組　名",null,{"$f":"大会名簿!$D$2","v":"Ａ組"},null,"大会開催日",null,{"$f":"大会名簿!$H$2","v":"令和○年○月○日"},null,null,null,"スタートホール",null,"４－７"]
["選手NO","　　　 ホールポスト\n\n　氏名",null,7,8,1,2,3,4,5,6,"実打数","１打回数","２打回数","合計","確　認\nサイン","選手NO","　　　 ホールポスト\n\n　氏名",null,7,8,1,2,3,4,5,6,"実打数","１打回数","２打回数","合計","確　認\nサイン","選手NO","　　　 ホールポスト\n\n　氏名",null,7,8,1,2,3,4,5,6,"実打数","１打回数","２打回数","合計","確　認\nサイン","選手NO","　　　 ホールポスト\n\n　氏名",null,7,8,1,2,3,4,5,6,"実打数","１打回数","２打回数","合計","確　認\nサイン"]
[1,{"$f":"大会名簿!G53","v":""},null,null,null,null,null,null,null,null,null,null,null,null,null,null,1,{"$f":"B71","v":""},null,null,null,null,null,null,null,null,null,null,null,null,null,null,1,{"$f":"B71","v":""},null,null,null,null,null,null,null,null,null,null,null,null,null,null,1,{"$f":"B71","v":""}]
[2,{"$f":"大会名簿!G54","v":""},null,null,null,null,null,null,null,null,null,null,null,null,null,null,2,{"$f":"B72","v":""},null,null,null,null,null,null,null,null,null,null,null,null,null,null,2,{"$f":"B72","v":""},null,null,null,null,null,null,null,null,null,null,null,null,null,null,2,{"$f":"B72","v":""}]
[3,{"$f":"大会名簿!G55","v":""},null,null,null,null,null,null,null,null,null,null,null,null,null,null,3,"",null,null,null,null,null,null,null,null,null,null,null,null,null,null,3,"",null,null,null,null,null,null,null,null,null,null,null,null,null,null,3,""]
[4,{"$f":"大会名簿!G56","v":""},null,null,null,null,null,null,null,null,null,null,null,null,null,null,4,"",null,null,null,null,null,null,null,null,null,null,null,null,null,null,4,"",null,null,null,null,null,null,null,null,null,null,null,null,null,null,4,""]
[5,{"$f":"大会名簿!G57","v":""},null,null,null,null,null,null,null,null,null,null,null,null,null,null,5,"",null,null,null,null,null,null,null,null,null,null,null,null,null,null,5,"",null,null,null,null,null,null,null,null,null,null,null,null,null,null,5,""]
[6,{"$f":"大会名簿!G58","v":""},null,null,null,null,null,null,null,null,null,null,null,null,null,null,6,"",null,null,null,null,null,null,null,null,null,null,null,null,null,null,6,"",null,null,null,null,null,null,null,null,null,null,null,null,null,null,6,""]
[7,{"$f":"大会名簿!G59","v":""},null,null,null,null,null,null,null,null,null,null,null,null,null,null,7,"",null,null,null,null,null,null,null,null,null,null,null,null,null,null,7,"",null,null,null,null,null,null,null,null,null,null,null,null,null,null,7,""]
[8,{"$f":"大会名簿!G60","v":""},null,null,null,null,null,null,null,null,null,null,null,null,null,null,8,"",null,null,null,null,null,null,null,null,null,null,null,null,null,null,8,"",null,null,null,null,null,null,null,null,null,null,null,null,null,null,8,""]
["８組",null,"大会名",null,{"$f":"大会名簿!$D$1","v":"第○○回　○○杯グラウンド・ゴルフ大会"},null,null,null,null,null,null,null,null,null,null,null,"８組",null,"大会名",null,{"$f":"大会名簿!$D$1","v":"第○○回　○○杯グラウンド・ゴルフ大会"},null,null,null,null,null,null,null,null,null,null,null,"８組",null,"大会名",null,{"$f":"大会名簿!$D$1","v":"第○○回　○○杯グラウンド・ゴルフ大会"},null,null,null,null,null,null,null,null,null,null,null,"８組",null,"大会名",null,{"$f":"大会名簿!$D$1","v":"第○○回　○○杯グラウンド・ゴルフ大会"}]
[null,null,"組　名",null,{"$f":"大会名簿!$D$2","v":"Ａ組"},null,"大会開催日",null,{"$f":"大会名簿!$H$2","v":"令和○年○月○日"},null,null,null,"スタートホール",null,"１－８",null,null,null,"組　名",null,{"$f":"大会名簿!$D$2","v":"Ａ組"},null,"大会開催日",null,{"$f":"大会名簿!$H$2","v":"令和○年○月○日"},null,null,null,"スタートホール",null,"２－８",null,null,null,"組　名",null,{"$f":"大会名簿!$D$2","v":"Ａ組"},null,"大会開催日",null,{"$f":"大会名簿!$H$2","v":"令和○年○月○日"},null,null,null,"スタートホール",null,"３－８",null,null,null,"組　名",null,{"$f":"大会名簿!$D$2","v":"Ａ組"},null,"大会開催日",null,{"$f":"大会名簿!$H$2","v":"令和○年○月○日"},null,null,null,"スタートホール",null,"４－８"]
["選手NO","　　　 ホールポスト\n\n　氏名",null,8,1,2,3,4,5,6,7,"実打数","１打回数","２打回数","合計","確　認\nサイン","選手NO","　　　 ホールポスト\n\n　氏名",null,8,1,2,3,4,5,6,7,"実打数","１打回数","２打回数","合計","確　認\nサイン","選手NO","　　　 ホールポスト\n\n　氏名",null,8,1,2,3,4,5,6,7,"実打数","１打回数","２打回数","合計","確　認\nサイン","選手NO","　　　 ホールポスト\n\n　氏名",null,8,1,2,3,4,5,6,7,"実打数","１打回数","２打回数","合計","確　認\nサイン"]
[1,{"$f":"大会名簿!G61","v":""},null,null,null,null,null,null,null,null,null,null,null,null,null,null,1,{"$f":"B82","v":""},null,null,null,null,null,null,null,null,null,null,null,null,null,null,1,{"$f":"B82","v":""},null,null,null,null,null,null,null,null,null,null,null,null,null,null,1,{"$f":"B82","v":""}]
[2,{"$f":"大会名簿!G62","v":""},null,null,null,null,null,null,null,null,null,null,null,null,null,null,2,{"$f":"B83","v":""},null,null,null,null,null,null,null,null,null,null,null,null,null,null,2,{"$f":"B83","v":""},null,null,null,null,null,null,null,null,null,null,null,null,null,null,2,{"$f":"B83","v":""}]
[3,{"$f":"大会名簿!G63","v":""},null,null,null,null,null,null,null,null,null,null,null,null,null,null,3,"",null,null,null,null,null,null,null,null,null,null,null,null,null,null,3,"",null,null,null,null,null,null,null,null,null,null,null,null,null,null,3,""]
[4,{"$f":"大会名簿!G64","v":""},null,null,null,null,null,null,null,null,null,null,null,null,null,null,4,"",null,null,null,null,null,null,null,null,null,null,null,null,null,null,4,"",null,null,null,null,null,null,null,null,null,null,null,null,null,null,4,""]
[5,{"$f":"大会名簿!G65","v":""},null,null,null,null,null,null,null,null,null,null,null,null,null,null,5,"",null,null,null,null,null,null,null,null,null,null,null,null,null,null,5,"",null,null,null,null,null,null,null,null,null,null,null,null,null,null,5,""]
[6,{"$f":"大会名簿!G66","v":""},null,null,null,null,null,null,null,null,null,null,null,null,null,null,6,"",null,null,null,null,null,null,null,null,null,null,null,null,null,null,6,"",null,null,null,null,null,null,null,null,null,null,null,null,null,null,6,""]
[7,{"$f":"大会名簿!G67","v":""},null,null,null,null,null,null,null,null,null,null,null,null,null,null,7,"",null,null,null,null,null,null,null,null,null,null,null,null,null,null,7,"",null,null,null,null,null,null,null,null,null,null,null,null,null,null,7,""]
[8,{"$f":"大会名簿!G68","v":""},null,null,null,null,null,null,null,null,null,null,null,null,null,null,8,"",null,null,null,null,null,null,null,null,null,null,null,null,null,null,8,"",null,null,null,null,null,null,null,null,null,null,null,null,null,null,8,""]
["９組",null,"大会名",null,{"$f":"大会名簿!$D$1","v":"第○○回　○○杯グラウンド・ゴルフ大会"},null,null,null,null,null,null,null,null,null,null,null,"９組",null,"大会名",null,{"$f":"大会名簿!$D$1","v":"第○○回　○○杯グラウンド・ゴルフ大会"},null,null,null,null,null,null,null,null,null,null,null,"９組",null,"大会名",null,{"$f":"大会名簿!$D$1","v":"第○○回　○○杯グラウンド・ゴルフ大会"},null,null,null,null,null,null,null,null,null,null,null,"９組",null,"大会名",null,{"$f":"大会名簿!$D$1","v":"第○○回　○○杯グラウンド・ゴルフ大会"}]
[null,null,"組　名",null,{"$f":"大会名簿!$D$2","v":"Ａ組"},null,"大会開催日",null,{"$f":"大会名簿!$H$2","v":"令和○年○月○日"},null,null,null,"スタートホール",null,"２－１",null,null,null,"組　名",null,{"$f":"大会名簿!$D$2","v":"Ａ組"},null,"大会開催日",null,{"$f":"大会名簿!$H$2","v":"令和○年○月○日"},null,null,null,"スタートホール",null,"３－１",null,null,null,"組　名",null,{"$f":"大会名簿!$D$2","v":"Ａ組"},null,"大会開催日",null,{"$f":"大会名簿!$H$2","v":"令和○年○月○日"},null,null,null,"スタートホール",null,"４－１",null,null,null,"組　名",null,{"$f":"大会名簿!$D$2","v":"Ａ組"},null,"大会開催日",null,{"$f":"大会名簿!$H$2","v":"令和○年○月○日"},null,null,null,"スタートホール",null,"１－１"]
["選手NO","　　　 ホールポスト\n\n　氏名",null,1,2,3,4,5,6,7,8,"実打数","１打回数","２打回数","合計","確　認\nサイン","選手NO","　　　 ホールポスト\n\n　氏名",null,1,2,3,4,5,6,7,8,"実打数","１打回数","２打回数","合計","確　認\nサイン","選手NO","　　　 ホールポスト\n\n　氏名",null,1,2,3,4,5,6,7,8,"実打数","１打回数","２打回数","合計","確　認\nサイン","選手NO","　　　 ホールポスト\n\n　氏名",null,1,2,3,4,5,6,7,8,"実打数","１打回数","２打回数","合計","確　認\nサイン"]
[1,{"$f":"大会名簿!G69","v":""},null,null,null,null,null,null,null,null,null,null,null,null,null,null,1,{"$f":"B93","v":""},null,null,null,null,null,null,null,null,null,null,null,null,null,null,1,{"$f":"B93","v":""},null,null,null,null,null,null,null,null,null,null,null,null,null,null,1,{"$f":"B93","v":""}]
[2,{"$f":"大会名簿!G70","v":""},null,null,null,null,null,null,null,null,null,null,null,null,null,null,2,{"$f":"B94","v":""},null,null,null,null,null,null,null,null,null,null,null,null,null,null,2,{"$f":"B94","v":""},null,null,null,null,null,null,null,null,null,null,null,null,null,null,2,{"$f":"B94","v":""}]
[3,{"$f":"大会名簿!G71","v":""},null,null,null,null,null,null,null,null,null,null,null,null,null,null,3,"",null,null,null,null,null,null,null,null,null,null,null,null,null,null,3,"",null,null,null,null,null,null,null,null,null,null,null,null,null,null,3,""]
[4,{"$f":"大会名簿!G72","v":""},null,null,null,null,null,null,null,null,null,null,null,null,null,null,4,"",null,null,null,null,null,null,null,null,null,null,null,null,null,null,4,"",null,null,null,null,null,null,null,null,null,null,null,null,null,null,4,""]
[5,{"$f":"大会名簿!G73","v":""},null,null,null,null,null,null,null,null,null,null,null,null,null,null,5,"",null,null,null,null,null,null,null,null,null,null,null,null,null,null,5,"",null,null,null,null,null,null,null,null,null,null,null,null,null,null,5,""]
[6,{"$f":"大会名簿!G74","v":""},null,null,null,null,null,null,null,null,null,null,null,null,null,null,6,"",null,null,null,null,null,null,null,null,null,null,null,null,null,null,6,"",null,null,null,null,null,null,null,null,null,null,null,null,null,null,6,""]
[7,{"$f":"大会名簿!G75","v":""},null,null,null,null,null,null,null,null,null,null,null,null,null,null,7,"",null,null,null,null,null,null,null,null,null,null,null,null,null,null,7,"",null,null,null,null,null,null,null,null,null,null,null,null,null,null,7,""]
[8,{"$f":"大会名簿!G76","v":""},null,null,null,null,null,null,null,null,null,null,null,null,null,null,8,"",null,null,null,null,null,null,null,null,null,null,null,null,null,null,8,"",null,null,null,null,null,null,null,null,null,null,null,null,null,null,8,""]
["10組",null,"大会名",null,{"$f":"大会名簿!$D$1","v":"第○○回　○○杯グラウンド・ゴルフ大会"},null,null,null,null,null,null,null,null,null,null,null,"10組",null,"大会名",null,{"$f":"大会名簿!$D$1","v":"第○○回　○○杯グラウンド・ゴルフ大会"},null,null,null,null,null,null,null,null,null,null,null,"10組",null,"大会名",null,{"$f":"大会名簿!$D$1","v":"第○○回　○○杯グラウンド・ゴルフ大会"},null,null,null,null,null,null,null,null,null,null,null,"10組",null,"大会名",null,{"$f":"大会名簿!$D$1","v":"第○○回　○○杯グラウンド・ゴルフ大会"}]
[null,null,"組　名",null,{"$f":"大会名簿!$D$2","v":"Ａ組"},null,"大会開催日",null,{"$f":"大会名簿!$H$2","v":"令和○年○月○日"},null,null,null,"スタートホール",null,"２－２",null,null,null,"組　名",null,{"$f":"大会名簿!$D$2","v":"Ａ組"},null,"大会開催日",null,{"$f":"大会名簿!$H$2","v":"令和○年○月○日"},null,null,null,"スタートホール",null,"３－２",null,null,null,"組　名",null,{"$f":"大会名簿!$D$2","v":"Ａ組"},null,"大会開催日",null,{"$f":"大会名簿!$H$2","v":"令和○年○月○日"},null,null,null,"スタートホール",null,"４－２",null,null,null,"組　名",null,{"$f":"大会名簿!$D$2","v":"Ａ組"},null,"大会開催日",null,{"$f":"大会名簿!$H$2","v":"令和○年○月○日"},null,null,null,"スタートホール",null,"１－２"]
["選手NO","　　　  　　ホールポスト\n\n　氏名",null,2,3,4,5,6,7,8,1,"実打数","１打回数","２打回数","合計","確　認\nサイン","選手NO","　　　 ホールポスト\n\n　氏名",null,2,3,4,5,6,7,8,1,"実打数","１打回数","２打回数","合計","確　認\nサイン","選手NO","　　　 ホールポスト\n\n　氏名",null,2,3,4,5,6,7,8,1,"実打数","１打回数","２打回数","合計","確　認\nサイン","選手NO","　　　 ホールポスト\n\n　氏名",null,2,3,4,5,6,7,8,1,"実打数","１打回数","２打回数","合計","確　認\nサイン"]
[1,{"$f":"大会名簿!G77","v":""},null,null,null,null,null,null,null,null,null,null,null,null,null,null,1,{"$f":"B104","v":""},null,null,null,null,null,null,null,null,null,null,null,null,null,null,1,{"$f":"B104","v":""},null,null,null,null,null,null,null,null,null,null,null,null,null,null,1,{"$f":"B104","v":""}]
[2,{"$f":"大会名簿!G78","v":""},null,null,null,null,null,null,null,null,null,null,null,null,null,null,2,{"$f":"B105","v":""},null,null,null,null,null,null,null,null,null,null,null,null,null,null,2,{"$f":"B105","v":""},null,null,null,null,null,null,null,null,null,null,null,null,null,null,2,{"$f":"B105","v":""}]
[3,{"$f":"大会名簿!G79","v":""},null,null,null,null,null,null,null,null,null,null,null,null,null,null,3,"",null,null,null,null,null,null,null,null,null,null,null,null,null,null,3,"",null,null,null,null,null,null,null,null,null,null,null,null,null,null,3,""]
[4,{"$f":"大会名簿!G80","v":""},null,null,null,null,null,null,null,null,null,null,null,null,null,null,4,"",null,null,null,null,null,null,null,null,null,null,null,null,null,null,4,"",null,null,null,null,null,null,null,null,null,null,null,null,null,null,4,""]
[5,{"$f":"大会名簿!G81","v":""},null,null,null,null,null,null,null,null,null,null,null,null,null,null,5,"",null,null,null,null,null,null,null,null,null,null,null,null,null,null,5,"",null,null,null,null,null,null,null,null,null,null,null,null,null,null,5,""]
[6,{"$f":"大会名簿!G82","v":""},null,null,null,null,null,null,null,null,null,null,null,null,null,null,6,"",null,null,null,null,null,null,null,null,null,null,null,null,null,null,6,"",null,null,null,null,null,null,null,null,null,null,null,null,null,null,6,""]
[7,{"$f":"大会名簿!G83","v":""},null,null,null,null,null,null,null,null,null,null,null,null,null,null,7,"",null,null,null,null,null,null,null,null,null,null,null,null,null,null,7,"",null,null,null,null,null,null,null,null,null,null,null,null,null,null,7,""]
[8,{"$f":"大会名簿!G84","v":""},null,null,null,null,null,null,null,null,null,null,null,null,null,null,8,"",null,null,null,null,null,null,null,null,null,null,null,null,null,null,8,"",null,null,null,null,null,null,null,null,null,null,null,null,null,null,8,""]
["11組",null,"大会名",null,{"$f":"大会名簿!$D$1","v":"第○○回　○○杯グラウンド・ゴルフ大会"},null,null,null,null,null,null,null,null,null,null,null,"11組",null,"大会名",null,{"$f":"大会名簿!$D$1","v":"第○○回　○○杯グラウンド・ゴルフ大会"},null,null,null,null,null,null,null,null,null,null,null,"11組",null,"大会名",null,{"$f":"大会名簿!$D$1","v":"第○○回　○○杯グラウンド・ゴルフ大会"},null,null,null,null,null,null,null,null,null,null,null,"11組",null,"大会名",null,{"$f":"大会名簿!$D$1","v":"第○○回　○○杯グラウンド・ゴルフ大会"}]
[null,null,"組　名",null,{"$f":"大会名簿!$D$2","v":"Ａ組"},null,"大会開催日",null,{"$f":"大会名簿!$H$2","v":"令和○年○月○日"},null,null,null,"スタートホール",null,"２－３",null,null,null,"組　名",null,{"$f":"大会名簿!$D$2","v":"Ａ組"},null,"大会開催日",null,{"$f":"大会名簿!$H$2","v":"令和○年○月○日"},null,null,null,"スタートホール",null,"３－３",null,null,null,"組　名",null,{"$f":"大会名簿!$D$2","v":"Ａ組"},null,"大会開催日",null,{"$f":"大会名簿!$H$2","v":"令和○年○月○日"},null,null,null,"スタートホール",null,"４－３",null,null,null,"組　名",null,{"$f":"大会名簿!$D$2","v":"Ａ組"},null,"大会開催日",null,{"$f":"大会名簿!$H$2","v":"令和○年○月○日"},null,null,null,"スタートホール",null,"１－３"]
["選手NO","　　　 ホールポスト\n\n　氏名",null,3,4,5,6,7,8,1,2,"実打数","１打回数","２打回数","合計","確　認\nサイン","選手NO","　　　 ホールポスト\n\n　氏名",null,3,4,5,6,7,8,1,2,"実打数","１打回数","２打回数","合計","確　認\nサイン","選手NO","　　　 ホールポスト\n\n　氏名",null,3,4,5,6,7,8,1,2,"実打数","１打回数","２打回数","合計","確　認\nサイン","選手NO","　　　 ホールポスト\n\n　氏名",null,3,4,5,6,7,8,1,2,"実打数","１打回数","２打回数","合計","確　認\nサイン"]
[1,{"$f":"大会名簿!G85","v":""},null,null,null,null,null,null,null,null,null,null,null,null,null,null,1,{"$f":"B115","v":""},null,null,null,null,null,null,null,null,null,null,null,null,null,null,1,{"$f":"B115","v":""},null,null,null,null,null,null,null,null,null,null,null,null,null,null,1,{"$f":"B115","v":""}]
[2,{"$f":"大会名簿!G86","v":""},null,null,null,null,null,null,null,null,null,null,null,null,null,null,2,{"$f":"B116","v":""},null,null,null,null,null,null,null,null,null,null,null,null,null,null,2,{"$f":"B116","v":""},null,null,null,null,null,null,null,null,null,null,null,null,null,null,2,{"$f":"B116","v":""}]
[3,{"$f":"大会名簿!G87","v":""},null,null,null,null,null,null,null,null,null,null,null,null,null,null,3,"",null,null,null,null,null,null,null,null,null,null,null,null,null,null,3,"",null,null,null,null,null,null,null,null,null,null,null,null,null,null,3,""]
[4,{"$f":"大会名簿!G88","v":""},null,null,null,null,null,null,null,null,null,null,null,null,null,null,4,"",null,null,null,null,null,null,null,null,null,null,null,null,null,null,4,"",null,null,null,null,null,null,null,null,null,null,null,null,null,null,4,""]
[5,{"$f":"大会名簿!G89","v":""},null,null,null,null,null,null,null,null,null,null,null,null,null,null,5,"",null,null,null,null,null,null,null,null,null,null,null,null,null,null,5,"",null,null,null,null,null,null,null,null,null,null,null,null,null,null,5,""]
[6,{"$f":"大会名簿!G90","v":""},null,null,null,null,null,null,null,null,null,null,null,null,null,null,6,"",null,null,null,null,null,null,null,null,null,null,null,null,null,null,6,"",null,null,null,null,null,null,null,null,null,null,null,null,null,null,6,""]
[7,{"$f":"大会名簿!G91","v":""},null,null,null,null,null,null,null,null,null,null,null,null,null,null,7,"",null,null,null,null,null,null,null,null,null,null,null,null,null,null,7,"",null,null,null,null,null,null,null,null,null,null,null,null,null,null,7,""]
[8,{"$f":"大会名簿!G92","v":""},null,null,null,null,null,null,null,null,null,null,null,null,null,null,8,"",null,null,null,null,null,null,null,null,null,null,null,null,null,null,8,"",null,null,null,null,null,null,null,null,null,null,null,null,null,null,8,""]
["12組",null,"大会名",null,{"$f":"大会名簿!$D$1","v":"第○○回　○○杯グラウンド・ゴルフ大会"},null,null,null,null,null,null,null,null,null,null,null,"12組",null,"大会名",null,{"$f":"大会名簿!$D$1","v":"第○○回　○○杯グラウンド・ゴルフ大会"},null,null,null,null,null,null,null,null,null,null,null,"12組",null,"大会名",null,{"$f":"大会名簿!$D$1","v":"第○○回　○○杯グラウンド・ゴルフ大会"},null,null,null,null,null,null,null,null,null,null,null,"12組",null,"大会名",null,{"$f":"大会名簿!$D$1","v":"第○○回　○○杯グラウンド・ゴルフ大会"}]
[null,null,"組　名",null,{"$f":"大会名簿!$D$2","v":"Ａ組"},null,"大会開催日",null,{"$f":"大会名簿!$H$2","v":"令和○年○月○日"},null,null,null,"スタートホール",null,"２－４",null,null,null,"組　名",null,{"$f":"大会名簿!$D$2","v":"Ａ組"},null,"大会開催日",null,{"$f":"大会名簿!$H$2","v":"令和○年○月○日"},null,null,null,"スタートホール",null,"３－４",null,null,null,"組　名",null,{"$f":"大会名簿!$D$2","v":"Ａ組"},null,"大会開催日",null,{"$f":"大会名簿!$H$2","v":"令和○年○月○日"},null,null,null,"スタートホール",null,"４－４",null,null,null,"組　名",null,{"$f":"大会名簿!$D$2","v":"Ａ組"},null,"大会開催日",null,{"$f":"大会名簿!$H$2","v":"令和○年○月○日"},null,null,null,"スタートホール",null,"１－４"]
["選手NO","　　　 ホールポスト\n\n　氏名",null,4,5,6,7,8,1,2,3,"実打数","１打回数","２打回数","合計","確　認\nサイン","選手NO","　　　 ホールポスト\n\n　氏名",null,4,5,6,7,8,1,2,3,"実打数","１打回数","２打回数","合計","確　認\nサイン","選手NO","　　　 ホールポスト\n\n　氏名",null,4,5,6,7,8,1,2,3,"実打数","１打回数","２打回数","合計","確　認\nサイン","選手NO","　　　 ホールポスト\n\n　氏名",null,4,5,6,7,8,1,2,3,"実打数","１打回数","２打回数","合計","確　認\nサイン"]
[1,{"$f":"大会名簿!G93","v":""},null,null,null,null,null,null,null,null,null,null,null,null,null,null,1,{"$f":"B126","v":""},null,null,null,null,null,null,null,null,null,null,null,null,null,null,1,{"$f":"B126","v":""},null,null,null,null,null,null,null,null,null,null,null,null,null,null,1,{"$f":"B126","v":""}]
[2,{"$f":"大会名簿!G94","v":""},null,null,null,null,null,null,null,null,null,null,null,null,null,null,2,{"$f":"B127","v":""},null,null,null,null,null,null,null,null,null,null,null,null,null,null,2,{"$f":"B127","v":""},null,null,null,null,null,null,null,null,null,null,null,null,null,null,2,{"$f":"B127","v":""}]
[3,{"$f":"大会名簿!G95","v":""},null,null,null,null,null,null,null,null,null,null,null,null,null,null,3,"",null,null,null,null,null,null,null,null,null,null,null,null,null,null,3,"",null,null,null,null,null,null,null,null,null,null,null,null,null,null,3,""]
[4,{"$f":"大会名簿!G96","v":""},null,null,null,null,null,null,null,null,null,null,null,null,null,null,4,"",null,null,null,null,null,null,null,null,null,null,null,null,null,null,4,"",null,null,null,null,null,null,null,null,null,null,null,null,null,null,4,""]
[5,{"$f":"大会名簿!G97","v":""},null,null,null,null,null,null,null,null,null,null,null,null,null,null,5,"",null,null,null,null,null,null,null,null,null,null,null,null,null,null,5,"",null,null,null,null,null,null,null,null,null,null,null,null,null,null,5,""]
[6,{"$f":"大会名簿!G98","v":""},null,null,null,null,null,null,null,null,null,null,null,null,null,null,6,"",null,null,null,null,null,null,null,null,null,null,null,null,null,null,6,"",null,null,null,null,null,null,null,null,null,null,null,null,null,null,6,""]
[7,{"$f":"大会名簿!G99","v":""},null,null,null,null,null,null,null,null,null,null,null,null,null,null,7,"",null,null,null,null,null,null,null,null,null,null,null,null,null,null,7,"",null,null,null,null,null,null,null,null,null,null,null,null,null,null,7,""]
[8,{"$f":"大会名簿!G100","v":""},null,null,null,null,null,null,null,null,null,null,null,null,null,null,8,"",null,null,null,null,null,null,null,null,null,null,null,null,null,null,8,"",null,null,null,null,null,null,null,null,null,null,null,null,null,null,8,""]
["13組",null,"大会名",null,{"$f":"大会名簿!$D$1","v":"第○○回　○○杯グラウンド・ゴルフ大会"},null,null,null,null,null,null,null,null,null,null,null,"13組",null,"大会名",null,{"$f":"大会名簿!$D$1","v":"第○○回　○○杯グラウンド・ゴルフ大会"},null,null,null,null,null,null,null,null,null,null,null,"13組",null,"大会名",null,{"$f":"大会名簿!$D$1","v":"第○○回　○○杯グラウンド・ゴルフ大会"},null,null,null,null,null,null,null,null,null,null,null,"13組",null,"大会名",null,{"$f":"大会名簿!$D$1","v":"第○○回　○○杯グラウンド・ゴルフ大会"}]
[null,null,"組　名",null,{"$f":"大会名簿!$D$2","v":"Ａ組"},null,"大会開催日",null,{"$f":"大会名簿!$H$2","v":"令和○年○月○日"},null,null,null,"スタートホール",null,"２－５",null,null,null,"組　名",null,{"$f":"大会名簿!$D$2","v":"Ａ組"},null,"大会開催日",null,{"$f":"大会名簿!$H$2","v":"令和○年○月○日"},null,null,null,"スタートホール",null,"３－５",null,null,null,"組　名",null,{"$f":"大会名簿!$D$2","v":"Ａ組"},null,"大会開催日",null,{"$f":"大会名簿!$H$2","v":"令和○年○月○日"},null,null,null,"スタートホール",null,"４－５",null,null,null,"組　名",null,{"$f":"大会名簿!$D$2","v":"Ａ組"},null,"大会開催日",null,{"$f":"大会名簿!$H$2","v":"令和○年○月○日"},null,null,null,"スタートホール",null,"１－５"]
["選手NO","　　　 ホールポスト\n\n　氏名",null,5,6,7,8,1,2,3,4,"実打数","１打回数","２打回数","合計","確　認\nサイン","選手NO","　　　 ホールポスト\n\n　氏名",null,5,6,7,8,1,2,3,4,"実打数","１打回数","２打回数","合計","確　認\nサイン","選手NO","　　　 ホールポスト\n\n　氏名",null,5,6,7,8,1,2,3,4,"実打数","１打回数","２打回数","合計","確　認\nサイン","選手NO","　　　 ホールポスト\n\n　氏名",null,5,6,7,8,1,2,3,4,"実打数","１打回数","２打回数","合計","確　認\nサイン"]
[1,{"$f":"大会名簿!G101","v":""},null,null,null,null,null,null,null,null,null,null,null,null,null,null,1,{"$f":"B137","v":""},null,null,null,null,null,null,null,null,null,null,null,null,null,null,1,{"$f":"B137","v":""},null,null,null,null,null,null,null,null,null,null,null,null,null,null,1,{"$f":"B137","v":""}]
[2,{"$f":"大会名簿!G102","v":""},null,null,null,null,null,null,null,null,null,null,null,null,null,null,2,{"$f":"B138","v":""},null,null,null,null,null,null,null,null,null,null,null,null,null,null,2,{"$f":"B138","v":""},null,null,null,null,null,null,null,null,null,null,null,null,null,null,2,{"$f":"B138","v":""}]
[3,{"$f":"大会名簿!G103","v":""},null,null,null,null,null,null,null,null,null,null,null,null,null,null,3,"",null,null,null,null,null,null,null,null,null,null,null,null,null,null,3,"",null,null,null,null,null,null,null,null,null,null,null,null,null,null,3,""]
[4,{"$f":"大会名簿!G104","v":""},null,null,null,null,null,null,null,null,null,null,null,null,null,null,4,"",null,null,null,null,null,null,null,null,null,null,null,null,null,null,4,"",null,null,null,null,null,null,null,null,null,null,null,null,null,null,4,""]
[5,{"$f":"大会名簿!G105","v":""},null,null,null,null,null,null,null,null,null,null,null,null,null,null,5,"",null,null,null,null,null,null,null,null,null,null,null,null,null,null,5,"",null,null,null,null,null,null,null,null,null,null,null,null,null,null,5,""]
[6,{"$f":"大会名簿!G106","v":""},null,null,null,null,null,null,null,null,null,null,null,null,null,null,6,"",null,null,null,null,null,null,null,null,null,null,null,null,null,null,6,"",null,null,null,null,null,null,null,null,null,null,null,null,null,null,6,""]
[7,{"$f":"大会名簿!G107","v":""},null,null,null,null,null,null,null,null,null,null,null,null,null,null,7,"",null,null,null,null,null,null,null,null,null,null,null,null,null,null,7,"",null,null,null,null,null,null,null,null,null,null,null,null,null,null,7,""]
[8,{"$f":"大会名簿!G108","v":""},null,null,null,null,null,null,null,null,null,null,null,null,null,null,8,"",null,null,null,null,null,null,null,null,null,null,null,null,null,null,8,"",null,null,null,null,null,null,null,null,null,null,null,null,null,null,8,""]
["14組",null,"大会名",null,{"$f":"大会名簿!$D$1","v":"第○○回　○○杯グラウンド・ゴルフ大会"},null,null,null,null,null,null,null,null,null,null,null,"14組",null,"大会名",null,{"$f":"大会名簿!$D$1","v":"第○○回　○○杯グラウンド・ゴルフ大会"},null,null,null,null,null,null,null,null,null,null,null,"14組",null,"大会名",null,{"$f":"大会名簿!$D$1","v":"第○○回　○○杯グラウンド・ゴルフ大会"},null,null,null,null,null,null,null,null,null,null,null,"14組",null,"大会名",null,{"$f":"大会名簿!$D$1","v":"第○○回　○○杯グラウンド・ゴルフ大会"}]
[null,null,"組　名",null,{"$f":"大会名簿!$D$2","v":"Ａ組"},null,"大会開催日",null,{"$f":"大会名簿!$H$2","v":"令和○年○月○日"},null,null,null,"スタートホール",null,"２－６",null,null,null,"組　名",null,{"$f":"大会名簿!$D$2","v":"Ａ組"},null,"大会開催日",null,{"$f":"大会名簿!$H$2","v":"令和○年○月○日"},null,null,null,"スタートホール",null,"３－６",null,null,null,"組　名",null,{"$f":"大会名簿!$D$2","v":"Ａ組"},null,"大会開催日",null,{"$f":"大会名簿!$H$2","v":"令和○年○月○日"},null,null,null,"スタートホール",null,"４－６",null,null,null,"組　名",null,{"$f":"大会名簿!$D$2","v":"Ａ組"},null,"大会開催日",null,{"$f":"大会名簿!$H$2","v":"令和○年○月○日"},null,null,null,"スタートホール",null,"１－６"]
["選手NO","　　　 ホールポスト\n\n　氏名",null,6,7,8,1,2,3,4,5,"実打数","１打回数","２打回数","合計","確　認\nサイン","選手NO","　　　 ホールポスト\n\n　氏名",null,6,7,8,1,2,3,4,5,"実打数","１打回数","２打回数","合計","確　認\nサイン","選手NO","　　　 ホールポスト\n\n　氏名",null,6,7,8,1,2,3,4,5,"実打数","１打回数","２打回数","合計","確　認\nサイン","選手NO","　　　 ホールポスト\n\n　氏名",null,6,7,8,1,2,3,4,5,"実打数","１打回数","２打回数","合計","確　認\nサイン"]
[1,{"$f":"大会名簿!G109","v":""},null,null,null,null,null,null,null,null,null,null,null,null,null,null,1,{"$f":"B148","v":""},null,null,null,null,null,null,null,null,null,null,null,null,null,null,1,{"$f":"B148","v":""},null,null,null,null,null,null,null,null,null,null,null,null,null,null,1,{"$f":"B148","v":""}]
[2,{"$f":"大会名簿!G110","v":""},null,null,null,null,null,null,null,null,null,null,null,null,null,null,2,{"$f":"B149","v":""},null,null,null,null,null,null,null,null,null,null,null,null,null,null,2,{"$f":"B149","v":""},null,null,null,null,null,null,null,null,null,null,null,null,null,null,2,{"$f":"B149","v":""}]
[3,{"$f":"大会名簿!G111","v":""},null,null,null,null,null,null,null,null,null,null,null,null,null,null,3,"",null,null,null,null,null,null,null,null,null,null,null,null,null,null,3,"",null,null,null,null,null,null,null,null,null,null,null,null,null,null,3,""]
[4,{"$f":"大会名簿!G112","v":""},null,null,null,null,null,null,null,null,null,null,null,null,null,null,4,"",null,null,null,null,null,null,null,null,null,null,null,null,null,null,4,"",null,null,null,null,null,null,null,null,null,null,null,null,null,null,4,""]
[5,{"$f":"大会名簿!G113","v":""},null,null,null,null,null,null,null,null,null,null,null,null,null,null,5,"",null,null,null,null,null,null,null,null,null,null,null,null,null,null,5,"",null,null,null,null,null,null,null,null,null,null,null,null,null,null,5,""]
[6,{"$f":"大会名簿!G114","v":""},null,null,null,null,null,null,null,null,null,null,null,null,null,null,6,"",null,null,null,null,null,null,null,null,null,null,null,null,null,null,6,"",null,null,null,null,null,null,null,null,null,null,null,null,null,null,6,""]
[7,{"$f":"大会名簿!G115","v":""},null,null,null,null,null,null,null,null,null,null,null,null,null,null,7,"",null,null,null,null,null,null,null,null,null,null,null,null,null,null,7,"",null,null,null,null,null,null,null,null,null,null,null,null,null,null,7,""]
[8,{"$f":"大会名簿!G116","v":""},null,null,null,null,null,null,null,null,null,null,null,null,null,null,8,{"$f":"B155","v":""},null,null,null,null,null,null,null,null,null,null,null,null,null,null,8,"",null,null,null,null,null,null,null,null,null,null,null,null,null,null,8,""]
["15組",null,"大会名",null,{"$f":"大会名簿!$D$1","v":"第○○回　○○杯グラウンド・ゴルフ大会"},null,null,null,null,null,null,null,null,null,null,null,"15組",null,"大会名",null,{"$f":"大会名簿!$D$1","v":"第○○回　○○杯グラウンド・ゴルフ大会"},null,null,null,null,null,null,null,null,null,null,null,"15組",null,"大会名",null,{"$f":"大会名簿!$D$1","v":"第○○回　○○杯グラウンド・ゴルフ大会"},null,null,null,null,null,null,null,null,null,null,null,"15組",null,"大会名",null,{"$f":"大会名簿!$D$1","v":"第○○回　○○杯グラウンド・ゴルフ大会"}]
[null,null,"組　名",null,{"$f":"大会名簿!$D$2","v":"Ａ組"},null,"大会開催日",null,{"$f":"大会名簿!$H$2","v":"令和○年○月○日"},null,null,null,"スタートホール",null,"２－７",null,null,null,"組　名",null,{"$f":"大会名簿!$D$2","v":"Ａ組"},null,"大会開催日",null,{"$f":"大会名簿!$H$2","v":"令和○年○月○日"},null,null,null,"スタートホール",null,"３－７",null,null,null,"組　名",null,{"$f":"大会名簿!$D$2","v":"Ａ組"},null,"大会開催日",null,{"$f":"大会名簿!$H$2","v":"令和○年○月○日"},null,null,null,"スタートホール",null,"４－７",null,null,null,"組　名",null,{"$f":"大会名簿!$D$2","v":"Ａ組"},null,"大会開催日",null,{"$f":"大会名簿!$H$2","v":"令和○年○月○日"},null,null,null,"スタートホール",null,"１－７"]
["選手NO","　　　 ホールポスト\n\n　氏名",null,7,8,1,2,3,4,5,6,"実打数","１打回数","２打回数","合計","確　認\nサイン","選手NO","　　　 ホールポスト\n\n　氏名",null,7,8,1,2,3,4,5,6,"実打数","１打回数","２打回数","合計","確　認\nサイン","選手NO","　　　 ホールポスト\n\n　氏名",null,7,8,1,2,3,4,5,6,"実打数","１打回数","２打回数","合計","確　認\nサイン","選手NO","　　　 ホールポスト\n\n　氏名",null,7,8,1,2,3,4,5,6,"実打数","１打回数","２打回数","合計","確　認\nサイン"]
[1,{"$f":"大会名簿!G117","v":""},null,null,null,null,null,null,null,null,null,null,null,null,null,null,1,{"$f":"B159","v":""},null,null,null,null,null,null,null,null,null,null,null,null,null,null,1,{"$f":"B159","v":""},null,null,null,null,null,null,null,null,null,null,null,null,null,null,1,{"$f":"B159","v":""}]
[2,{"$f":"大会名簿!G118","v":""},null,null,null,null,null,null,null,null,null,null,null,null,null,null,2,{"$f":"B160","v":""},null,null,null,null,null,null,null,null,null,null,null,null,null,null,2,{"$f":"B160","v":""},null,null,null,null,null,null,null,null,null,null,null,null,null,null,2,{"$f":"B160","v":""}]
[3,{"$f":"大会名簿!G119","v":""},null,null,null,null,null,null,null,null,null,null,null,null,null,null,3,"",null,null,null,null,null,null,null,null,null,null,null,null,null,null,3,"",null,null,null,null,null,null,null,null,null,null,null,null,null,null,3,""]
[4,{"$f":"大会名簿!G120","v":""},null,null,null,null,null,null,null,null,null,null,null,null,null,null,4,"",null,null,null,null,null,null,null,null,null,null,null,null,null,null,4,"",null,null,null,null,null,null,null,null,null,null,null,null,null,null,4,""]
[5,{"$f":"大会名簿!G121","v":""},null,null,null,null,null,null,null,null,null,null,null,null,null,null,5,"",null,null,null,null,null,null,null,null,null,null,null,null,null,null,5,"",null,null,null,null,null,null,null,null,null,null,null,null,null,null,5,""]
[6,{"$f":"大会名簿!G122","v":""},null,null,null,null,null,null,null,null,null,null,null,null,null,null,6,"",null,null,null,null,null,null,null,null,null,null,null,null,null,null,6,"",null,null,null,null,null,null,null,null,null,null,null,null,null,null,6,""]
[7,{"$f":"大会名簿!G123","v":""},null,null,null,null,null,null,null,null,null,null,null,null,null,null,7,"",null,null,null,null,null,null,null,null,null,null,null,null,null,null,7,"",null,null,null,null,null,null,null,null,null,null,null,null,null,null,7,""]
[8,{"$f":"大会名簿!G124","v":""},null,null,null,null,null,null,null,null,null,null,null,null,null,null,8,"",null,null,null,null,null,null,null,null,null,null,null,null,null,null,8,"",null,null,null,null,null,null,null,null,null,null,null,null,null,null,8,""]
["16組",null,"大会名",null,{"$f":"大会名簿!$D$1","v":"第○○回　○○杯グラウンド・ゴルフ大会"},null,null,null,null,null,null,null,null,null,null,null,"16組",null,"大会名",null,{"$f":"大会名簿!$D$1","v":"第○○回　○○杯グラウンド・ゴルフ大会"},null,null,null,null,null,null,null,null,null,null,null,"16組",null,"大会名",null,{"$f":"大会名簿!$D$1","v":"第○○回　○○杯グラウンド・ゴルフ大会"},null,null,null,null,null,null,null,null,null,null,null,"16組",null,"大会名",null,{"$f":"大会名簿!$D$1","v":"第○○回　○○杯グラウンド・ゴルフ大会"}]
[null,null,"組　名",null,{"$f":"大会名簿!$D$2","v":"Ａ組"},null,"大会開催日",null,{"$f":"大会名簿!$H$2","v":"令和○年○月○日"},null,null,null,"スタートホール",null,"２－８",null,null,null,"組　名",null,{"$f":"大会名簿!$D$2","v":"Ａ組"},null,"大会開催日",null,{"$f":"大会名簿!$H$2","v":"令和○年○月○日"},null,null,null,"スタートホール",null,"３－８",null,null,null,"組　名",null,{"$f":"大会名簿!$D$2","v":"Ａ組"},null,"大会開催日",null,{"$f":"大会名簿!$H$2","v":"令和○年○月○日"},null,null,null,"スタートホール",null,"４－８",null,null,null,"組　名",null,{"$f":"大会名簿!$D$2","v":"Ａ組"},null,"大会開催日",null,{"$f":"大会名簿!$H$2","v":"令和○年○月○日"},null,null,null,"スタートホール",null,"１－８"]
["選手NO","　　　 ホールポスト\n\n　氏名",null,8,1,2,3,4,5,6,7,"実打数","１打回数","２打回数","合計","確　認\nサイン","選手NO","　　　 ホールポスト\n\n　氏名",null,8,1,2,3,4,5,6,7,"実打数","１打回数","２打回数","合計","確　認\nサイン","選手NO","　　　 ホールポスト\n\n　氏名",null,8,1,2,3,4,5,6,7,"実打数","１打回数","２打回数","合計","確　認\nサイン","選手NO","　　　 ホールポスト\n\n　氏名",null,8,1,2,3,4,5,6,7,"実打数","１打回数","２打回数","合計","確　認\nサイン"]
[1,{"$f":"大会名簿!G125","v":""},null,null,null,null,null,null,null,null,null,null,null,null,null,null,1,{"$f":"B170","v":""},null,null,null,null,null,null,null,null,null,null,null,null,null,null,1,{"$f":"B170","v":""},null,null,null,null,null,null,null,null,null,null,null,null,null,null,1,{"$f":"B170","v":""}]
[2,{"$f":"大会名簿!G126","v":""},null,null,null,null,null,null,null,null,null,null,null,null,null,null,2,{"$f":"B171","v":""},null,null,null,null,null,null,null,null,null,null,null,null,null,null,2,{"$f":"B171","v":""},null,null,null,null,null,null,null,null,null,null,null,null,null,null,2,{"$f":"B171","v":""}]
[3,{"$f":"大会名簿!G127","v":""},null,null,null,null,null,null,null,null,null,null,null,null,null,null,3,"",null,null,null,null,null,null,null,null,null,null,null,null,null,null,3,"",null,null,null,null,null,null,null,null,null,null,null,null,null,null,3,""]
[4,{"$f":"大会名簿!G128","v":""},null,null,null,null,null,null,null,null,null,null,null,null,null,null,4,"",null,null,null,null,null,null,null,null,null,null,null,null,null,null,4,"",null,null,null,null,null,null,null,null,null,null,null,null,null,null,4,""]
[5,{"$f":"大会名簿!G129","v":""},null,null,null,null,null,null,null,null,null,null,null,null,null,null,5,"",null,null,null,null,null,null,null,null,null,null,null,null,null,null,5,"",null,null,null,null,null,null,null,null,null,null,null,null,null,null,5,""]
[6,{"$f":"大会名簿!G130","v":""},null,null,null,null,null,null,null,null,null,null,null,null,null,null,6,"",null,null,null,null,null,null,null,null,null,null,null,null,null,null,6,"",null,null,null,null,null,null,null,null,null,null,null,null,null,null,6,""]
[7,{"$f":"大会名簿!G131","v":""},null,null,null,null,null,null,null,null,null,null,null,null,null,null,7,"",null,null,null,null,null,null,null,null,null,null,null,null,null,null,7,"",null,null,null,null,null,null,null,null,null,null,null,null,null,null,7,""]
[8,{"$f":"大会名簿!G132","v":""},null,null,null,null,null,null,null,null,null,null,null,null,null,null,8,"",null,null,null,null,null,null,null,null,null,null,null,null,null,null,8,"",null,null,null,null,null,null,null,null,null,null,null,null,null,null,8,""]
["17組",null,"大会名",null,{"$f":"大会名簿!$D$1","v":"第○○回　○○杯グラウンド・ゴルフ大会"},null,null,null,null,null,null,null,null,null,null,null,"17組",null,"大会名",null,{"$f":"大会名簿!$D$1","v":"第○○回　○○杯グラウンド・ゴルフ大会"},null,null,null,null,null,null,null,null,null,null,null,"17組",null,"大会名",null,{"$f":"大会名簿!$D$1","v":"第○○回　○○杯グラウンド・ゴルフ大会"},null,null,null,null,null,null,null,null,null,null,null,"17組",null,"大会名",null,{"$f":"大会名簿!$D$1","v":"第○○回　○○杯グラウンド・ゴルフ大会"}]
[null,null,"組　名",null,{"$f":"大会名簿!$D$2","v":"Ａ組"},null,"大会開催日",null,{"$f":"大会名簿!$H$2","v":"令和○年○月○日"},null,null,null,"スタートホール",null,"３－１",null,null,null,"組　名",null,{"$f":"大会名簿!$D$2","v":"Ａ組"},null,"大会開催日",null,{"$f":"大会名簿!$H$2","v":"令和○年○月○日"},null,null,null,"スタートホール",null,"４－１",null,null,null,"組　名",null,{"$f":"大会名簿!$D$2","v":"Ａ組"},null,"大会開催日",null,{"$f":"大会名簿!$H$2","v":"令和○年○月○日"},null,null,null,"スタートホール",null,"１－１",null,null,null,"組　名",null,{"$f":"大会名簿!$D$2","v":"Ａ組"},null,"大会開催日",null,{"$f":"大会名簿!$H$2","v":"令和○年○月○日"},null,null,null,"スタートホール",null,"２－１"]
["選手NO","　　　 ホールポスト\n\n　氏名",null,1,2,3,4,5,6,7,8,"実打数","１打回数","２打回数","合計","確　認\nサイン","選手NO","　　　 ホールポスト\n\n　氏名",null,1,2,3,4,5,6,7,8,"実打数","１打回数","２打回数","合計","確　認\nサイン","選手NO","　　　 ホールポスト\n\n　氏名",null,1,2,3,4,5,6,7,8,"実打数","１打回数","２打回数","合計","確　認\nサイン","選手NO","　　　 ホールポスト\n\n　氏名",null,1,2,3,4,5,6,7,8,"実打数","１打回数","２打回数","合計","確　認\nサイン"]
[1,{"$f":"大会名簿!G133","v":""},null,null,null,null,null,null,null,null,null,null,null,null,null,null,1,{"$f":"B181","v":""},null,null,null,null,null,null,null,null,null,null,null,null,null,null,1,{"$f":"B181","v":""},null,null,null,null,null,null,null,null,null,null,null,null,null,null,1,{"$f":"B181","v":""}]
[2,{"$f":"大会名簿!G134","v":""},null,null,null,null,null,null,null,null,null,null,null,null,null,null,2,{"$f":"B182","v":""},null,null,null,null,null,null,null,null,null,null,null,null,null,null,2,{"$f":"B182","v":""},null,null,null,null,null,null,null,null,null,null,null,null,null,null,2,{"$f":"B182","v":""}]
[3,{"$f":"大会名簿!G135","v":""},null,null,null,null,null,null,null,null,null,null,null,null,null,null,3,"",null,null,null,null,null,null,null,null,null,null,null,null,null,null,3,"",null,null,null,null,null,null,null,null,null,null,null,null,null,null,3,""]
[4,{"$f":"大会名簿!G136","v":""},null,null,null,null,null,null,null,null,null,null,null,null,null,null,4,"",null,null,null,null,null,null,null,null,null,null,null,null,null,null,4,"",null,null,null,null,null,null,null,null,null,null,null,null,null,null,4,""]
[5,{"$f":"大会名簿!G137","v":""},null,null,null,null,null,null,null,null,null,null,null,null,null,null,5,"",null,null,null,null,null,null,null,null,null,null,null,null,null,null,5,"",null,null,null,null,null,null,null,null,null,null,null,null,null,null,5,""]
[6,{"$f":"大会名簿!G138","v":""},null,null,null,null,null,null,null,null,null,null,null,null,null,null,6,"",null,null,null,null,null,null,null,null,null,null,null,null,null,null,6,"",null,null,null,null,null,null,null,null,null,null,null,null,null,null,6,""]
[7,{"$f":"大会名簿!G139","v":""},null,null,null,null,null,null,null,null,null,null,null,null,null,null,7,"",null,null,null,null,null,null,null,null,null,null,null,null,null,null,7,"",null,null,null,null,null,null,null,null,null,null,null,null,null,null,7,""]
[8,{"$f":"大会名簿!G140","v":""},null,null,null,null,null,null,null,null,null,null,null,null,null,null,8,"",null,null,null,null,null,null,null,null,null,null,null,null,null,null,8,"",null,null,null,null,null,null,null,null,null,null,null,null,null,null,8,{"$f":"B188","v":""}]
["18組",null,"大会名",null,{"$f":"大会名簿!$D$1","v":"第○○回　○○杯グラウンド・ゴルフ大会"},null,null,null,null,null,null,null,null,null,null,null,"18組",null,"大会名",null,{"$f":"大会名簿!$D$1","v":"第○○回　○○杯グラウンド・ゴルフ大会"},null,null,null,null,null,null,null,null,null,null,null,"18組",null,"大会名",null,{"$f":"大会名簿!$D$1","v":"第○○回　○○杯グラウンド・ゴルフ大会"},null,null,null,null,null,null,null,null,null,null,null,"18組",null,"大会名",null,{"$f":"大会名簿!$D$1","v":"第○○回　○○杯グラウンド・ゴルフ大会"}]
[null,null,"組　名",null,{"$f":"大会名簿!$D$2","v":"Ａ組"},null,"大会開催日",null,{"$f":"大会名簿!$H$2","v":"令和○年○月○日"},null,null,null,"スタートホール",null,"３－２",null,null,null,"組　名",null,{"$f":"大会名簿!$D$2","v":"Ａ組"},null,"大会開催日",null,{"$f":"大会名簿!$H$2","v":"令和○年○月○日"},null,null,null,"スタートホール",null,"４－２",null,null,null,"組　名",null,{"$f":"大会名簿!$D$2","v":"Ａ組"},null,"大会開催日",null,{"$f":"大会名簿!$H$2","v":"令和○年○月○日"},null,null,null,"スタートホール",null,"１－２",null,null,null,"組　名",null,{"$f":"大会名簿!$D$2","v":"Ａ組"},null,"大会開催日",null,{"$f":"大会名簿!$H$2","v":"令和○年○月○日"},null,null,null,"スタートホール",null,"２－２"]
["選手NO","　　　 ホールポスト\n\n　氏名",null,2,3,4,5,6,7,8,1,"実打数","１打回数","２打回数","合計","確　認\nサイン","選手NO","　　　 ホールポスト\n\n　氏名",null,2,3,4,5,6,7,8,1,"実打数","１打回数","２打回数","合計","確　認\nサイン","選手NO","　　　 ホールポスト\n\n　氏名",null,2,3,4,5,6,7,8,1,"実打数","１打回数","２打回数","合計","確　認\nサイン","選手NO","　　　 ホールポスト\n\n　氏名",null,2,3,4,5,6,7,8,1,"実打数","１打回数","２打回数","合計","確　認\nサイン"]
[1,{"$f":"大会名簿!G141","v":""},null,null,null,null,null,null,null,null,null,null,null,null,null,null,1,{"$f":"B192","v":""},null,null,null,null,null,null,null,null,null,null,null,null,null,null,1,{"$f":"B192","v":""},null,null,null,null,null,null,null,null,null,null,null,null,null,null,1,{"$f":"B192","v":""}]
[2,{"$f":"大会名簿!G142","v":""},null,null,null,null,null,null,null,null,null,null,null,null,null,null,2,{"$f":"B193","v":""},null,null,null,null,null,null,null,null,null,null,null,null,null,null,2,{"$f":"B193","v":""},null,null,null,null,null,null,null,null,null,null,null,null,null,null,2,{"$f":"B193","v":""}]
[3,{"$f":"大会名簿!G143","v":""},null,null,null,null,null,null,null,null,null,null,null,null,null,null,3,"",null,null,null,null,null,null,null,null,null,null,null,null,null,null,3,"",null,null,null,null,null,null,null,null,null,null,null,null,null,null,3,""]
[4,{"$f":"大会名簿!G144","v":""},null,null,null,null,null,null,null,null,null,null,null,null,null,null,4,"",null,null,null,null,null,null,null,null,null,null,null,null,null,null,4,"",null,null,null,null,null,null,null,null,null,null,null,null,null,null,4,""]
[5,{"$f":"大会名簿!G145","v":""},null,null,null,null,null,null,null,null,null,null,null,null,null,null,5,"",null,null,null,null,null,null,null,null,null,null,null,null,null,null,5,"",null,null,null,null,null,null,null,null,null,null,null,null,null,null,5,""]
[6,{"$f":"大会名簿!G146","v":""},null,null,null,null,null,null,null,null,null,null,null,null,null,null,6,"",null,null,null,null,null,null,null,null,null,null,null,null,null,null,6,"",null,null,null,null,null,null,null,null,null,null,null,null,null,null,6,""]
[7,{"$f":"大会名簿!G147","v":""},null,null,null,null,null,null,null,null,null,null,null,null,null,null,7,"",null,null,null,null,null,null,null,null,null,null,null,null,null,null,7,"",null,null,null,null,null,null,null,null,null,null,null,null,null,null,7,""]
[8,{"$f":"大会名簿!G148","v":""},null,null,null,null,null,null,null,null,null,null,null,null,null,null,8,"",null,null,null,null,null,null,null,null,null,null,null,null,null,null,8,"",null,null,null,null,null,null,null,null,null,null,null,null,null,null,8,""]
["19組",null,"大会名",null,{"$f":"大会名簿!$D$1","v":"第○○回　○○杯グラウンド・ゴルフ大会"},null,null,null,null,null,null,null,null,null,null,null,"19組",null,"大会名",null,{"$f":"大会名簿!$D$1","v":"第○○回　○○杯グラウンド・ゴルフ大会"},null,null,null,null,null,null,null,null,null,null,null,"19組",null,"大会名",null,{"$f":"大会名簿!$D$1","v":"第○○回　○○杯グラウンド・ゴルフ大会"},null,null,null,null,null,null,null,null,null,null,null,"19組",null,"大会名",null,{"$f":"大会名簿!$D$1","v":"第○○回　○○杯グラウンド・ゴルフ大会"}]
[null,null,"組　名",null,{"$f":"大会名簿!$D$2","v":"Ａ組"},null,"大会開催日",null,{"$f":"大会名簿!$H$2","v":"令和○年○月○日"},null,null,null,"スタートホール",null,"３－３",null,null,null,"組　名",null,{"$f":"大会名簿!$D$2","v":"Ａ組"},null,"大会開催日",null,{"$f":"大会名簿!$H$2","v":"令和○年○月○日"},null,null,null,"スタートホール",null,"４－３",null,null,null,"組　名",null,{"$f":"大会名簿!$D$2","v":"Ａ組"},null,"大会開催日",null,{"$f":"大会名簿!$H$2","v":"令和○年○月○日"},null,null,null,"スタートホール",null,"１－３",null,null,null,"組　名",null,{"$f":"大会名簿!$D$2","v":"Ａ組"},null,"大会開催日",null,{"$f":"大会名簿!$H$2","v":"令和○年○月○日"},null,null,null,"スタートホール",null,"２－３"]
["選手NO","　　　 ホールポスト\n\n　氏名",null,3,4,5,6,7,8,1,2,"実打数","１打回数","２打回数","合計","確　認\nサイン","選手NO","　　　 ホールポスト\n\n　氏名",null,3,4,5,6,7,8,1,2,"実打数","１打回数","２打回数","合計","確　認\nサイン","選手NO","　　　 ホールポスト\n\n　氏名",null,3,4,5,6,7,8,1,2,"実打数","１打回数","２打回数","合計","確　認\nサイン","選手NO","　　　 ホールポスト\n\n　氏名",null,3,4,5,6,7,8,1,2,"実打数","１打回数","２打回数","合計","確　認\nサイン"]
[1,{"$f":"大会名簿!G149","v":""},null,null,null,null,null,null,null,null,null,null,null,null,null,null,1,{"$f":"B203","v":""},null,null,null,null,null,null,null,null,null,null,null,null,null,null,1,{"$f":"B203","v":""},null,null,null,null,null,null,null,null,null,null,null,null,null,null,1,{"$f":"B203","v":""}]
[2,{"$f":"大会名簿!G150","v":""},null,null,null,null,null,null,null,null,null,null,null,null,null,null,2,{"$f":"B204","v":""},null,null,null,null,null,null,null,null,null,null,null,null,null,null,2,{"$f":"B204","v":""},null,null,null,null,null,null,null,null,null,null,null,null,null,null,2,{"$f":"B204","v":""}]
[3,{"$f":"大会名簿!G151","v":""},null,null,null,null,null,null,null,null,null,null,null,null,null,null,3,"",null,null,null,null,null,null,null,null,null,null,null,null,null,null,3,"",null,null,null,null,null,null,null,null,null,null,null,null,null,null,3,""]
[4,{"$f":"大会名簿!G152","v":""},null,null,null,null,null,null,null,null,null,null,null,null,null,null,4,"",null,null,null,null,null,null,null,null,null,null,null,null,null,null,4,"",null,null,null,null,null,null,null,null,null,null,null,null,null,null,4,""]
[5,{"$f":"大会名簿!G153","v":""},null,null,null,null,null,null,null,null,null,null,null,null,null,null,5,"",null,null,null,null,null,null,null,null,null,null,null,null,null,null,5,"",null,null,null,null,null,null,null,null,null,null,null,null,null,null,5,""]
[6,{"$f":"大会名簿!G154","v":""},null,null,null,null,null,null,null,null,null,null,null,null,null,null,6,"",null,null,null,null,null,null,null,null,null,null,null,null,null,null,6,"",null,null,null,null,null,null,null,null,null,null,null,null,null,null,6,""]
[7,{"$f":"大会名簿!G155","v":""},null,null,null,null,null,null,null,null,null,null,null,null,null,null,7,"",null,null,null,null,null,null,null,null,null,null,null,null,null,null,7,"",null,null,null,null,null,null,null,null,null,null,null,null,null,null,7,""]
[8,{"$f":"大会名簿!G156","v":""},null,null,null,null,null,null,null,null,null,null,null,null,null,null,8,"",null,null,null,null,null,null,null,null,null,null,null,null,null,null,8,"",null,null,null,null,null,null,null,null,null,null,null,null,null,null,8,""]
["20組",null,"大会名",null,{"$f":"大会名簿!$D$1","v":"第○○回　○○杯グラウンド・ゴルフ大会"},null,null,null,null,null,null,null,null,null,null,null,"20組",null,"大会名",null,{"$f":"大会名簿!$D$1","v":"第○○回　○○杯グラウンド・ゴルフ大会"},null,null,null,null,null,null,null,null,null,null,null,"20組",null,"大会名",null,{"$f":"大会名簿!$D$1","v":"第○○回　○○杯グラウンド・ゴルフ大会"},null,null,null,null,null,null,null,null,null,null,null,"20組",null,"大会名",null,{"$f":"大会名簿!$D$1","v":"第○○回　○○杯グラウンド・ゴルフ大会"}]
[null,null,"組　名",null,{"$f":"大会名簿!$D$2","v":"Ａ組"},null,"大会開催日",null,{"$f":"大会名簿!$H$2","v":"令和○年○月○日"},null,null,null,"スタートホール",null,"３－４",null,null,null,"組　名",null,{"$f":"大会名簿!$D$2","v":"Ａ組"},null,"大会開催日",null,{"$f":"大会名簿!$H$2","v":"令和○年○月○日"},null,null,null,"スタートホール",null,"４－４",null,null,null,"組　名",null,{"$f":"大会名簿!$D$2","v":"Ａ組"},null,"大会開催日",null,{"$f":"大会名簿!$H$2","v":"令和○年○月○日"},null,null,null,"スタートホール",null,"１－４",null,null,null,"組　名",null,{"$f":"大会名簿!$D$2","v":"Ａ組"},null,"大会開催日",null,{"$f":"大会名簿!$H$2","v":"令和○年○月○日"},null,null,null,"スタートホール",null,"２－４"]
["選手NO","　　　 ホールポスト\n\n　氏名",null,4,5,6,7,8,1,2,3,"実打数","１打回数","２打回数","合計","確　認\nサイン","選手NO","　　　 ホールポスト\n\n　氏名",null,4,5,6,7,8,1,2,3,"実打数","１打回数","２打回数","合計","確　認\nサイン","選手NO","　　　 ホールポスト\n\n　氏名",null,4,5,6,7,8,1,2,3,"実打数","１打回数","２打回数","合計","確　認\nサイン","選手NO","　　　 ホールポスト\n\n　氏名",null,4,5,6,7,8,1,2,3,"実打数","１打回数","２打回数","合計","確　認\nサイン"]
[1,{"$f":"大会名簿!G157","v":""},null,null,null,null,null,null,null,null,null,null,null,null,null,null,1,{"$f":"B214","v":""},null,null,null,null,null,null,null,null,null,null,null,null,null,null,1,{"$f":"B214","v":""},null,null,null,null,null,null,null,null,null,null,null,null,null,null,1,{"$f":"B214","v":""}]
[2,{"$f":"大会名簿!G158","v":""},null,null,null,null,null,null,null,null,null,null,null,null,null,null,2,{"$f":"B215","v":""},null,null,null,null,null,null,null,null,null,null,null,null,null,null,2,{"$f":"B215","v":""},null,null,null,null,null,null,null,null,null,null,null,null,null,null,2,{"$f":"B215","v":""}]
[3,{"$f":"大会名簿!G159","v":""},null,null,null,null,null,null,null,null,null,null,null,null,null,null,3,"",null,null,null,null,null,null,null,null,null,null,null,null,null,null,3,"",null,null,null,null,null,null,null,null,null,null,null,null,null,null,3,""]
[4,{"$f":"大会名簿!G160","v":""},null,null,null,null,null,null,null,null,null,null,null,null,null,null,4,"",null,null,null,null,null,null,null,null,null,null,null,null,null,null,4,"",null,null,null,null,null,null,null,null,null,null,null,null,null,null,4,""]
[5,{"$f":"大会名簿!G161","v":""},null,null,null,null,null,null,null,null,null,null,null,null,null,null,5,"",null,null,null,null,null,null,null,null,null,null,null,null,null,null,5,"",null,null,null,null,null,null,null,null,null,null,null,null,null,null,5,""]
[6,{"$f":"大会名簿!G162","v":""},null,null,null,null,null,null,null,null,null,null,null,null,null,null,6,"",null,null,null,null,null,null,null,null,null,null,null,null,null,null,6,"",null,null,null,null,null,null,null,null,null,null,null,null,null,null,6,""]
[7,{"$f":"大会名簿!G163","v":""},null,null,null,null,null,null,null,null,null,null,null,null,null,null,7,"",null,null,null,null,null,null,null,null,null,null,null,null,null,null,7,"",null,null,null,null,null,null,null,null,null,null,null,null,null,null,7,""]
[8,{"$f":"大会名簿!G164","v":""},null,null,null,null,null,null,null,null,null,null,null,null,null,null,8,"",null,null,null,null,null,null,null,null,null,null,null,null,null,null,8,"",null,null,null,null,null,null,null,null,null,null,null,null,null,null,8,""]
["21組",null,"大会名",null,{"$f":"大会名簿!$D$1","v":"第○○回　○○杯グラウンド・ゴルフ大会"},null,null,null,null,null,null,null,null,null,null,null,"21組",null,"大会名",null,{"$f":"大会名簿!$D$1","v":"第○○回　○○杯グラウンド・ゴルフ大会"},null,null,null,null,null,null,null,null,null,null,null,"21組",null,"大会名",null,{"$f":"大会名簿!$D$1","v":"第○○回　○○杯グラウンド・ゴルフ大会"},null,null,null,null,null,null,null,null,null,null,null,"21組",null,"大会名",null,{"$f":"大会名簿!$D$1","v":"第○○回　○○杯グラウンド・ゴルフ大会"}]
[null,null,"組　名",null,{"$f":"大会名簿!$D$2","v":"Ａ組"},null,"大会開催日",null,{"$f":"大会名簿!$H$2","v":"令和○年○月○日"},null,null,null,"スタートホール",null,"３－５",null,null,null,"組　名",null,{"$f":"大会名簿!$D$2","v":"Ａ組"},null,"大会開催日",null,{"$f":"大会名簿!$H$2","v":"令和○年○月○日"},null,null,null,"スタートホール",null,"４－５",null,null,null,"組　名",null,{"$f":"大会名簿!$D$2","v":"Ａ組"},null,"大会開催日",null,{"$f":"大会名簿!$H$2","v":"令和○年○月○日"},null,null,null,"スタートホール",null,"１－５",null,null,null,"組　名",null,{"$f":"大会名簿!$D$2","v":"Ａ組"},null,"大会開催日",null,{"$f":"大会名簿!$H$2","v":"令和○年○月○日"},null,null,null,"スタートホール",null,"２－５"]
["選手NO","　　　 ホールポスト\n\n　氏名",null,5,6,7,8,1,2,3,4,"実打数","１打回数","２打回数","合計","確　認\nサイン","選手NO","　　　 ホールポスト\n\n　氏名",null,5,6,7,8,1,2,3,4,"実打数","１打回数","２打回数","合計","確　認\nサイン","選手NO","　　　 ホールポスト\n\n　氏名",null,5,6,7,8,1,2,3,4,"実打数","１打回数","２打回数","合計","確　認\nサイン","選手NO","　　　 ホールポスト\n\n　氏名",null,5,6,7,8,1,2,3,4,"実打数","１打回数","２打回数","合計","確　認\nサイン"]
[1,{"$f":"大会名簿!G165","v":""},null,null,null,null,null,null,null,null,null,null,null,null,null,null,1,{"$f":"B225","v":""},null,null,null,null,null,null,null,null,null,null,null,null,null,null,1,{"$f":"B225","v":""},null,null,null,null,null,null,null,null,null,null,null,null,null,null,1,{"$f":"B225","v":""}]
[2,{"$f":"大会名簿!G166","v":""},null,null,null,null,null,null,null,null,null,null,null,null,null,null,2,{"$f":"B226","v":""},null,null,null,null,null,null,null,null,null,null,null,null,null,null,2,{"$f":"B226","v":""},null,null,null,null,null,null,null,null,null,null,null,null,null,null,2,{"$f":"B226","v":""}]
[3,{"$f":"大会名簿!G167","v":""},null,null,null,null,null,null,null,null,null,null,null,null,null,null,3,"",null,null,null,null,null,null,null,null,null,null,null,null,null,null,3,"",null,null,null,null,null,null,null,null,null,null,null,null,null,null,3,""]
[4,{"$f":"大会名簿!G168","v":""},null,null,null,null,null,null,null,null,null,null,null,null,null,null,4,"",null,null,null,null,null,null,null,null,null,null,null,null,null,null,4,"",null,null,null,null,null,null,null,null,null,null,null,null,null,null,4,""]
[5,{"$f":"大会名簿!G169","v":""},null,null,null,null,null,null,null,null,null,null,null,null,null,null,5,"",null,null,null,null,null,null,null,null,null,null,null,null,null,null,5,"",null,null,null,null,null,null,null,null,null,null,null,null,null,null,5,""]
[6,{"$f":"大会名簿!G170","v":""},null,null,null,null,null,null,null,null,null,null,null,null,null,null,6,"",null,null,null,null,null,null,null,null,null,null,null,null,null,null,6,"",null,null,null,null,null,null,null,null,null,null,null,null,null,null,6,""]
[7,{"$f":"大会名簿!G171","v":""},null,null,null,null,null,null,null,null,null,null,null,null,null,null,7,"",null,null,null,null,null,null,null,null,null,null,null,null,null,null,7,"",null,null,null,null,null,null,null,null,null,null,null,null,null,null,7,""]
[8,{"$f":"大会名簿!G172","v":""},null,null,null,null,null,null,null,null,null,null,null,null,null,null,8,"",null,null,null,null,null,null,null,null,null,null,null,null,null,null,8,"",null,null,null,null,null,null,null,null,null,null,null,null,null,null,8,""]
["22組",null,"大会名",null,{"$f":"大会名簿!$D$1","v":"第○○回　○○杯グラウンド・ゴルフ大会"},null,null,null,null,null,null,null,null,null,null,null,"22組",null,"大会名",null,{"$f":"大会名簿!$D$1","v":"第○○回　○○杯グラウンド・ゴルフ大会"},null,null,null,null,null,null,null,null,null,null,null,"22組",null,"大会名",null,{"$f":"大会名簿!$D$1","v":"第○○回　○○杯グラウンド・ゴルフ大会"},null,null,null,null,null,null,null,null,null,null,null,"22組",null,"大会名",null,{"$f":"大会名簿!$D$1","v":"第○○回　○○杯グラウンド・ゴルフ大会"}]
[null,null,"組　名",null,{"$f":"大会名簿!$D$2","v":"Ａ組"},null,"大会開催日",null,{"$f":"大会名簿!$H$2","v":"令和○年○月○日"},null,null,null,"スタートホール",null,"３－６",null,null,null,"組　名",null,{"$f":"大会名簿!$D$2","v":"Ａ組"},null,"大会開催日",null,{"$f":"大会名簿!$H$2","v":"令和○年○月○日"},null,null,null,"スタートホール",null,"４－６",null,null,null,"組　名",null,{"$f":"大会名簿!$D$2","v":"Ａ組"},null,"大会開催日",null,{"$f":"大会名簿!$H$2","v":"令和○年○月○日"},null,null,null,"スタートホール",null,"１－６",null,null,null,"組　名",null,{"$f":"大会名簿!$D$2","v":"Ａ組"},null,"大会開催日",null,{"$f":"大会名簿!$H$2","v":"令和○年○月○日"},null,null,null,"スタートホール",null,"２－６"]
["選手NO","　　　 ホールポスト\n\n　氏名",null,6,7,8,1,2,3,4,5,"実打数","１打回数","２打回数","合計","確　認\nサイン","選手NO","　　　 ホールポスト\n\n　氏名",null,6,7,8,1,2,3,4,5,"実打数","１打回数","２打回数","合計","確　認\nサイン","選手NO","　　　 ホールポスト\n\n　氏名",null,6,7,8,1,2,3,4,5,"実打数","１打回数","２打回数","合計","確　認\nサイン","選手NO","　　　 ホールポスト\n\n　氏名",null,6,7,8,1,2,3,4,5,"実打数","１打回数","２打回数","合計","確　認\nサイン"]
[1,{"$f":"大会名簿!G173","v":""},null,null,null,null,null,null,null,null,null,null,null,null,null,null,1,{"$f":"B236","v":""},null,null,null,null,null,null,null,null,null,null,null,null,null,null,1,{"$f":"B236","v":""},null,null,null,null,null,null,null,null,null,null,null,null,null,null,1,{"$f":"B236","v":""}]
[2,{"$f":"大会名簿!G174","v":""},null,null,null,null,null,null,null,null,null,null,null,null,null,null,2,"",null,null,null,null,null,null,null,null,null,null,null,null,null,null,2,{"$f":"B237","v":""},null,null,null,null,null,null,null,null,null,null,null,null,null,null,2,{"$f":"B237","v":""}]
[3,{"$f":"大会名簿!G175","v":""},null,null,null,null,null,null,null,null,null,null,null,null,null,null,3,"",null,null,null,null,null,null,null,null,null,null,null,null,null,null,3,"",null,null,null,null,null,null,null,null,null,null,null,null,null,null,3,""]
[4,{"$f":"大会名簿!G176","v":""},null,null,null,null,null,null,null,null,null,null,null,null,null,null,4,"",null,null,null,null,null,null,null,null,null,null,null,null,null,null,4,"",null,null,null,null,null,null,null,null,null,null,null,null,null,null,4,""]
[5,{"$f":"大会名簿!G177","v":""},null,null,null,null,null,null,null,null,null,null,null,null,null,null,5,"",null,null,null,null,null,null,null,null,null,null,null,null,null,null,5,"",null,null,null,null,null,null,null,null,null,null,null,null,null,null,5,""]
[6,{"$f":"大会名簿!G178","v":""},null,null,null,null,null,null,null,null,null,null,null,null,null,null,6,"",null,null,null,null,null,null,null,null,null,null,null,null,null,null,6,"",null,null,null,null,null,null,null,null,null,null,null,null,null,null,6,""]
[7,{"$f":"大会名簿!G179","v":""},null,null,null,null,null,null,null,null,null,null,null,null,null,null,7,"",null,null,null,null,null,null,null,null,null,null,null,null,null,null,7,"",null,null,null,null,null,null,null,null,null,null,null,null,null,null,7,""]
[8,{"$f":"大会名簿!G180","v":""},null,null,null,null,null,null,null,null,null,null,null,null,null,null,8,"",null,null,null,null,null,null,null,null,null,null,null,null,null,null,8,"",null,null,null,null,null,null,null,null,null,null,null,null,null,null,8,""]
["23組",null,"大会名",null,{"$f":"大会名簿!$D$1","v":"第○○回　○○杯グラウンド・ゴルフ大会"},null,null,null,null,null,null,null,null,null,null,null,"23組",null,"大会名",null,{"$f":"大会名簿!$D$1","v":"第○○回　○○杯グラウンド・ゴルフ大会"},null,null,null,null,null,null,null,null,null,null,null,"23組",null,"大会名",null,{"$f":"大会名簿!$D$1","v":"第○○回　○○杯グラウンド・ゴルフ大会"},null,null,null,null,null,null,null,null,null,null,null,"23組",null,"大会名",null,{"$f":"大会名簿!$D$1","v":"第○○回　○○杯グラウンド・ゴルフ大会"}]
[null,null,"組　名",null,{"$f":"大会名簿!$D$2","v":"Ａ組"},null,"大会開催日",null,{"$f":"大会名簿!$H$2","v":"令和○年○月○日"},null,null,null,"スタートホール",null,"３－７",null,null,null,"組　名",null,{"$f":"大会名簿!$D$2","v":"Ａ組"},null,"大会開催日",null,{"$f":"大会名簿!$H$2","v":"令和○年○月○日"},null,null,null,"スタートホール",null,"４－７",null,null,null,"組　名",null,{"$f":"大会名簿!$D$2","v":"Ａ組"},null,"大会開催日",null,{"$f":"大会名簿!$H$2","v":"令和○年○月○日"},null,null,null,"スタートホール",null,"１－７",null,null,null,"組　名",null,{"$f":"大会名簿!$D$2","v":"Ａ組"},null,"大会開催日",null,{"$f":"大会名簿!$H$2","v":"令和○年○月○日"},null,null,null,"スタートホール",null,"２－７"]
["選手NO","　　　 ホールポスト\n\n　氏名",null,7,8,1,2,3,4,5,6,"実打数","１打回数","２打回数","合計","確　認\nサイン","選手NO","　　　 ホールポスト\n\n　氏名",null,7,8,1,2,3,4,5,6,"実打数","１打回数","２打回数","合計","確　認\nサイン","選手NO","　　　 ホールポスト\n\n　氏名",null,7,8,1,2,3,4,5,6,"実打数","１打回数","２打回数","合計","確　認\nサイン","選手NO","　　　 ホールポスト\n\n　氏名",null,7,8,1,2,3,4,5,6,"実打数","１打回数","２打回数","合計","確　認\nサイン"]
[1,{"$f":"大会名簿!G181","v":""},null,null,null,null,null,null,null,null,null,null,null,null,null,null,1,{"$f":"B247","v":""},null,null,null,null,null,null,null,null,null,null,null,null,null,null,1,{"$f":"B247","v":""},null,null,null,null,null,null,null,null,null,null,null,null,null,null,1,{"$f":"B247","v":""}]
[2,{"$f":"大会名簿!G182","v":""},null,null,null,null,null,null,null,null,null,null,null,null,null,null,2,{"$f":"B248","v":""},null,null,null,null,null,null,null,null,null,null,null,null,null,null,2,{"$f":"B248","v":""},null,null,null,null,null,null,null,null,null,null,null,null,null,null,2,{"$f":"B248","v":""}]
[3,{"$f":"大会名簿!G183","v":""},null,null,null,null,null,null,null,null,null,null,null,null,null,null,3,"",null,null,null,null,null,null,null,null,null,null,null,null,null,null,3,"",null,null,null,null,null,null,null,null,null,null,null,null,null,null,3,""]
[4,{"$f":"大会名簿!G184","v":""},null,null,null,null,null,null,null,null,null,null,null,null,null,null,4,"",null,null,null,null,null,null,null,null,null,null,null,null,null,null,4,"",null,null,null,null,null,null,null,null,null,null,null,null,null,null,4,""]
[5,{"$f":"大会名簿!G185","v":""},null,null,null,null,null,null,null,null,null,null,null,null,null,null,5,"",null,null,null,null,null,null,null,null,null,null,null,null,null,null,5,"",null,null,null,null,null,null,null,null,null,null,null,null,null,null,5,""]
[6,{"$f":"大会名簿!G186","v":""},null,null,null,null,null,null,null,null,null,null,null,null,null,null,6,"",null,null,null,null,null,null,null,null,null,null,null,null,null,null,6,"",null,null,null,null,null,null,null,null,null,null,null,null,null,null,6,""]
[7,{"$f":"大会名簿!G187","v":""},null,null,null,null,null,null,null,null,null,null,null,null,null,null,7,"",null,null,null,null,null,null,null,null,null,null,null,null,null,null,7,"",null,null,null,null,null,null,null,null,null,null,null,null,null,null,7,""]
[8,{"$f":"大会名簿!G188","v":""},null,null,null,null,null,null,null,null,null,null,null,null,null,null,8,"",null,null,null,null,null,null,null,null,null,null,null,null,null,null,8,"",null,null,null,null,null,null,null,null,null,null,null,null,null,null,8,""]
["24組",null,"大会名",null,{"$f":"大会名簿!$D$1","v":"第○○回　○○杯グラウンド・ゴルフ大会"},null,null,null,null,null,null,null,null,null,null,null,"24組",null,"大会名",null,{"$f":"大会名簿!$D$1","v":"第○○回　○○杯グラウンド・ゴルフ大会"},null,null,null,null,null,null,null,null,null,null,null,"24組",null,"大会名",null,{"$f":"大会名簿!$D$1","v":"第○○回　○○杯グラウンド・ゴルフ大会"},null,null,null,null,null,null,null,null,null,null,null,"24組",null,"大会名",null,{"$f":"大会名簿!$D$1","v":"第○○回　○○杯グラウンド・ゴルフ大会"}]
[null,null,"組　名",null,{"$f":"大会名簿!$D$2","v":"Ａ組"},null,"大会開催日",null,{"$f":"大会名簿!$H$2","v":"令和○年○月○日"},null,null,null,"スタートホール",null,"３－８",null,null,null,"組　名",null,{"$f":"大会名簿!$D$2","v":"Ａ組"},null,"大会開催日",null,{"$f":"大会名簿!$H$2","v":"令和○年○月○日"},null,null,null,"スタートホール",null,"４－８",null,null,null,"組　名",null,{"$f":"大会名簿!$D$2","v":"Ａ組"},null,"大会開催日",null,{"$f":"大会名簿!$H$2","v":"令和○年○月○日"},null,null,null,"スタートホール",null,"１－８",null,null,null,"組　名",null,{"$f":"大会名簿!$D$2","v":"Ａ組"},null,"大会開催日",null,{"$f":"大会名簿!$H$2","v":"令和○年○月○日"},null,null,null,"スタートホール",null,"２－８"]
["選手NO","　　　 ホールポスト\n\n　氏名",null,8,1,2,3,4,5,6,7,"実打数","１打回数","２打回数","合計","確　認\nサイン","選手NO","　　　 ホールポスト\n\n　氏名",null,8,1,2,3,4,5,6,7,"実打数","１打回数","２打回数","合計","確　認\nサイン","選手NO","　　　 ホールポスト\n\n　氏名",null,8,1,2,3,4,5,6,7,"実打数","１打回数","２打回数","合計","確　認\nサイン","選手NO","　　　 ホールポスト\n\n　氏名",null,8,1,2,3,4,5,6,7,"実打数","１打回数","２打回数","合計","確　認\nサイン"]
[1,{"$f":"大会名簿!G189","v":""},null,null,null,null,null,null,null,null,null,null,null,null,null,null,1,{"$f":"B258","v":""},null,null,null,null,null,null,null,null,null,null,null,null,null,null,1,{"$f":"B258","v":""},null,null,null,null,null,null,null,null,null,null,null,null,null,null,1,{"$f":"B258","v":""}]
[2,{"$f":"大会名簿!G190","v":""},null,null,null,null,null,null,null,null,null,null,null,null,null,null,2,{"$f":"B259","v":""},null,null,null,null,null,null,null,null,null,null,null,null,null,null,2,{"$f":"B259","v":""},null,null,null,null,null,null,null,null,null,null,null,null,null,null,2,{"$f":"B259","v":""}]
[3,{"$f":"大会名簿!G191","v":""},null,null,null,null,null,null,null,null,null,null,null,null,null,null,3,"",null,null,null,null,null,null,null,null,null,null,null,null,null,null,3,"",null,null,null,null,null,null,null,null,null,null,null,null,null,null,3,""]
[4,{"$f":"大会名簿!G192","v":""},null,null,null,null,null,null,null,null,null,null,null,null,null,null,4,"",null,null,null,null,null,null,null,null,null,null,null,null,null,null,4,"",null,null,null,null,null,null,null,null,null,null,null,null,null,null,4,""]
[5,{"$f":"大会名簿!G193","v":""},null,null,null,null,null,null,null,null,null,null,null,null,null,null,5,"",null,null,null,null,null,null,null,null,null,null,null,null,null,null,5,"",null,null,null,null,null,null,null,null,null,null,null,null,null,null,5,""]
[6,{"$f":"大会名簿!G194","v":""},null,null,null,null,null,null,null,null,null,null,null,null,null,null,6,"",null,null,null,null,null,null,null,null,null,null,null,null,null,null,6,"",null,null,null,null,null,null,null,null,null,null,null,null,null,null,6,""]
[7,{"$f":"大会名簿!G195","v":""},null,null,null,null,null,null,null,null,null,null,null,null,null,null,7,"",null,null,null,null,null,null,null,null,null,null,null,null,null,null,7,"",null,null,null,null,null,null,null,null,null,null,null,null,null,null,7,""]
[8,{"$f":"大会名簿!G196","v":""},null,null,null,null,null,null,null,null,null,null,null,null,null,null,8,"",null,null,null,null,null,null,null,null,null,null,null,null,null,null,8,"",null,null,null,null,null,null,null,null,null,null,null,null,null,null,8,""]
["25組",null,"大会名",null,{"$f":"大会名簿!$D$1","v":"第○○回　○○杯グラウンド・ゴルフ大会"},null,null,null,null,null,null,null,null,null,null,null,"25組",null,"大会名",null,{"$f":"大会名簿!$D$1","v":"第○○回　○○杯グラウンド・ゴルフ大会"},null,null,null,null,null,null,null,null,null,null,null,"25組",null,"大会名",null,{"$f":"大会名簿!$D$1","v":"第○○回　○○杯グラウンド・ゴルフ大会"},null,null,null,null,null,null,null,null,null,null,null,"25組",null,"大会名",null,{"$f":"大会名簿!$D$1","v":"第○○回　○○杯グラウンド・ゴルフ大会"}]
[null,null,"組　名",null,{"$f":"大会名簿!$D$2","v":"Ａ組"},null,"大会開催日",null,{"$f":"大会名簿!$H$2","v":"令和○年○月○日"},null,null,null,"スタートホール",null,"４－１",null,null,null,"組　名",null,{"$f":"大会名簿!$D$2","v":"Ａ組"},null,"大会開催日",null,{"$f":"大会名簿!$H$2","v":"令和○年○月○日"},null,null,null,"スタートホール",null,"１－１",null,null,null,"組　名",null,{"$f":"大会名簿!$D$2","v":"Ａ組"},null,"大会開催日",null,{"$f":"大会名簿!$H$2","v":"令和○年○月○日"},null,null,null,"スタートホール",null,"２－１",null,null,null,"組　名",null,{"$f":"大会名簿!$D$2","v":"Ａ組"},null,"大会開催日",null,{"$f":"大会名簿!$H$2","v":"令和○年○月○日"},null,null,null,"スタートホール",null,"３－１"]
["選手NO","　　　 ホールポスト\n\n　氏名",null,1,2,3,4,5,6,7,8,"実打数","１打回数","２打回数","合計","確　認\nサイン","選手NO","　　　 ホールポスト\n\n　氏名",null,1,2,3,4,5,6,7,8,"実打数","１打回数","２打回数","合計","確　認\nサイン","選手NO","　　　 ホールポスト\n\n　氏名",null,1,2,3,4,5,6,7,8,"実打数","１打回数","２打回数","合計","確　認\nサイン","選手NO","　　　 ホールポスト\n\n　氏名",null,1,2,3,4,5,6,7,8,"実打数","１打回数","２打回数","合計","確　認\nサイン"]
[1,{"$f":"大会名簿!G197","v":""},null,null,null,null,null,null,null,null,null,null,null,null,null,null,1,{"$f":"B269","v":""},null,null,null,null,null,null,null,null,null,null,null,null,null,null,1,{"$f":"B269","v":""},null,null,null,null,null,null,null,null,null,null,null,null,null,null,1,{"$f":"B269","v":""}]
[2,{"$f":"大会名簿!G198","v":""},null,null,null,null,null,null,null,null,null,null,null,null,null,null,2,{"$f":"B270","v":""},null,null,null,null,null,null,null,null,null,null,null,null,null,null,2,{"$f":"B270","v":""},null,null,null,null,null,null,null,null,null,null,null,null,null,null,2,{"$f":"B270","v":""}]
[3,{"$f":"大会名簿!G199","v":""},null,null,null,null,null,null,null,null,null,null,null,null,null,null,3,"",null,null,null,null,null,null,null,null,null,null,null,null,null,null,3,"",null,null,null,null,null,null,null,null,null,null,null,null,null,null,3,""]
[4,{"$f":"大会名簿!G200","v":""},null,null,null,null,null,null,null,null,null,null,null,null,null,null,4,"",null,null,null,null,null,null,null,null,null,null,null,null,null,null,4,"",null,null,null,null,null,null,null,null,null,null,null,null,null,null,4,""]
[5,{"$f":"大会名簿!G201","v":""},null,null,null,null,null,null,null,null,null,null,null,null,null,null,5,"",null,null,null,null,null,null,null,null,null,null,null,null,null,null,5,"",null,null,null,null,null,null,null,null,null,null,null,null,null,null,5,""]
[6,{"$f":"大会名簿!G202","v":""},null,null,null,null,null,null,null,null,null,null,null,null,null,null,6,"",null,null,null,null,null,null,null,null,null,null,null,null,null,null,6,"",null,null,null,null,null,null,null,null,null,null,null,null,null,null,6,""]
[7,{"$f":"大会名簿!G203","v":""},null,null,null,null,null,null,null,null,null,null,null,null,null,null,7,"",null,null,null,null,null,null,null,null,null,null,null,null,null,null,7,"",null,null,null,null,null,null,null,null,null,null,null,null,null,null,7,""]
[8,{"$f":"大会名簿!G204","v":""},null,null,null,null,null,null,null,null,null,null,null,null,null,null,8,"",null,null,null,null,null,null,null,null,null,null,null,null,null,null,8,"",null,null,null,null,null,null,null,null,null,null,null,null,null,null,8,""]
["26組",null,"大会名",null,{"$f":"大会名簿!$D$1","v":"第○○回　○○杯グラウンド・ゴルフ大会"},null,null,null,null,null,null,null,null,null,null,null,"26組",null,"大会名",null,{"$f":"大会名簿!$D$1","v":"第○○回　○○杯グラウンド・ゴルフ大会"},null,null,null,null,null,null,null,null,null,null,null,"26組",null,"大会名",null,{"$f":"大会名簿!$D$1","v":"第○○回　○○杯グラウンド・ゴルフ大会"},null,null,null,null,null,null,null,null,null,null,null,"26組",null,"大会名",null,{"$f":"大会名簿!$D$1","v":"第○○回　○○杯グラウンド・ゴルフ大会"}]
[null,null,"組　名",null,{"$f":"大会名簿!$D$2","v":"Ａ組"},null,"大会開催日",null,{"$f":"大会名簿!$H$2","v":"令和○年○月○日"},null,null,null,"スタートホール",null,"４－２",null,null,null,"組　名",null,{"$f":"大会名簿!$D$2","v":"Ａ組"},null,"大会開催日",null,{"$f":"大会名簿!$H$2","v":"令和○年○月○日"},null,null,null,"スタートホール",null,"１－２",null,null,null,"組　名",null,{"$f":"大会名簿!$D$2","v":"Ａ組"},null,"大会開催日",null,{"$f":"大会名簿!$H$2","v":"令和○年○月○日"},null,null,null,"スタートホール",null,"２－２",null,null,null,"組　名",null,{"$f":"大会名簿!$D$2","v":"Ａ組"},null,"大会開催日",null,{"$f":"大会名簿!$H$2","v":"令和○年○月○日"},null,null,null,"スタートホール",null,"３－２"]
["選手NO","　　　 ホールポスト\n\n　氏名",null,2,3,4,5,6,7,8,9,"実打数","１打回数","２打回数","合計","確　認\nサイン","選手NO","　　　 ホールポスト\n\n　氏名",null,2,3,4,5,6,7,8,9,"実打数","１打回数","２打回数","合計","確　認\nサイン","選手NO","　　　 ホールポスト\n\n　氏名",null,2,3,4,5,6,7,8,9,"実打数","１打回数","２打回数","合計","確　認\nサイン","選手NO","　　　 ホールポスト\n\n　氏名",null,2,3,4,5,6,7,8,9,"実打数","１打回数","２打回数","合計","確　認\nサイン"]
[1,{"$f":"大会名簿!G205","v":""},null,null,null,null,null,null,null,null,null,null,null,null,null,null,1,{"$f":"B280","v":""},null,null,null,null,null,null,null,null,null,null,null,null,null,null,1,{"$f":"B280","v":""},null,null,null,null,null,null,null,null,null,null,null,null,null,null,1,{"$f":"B280","v":""}]
[2,{"$f":"大会名簿!G206","v":""},null,null,null,null,null,null,null,null,null,null,null,null,null,null,2,{"$f":"B281","v":""},null,null,null,null,null,null,null,null,null,null,null,null,null,null,2,{"$f":"B281","v":""},null,null,null,null,null,null,null,null,null,null,null,null,null,null,2,{"$f":"B281","v":""}]
[3,{"$f":"大会名簿!G207","v":""},null,null,null,null,null,null,null,null,null,null,null,null,null,null,3,"",null,null,null,null,null,null,null,null,null,null,null,null,null,null,3,"",null,null,null,null,null,null,null,null,null,null,null,null,null,null,3,""]
[4,{"$f":"大会名簿!G208","v":""},null,null,null,null,null,null,null,null,null,null,null,null,null,null,4,"",null,null,null,null,null,null,null,null,null,null,null,null,null,null,4,"",null,null,null,null,null,null,null,null,null,null,null,null,null,null,4,""]
[5,{"$f":"大会名簿!G209","v":""},null,null,null,null,null,null,null,null,null,null,null,null,null,null,5,"",null,null,null,null,null,null,null,null,null,null,null,null,null,null,5,"",null,null,null,null,null,null,null,null,null,null,null,null,null,null,5,""]
[6,{"$f":"大会名簿!G210","v":""},null,null,null,null,null,null,null,null,null,null,null,null,null,null,6,"",null,null,null,null,null,null,null,null,null,null,null,null,null,null,6,"",null,null,null,null,null,null,null,null,null,null,null,null,null,null,6,""]
[7,{"$f":"大会名簿!G211","v":""},null,null,null,null,null,null,null,null,null,null,null,null,null,null,7,"",null,null,null,null,null,null,null,null,null,null,null,null,null,null,7,"",null,null,null,null,null,null,null,null,null,null,null,null,null,null,7,""]
[8,{"$f":"大会名簿!G212","v":""},null,null,null,null,null,null,null,null,null,null,null,null,null,null,8,"",null,null,null,null,null,null,null,null,null,null,null,null,null,null,8,"",null,null,null,null,null,null,null,null,null,null,null,null,null,null,8,""]
["27組",null,"大会名",null,{"$f":"大会名簿!$D$1","v":"第○○回　○○杯グラウンド・ゴルフ大会"},null,null,null,null,null,null,null,null,null,null,null,"27組",null,"大会名",null,{"$f":"大会名簿!$D$1","v":"第○○回　○○杯グラウンド・ゴルフ大会"},null,null,null,null,null,null,null,null,null,null,null,"27組",null,"大会名",null,{"$f":"大会名簿!$D$1","v":"第○○回　○○杯グラウンド・ゴルフ大会"},null,null,null,null,null,null,null,null,null,null,null,"27組",null,"大会名",null,{"$f":"大会名簿!$D$1","v":"第○○回　○○杯グラウンド・ゴルフ大会"}]
[null,null,"組　名",null,{"$f":"大会名簿!$D$2","v":"Ａ組"},null,"大会開催日",null,{"$f":"大会名簿!$H$2","v":"令和○年○月○日"},null,null,null,"スタートホール",null,"４－３",null,null,null,"組　名",null,{"$f":"大会名簿!$D$2","v":"Ａ組"},null,"大会開催日",null,{"$f":"大会名簿!$H$2","v":"令和○年○月○日"},null,null,null,"スタートホール",null,"１－３",null,null,null,"組　名",null,{"$f":"大会名簿!$D$2","v":"Ａ組"},null,"大会開催日",null,{"$f":"大会名簿!$H$2","v":"令和○年○月○日"},null,null,null,"スタートホール",null,"２－３",null,null,null,"組　名",null,{"$f":"大会名簿!$D$2","v":"Ａ組"},null,"大会開催日",null,{"$f":"大会名簿!$H$2","v":"令和○年○月○日"},null,null,null,"スタートホール",null,"３－３"]
["選手NO","　　　 ホールポスト\n\n　氏名",null,3,4,5,6,7,8,1,2,"実打数","１打回数","２打回数","合計","確　認\nサイン","選手NO","　　　 ホールポスト\n\n　氏名",null,3,4,5,6,7,8,1,2,"実打数","１打回数","２打回数","合計","確　認\nサイン","選手NO","　　　 ホールポスト\n\n　氏名",null,3,4,5,6,7,8,1,2,"実打数","１打回数","２打回数","合計","確　認\nサイン","選手NO","　　　 ホールポスト\n\n　氏名",null,3,4,5,6,7,8,1,2,"実打数","１打回数","２打回数","合計","確　認\nサイン"]
[1,{"$f":"大会名簿!G213","v":""},null,null,null,null,null,null,null,null,null,null,null,null,null,null,1,{"$f":"B291","v":""},null,null,null,null,null,null,null,null,null,null,null,null,null,null,1,{"$f":"B291","v":""},null,null,null,null,null,null,null,null,null,null,null,null,null,null,1,{"$f":"B291","v":""}]
[2,{"$f":"大会名簿!G214","v":""},null,null,null,null,null,null,null,null,null,null,null,null,null,null,2,{"$f":"B292","v":""},null,null,null,null,null,null,null,null,null,null,null,null,null,null,2,{"$f":"B292","v":""},null,null,null,null,null,null,null,null,null,null,null,null,null,null,2,{"$f":"B292","v":""}]
[3,{"$f":"大会名簿!G215","v":""},null,null,null,null,null,null,null,null,null,null,null,null,null,null,3,"",null,null,null,null,null,null,null,null,null,null,null,null,null,null,3,"",null,null,null,null,null,null,null,null,null,null,null,null,null,null,3,""]
[4,{"$f":"大会名簿!G216","v":""},null,null,null,null,null,null,null,null,null,null,null,null,null,null,4,"",null,null,null,null,null,null,null,null,null,null,null,null,null,null,4,"",null,null,null,null,null,null,null,null,null,null,null,null,null,null,4,""]
[5,{"$f":"大会名簿!G217","v":""},null,null,null,null,null,null,null,null,null,null,null,null,null,null,5,"",null,null,null,null,null,null,null,null,null,null,null,null,null,null,5,"",null,null,null,null,null,null,null,null,null,null,null,null,null,null,5,""]
[6,{"$f":"大会名簿!G218","v":""},null,null,null,null,null,null,null,null,null,null,null,null,null,null,6,"",null,null,null,null,null,null,null,null,null,null,null,null,null,null,6,"",null,null,null,null,null,null,null,null,null,null,null,null,null,null,6,""]
[7,{"$f":"大会名簿!G219","v":""},null,null,null,null,null,null,null,null,null,null,null,null,null,null,7,"",null,null,null,null,null,null,null,null,null,null,null,null,null,null,7,"",null,null,null,null,null,null,null,null,null,null,null,null,null,null,7,""]
[8,{"$f":"大会名簿!G220","v":""},null,null,null,null,null,null,null,null,null,null,null,null,null,null,8,"",null,null,null,null,null,null,null,null,null,null,null,null,null,null,8,"",null,null,null,null,null,null,null,null,null,null,null,null,null,null,8,""]
["28組",null,"大会名",null,{"$f":"大会名簿!$D$1","v":"第○○回　○○杯グラウンド・ゴルフ大会"},null,null,null,null,null,null,null,null,null,null,null,"28組",null,"大会名",null,{"$f":"大会名簿!$D$1","v":"第○○回　○○杯グラウンド・ゴルフ大会"},null,null,null,null,null,null,null,null,null,null,null,"28組",null,"大会名",null,{"$f":"大会名簿!$D$1","v":"第○○回　○○杯グラウンド・ゴルフ大会"},null,null,null,null,null,null,null,null,null,null,null,"28組",null,"大会名",null,{"$f":"大会名簿!$D$1","v":"第○○回　○○杯グラウンド・ゴルフ大会"}]
[null,null,"組　名",null,{"$f":"大会名簿!$D$2","v":"Ａ組"},null,"大会開催日",null,{"$f":"大会名簿!$H$2","v":"令和○年○月○日"},null,null,null,"スタートホール",null,"４－４",null,null,null,"組　名",null,{"$f":"大会名簿!$D$2","v":"Ａ組"},null,"大会開催日",null,{"$f":"大会名簿!$H$2","v":"令和○年○月○日"},null,null,null,"スタートホール",null,"１－４",null,null,null,"組　名",null,{"$f":"大会名簿!$D$2","v":"Ａ組"},null,"大会開催日",null,{"$f":"大会名簿!$H$2","v":"令和○年○月○日"},null,null,null,"スタートホール",null,"２－４",null,null,null,"組　名",null,{"$f":"大会名簿!$D$2","v":"Ａ組"},null,"大会開催日",null,{"$f":"大会名簿!$H$2","v":"令和○年○月○日"},null,null,null,"スタートホール",null,"３－４"]
["選手NO","　　　 ホールポスト\n\n　氏名",null,4,5,6,7,8,1,2,3,"実打数","１打回数","２打回数","合計","確　認\nサイン","選手NO","　　　 ホールポスト\n\n　氏名",null,4,5,6,7,8,1,2,3,"実打数","１打回数","２打回数","合計","確　認\nサイン","選手NO","　　　 ホールポスト\n\n　氏名",null,4,5,6,7,8,1,2,3,"実打数","１打回数","２打回数","合計","確　認\nサイン","選手NO","　　　 ホールポスト\n\n　氏名",null,4,5,6,7,8,1,2,3,"実打数","１打回数","２打回数","合計","確　認\nサイン"]
[1,{"$f":"大会名簿!G221","v":""},null,null,null,null,null,null,null,null,null,null,null,null,null,null,1,{"$f":"B302","v":""},null,null,null,null,null,null,null,null,null,null,null,null,null,null,1,{"$f":"B302","v":""},null,null,null,null,null,null,null,null,null,null,null,null,null,null,1,{"$f":"B302","v":""}]
[2,{"$f":"大会名簿!G222","v":""},null,null,null,null,null,null,null,null,null,null,null,null,null,null,2,{"$f":"B303","v":""},null,null,null,null,null,null,null,null,null,null,null,null,null,null,2,{"$f":"B303","v":""},null,null,null,null,null,null,null,null,null,null,null,null,null,null,2,{"$f":"B303","v":""}]
[3,{"$f":"大会名簿!G223","v":""},null,null,null,null,null,null,null,null,null,null,null,null,null,null,3,"",null,null,null,null,null,null,null,null,null,null,null,null,null,null,3,"",null,null,null,null,null,null,null,null,null,null,null,null,null,null,3,""]
[4,{"$f":"大会名簿!G224","v":""},null,null,null,null,null,null,null,null,null,null,null,null,null,null,4,"",null,null,null,null,null,null,null,null,null,null,null,null,null,null,4,"",null,null,null,null,null,null,null,null,null,null,null,null,null,null,4,""]
[5,{"$f":"大会名簿!G225","v":""},null,null,null,null,null,null,null,null,null,null,null,null,null,null,5,"",null,null,null,null,null,null,null,null,null,null,null,null,null,null,5,"",null,null,null,null,null,null,null,null,null,null,null,null,null,null,5,""]
[6,{"$f":"大会名簿!G226","v":""},null,null,null,null,null,null,null,null,null,null,null,null,null,null,6,"",null,null,null,null,null,null,null,null,null,null,null,null,null,null,6,"",null,null,null,null,null,null,null,null,null,null,null,null,null,null,6,""]
[7,{"$f":"大会名簿!G227","v":""},null,null,null,null,null,null,null,null,null,null,null,null,null,null,7,"",null,null,null,null,null,null,null,null,null,null,null,null,null,null,7,"",null,null,null,null,null,null,null,null,null,null,null,null,null,null,7,""]
[8,{"$f":"大会名簿!G228","v":""},null,null,null,null,null,null,null,null,null,null,null,null,null,null,8,"",null,null,null,null,null,null,null,null,null,null,null,null,null,null,8,"",null,null,null,null,null,null,null,null,null,null,null,null,null,null,8,""]
["29組",null,"大会名",null,{"$f":"大会名簿!$D$1","v":"第○○回　○○杯グラウンド・ゴルフ大会"},null,null,null,null,null,null,null,null,null,null,null,"29組",null,"大会名",null,{"$f":"大会名簿!$D$1","v":"第○○回　○○杯グラウンド・ゴルフ大会"},null,null,null,null,null,null,null,null,null,null,null,"29組",null,"大会名",null,{"$f":"大会名簿!$D$1","v":"第○○回　○○杯グラウンド・ゴルフ大会"},null,null,null,null,null,null,null,null,null,null,null,"29組",null,"大会名",null,{"$f":"大会名簿!$D$1","v":"第○○回　○○杯グラウンド・ゴルフ大会"}]
[null,null,"組　名",null,{"$f":"大会名簿!$D$2","v":"Ａ組"},null,"大会開催日",null,{"$f":"大会名簿!$H$2","v":"令和○年○月○日"},null,null,null,"スタートホール",null,"４－５",null,null,null,"組　名",null,{"$f":"大会名簿!$D$2","v":"Ａ組"},null,"大会開催日",null,{"$f":"大会名簿!$H$2","v":"令和○年○月○日"},null,null,null,"スタートホール",null,"１－５",null,null,null,"組　名",null,{"$f":"大会名簿!$D$2","v":"Ａ組"},null,"大会開催日",null,{"$f":"大会名簿!$H$2","v":"令和○年○月○日"},null,null,null,"スタートホール",null,"２－５",null,null,null,"組　名",null,{"$f":"大会名簿!$D$2","v":"Ａ組"},null,"大会開催日",null,{"$f":"大会名簿!$H$2","v":"令和○年○月○日"},null,null,null,"スタートホール",null,"３－５"]
["選手NO","　　　 ホールポスト\n\n　氏名",null,5,6,7,8,1,2,3,4,"実打数","１打回数","２打回数","合計","確　認\nサイン","選手NO","　　　 ホールポスト\n\n　氏名",null,5,6,7,8,1,2,3,4,"実打数","１打回数","２打回数","合計","確　認\nサイン","選手NO","　　　 ホールポスト\n\n　氏名",null,5,6,7,8,1,2,3,4,"実打数","１打回数","２打回数","合計","確　認\nサイン","選手NO","　　　 ホールポスト\n\n　氏名",null,5,6,7,8,1,2,3,4,"実打数","１打回数","２打回数","合計","確　認\nサイン"]
[1,{"$f":"大会名簿!G229","v":""},null,null,null,null,null,null,null,null,null,null,null,null,null,null,1,{"$f":"B313","v":""},null,null,null,null,null,null,null,null,null,null,null,null,null,null,1,{"$f":"B313","v":""},null,null,null,null,null,null,null,null,null,null,null,null,null,null,1,{"$f":"B313","v":""}]
[2,{"$f":"大会名簿!G230","v":""},null,null,null,null,null,null,null,null,null,null,null,null,null,null,2,{"$f":"B314","v":""},null,null,null,null,null,null,null,null,null,null,null,null,null,null,2,{"$f":"B314","v":""},null,null,null,null,null,null,null,null,null,null,null,null,null,null,2,{"$f":"B314","v":""}]
[3,{"$f":"大会名簿!G231","v":""},null,null,null,null,null,null,null,null,null,null,null,null,null,null,3,"",null,null,null,null,null,null,null,null,null,null,null,null,null,null,3,"",null,null,null,null,null,null,null,null,null,null,null,null,null,null,3,""]
[4,{"$f":"大会名簿!G232","v":""},null,null,null,null,null,null,null,null,null,null,null,null,null,null,4,"",null,null,null,null,null,null,null,null,null,null,null,null,null,null,4,"",null,null,null,null,null,null,null,null,null,null,null,null,null,null,4,""]
[5,{"$f":"大会名簿!G233","v":""},null,null,null,null,null,null,null,null,null,null,null,null,null,null,5,"",null,null,null,null,null,null,null,null,null,null,null,null,null,null,5,"",null,null,null,null,null,null,null,null,null,null,null,null,null,null,5,""]
[6,{"$f":"大会名簿!G234","v":""},null,null,null,null,null,null,null,null,null,null,null,null,null,null,6,"",null,null,null,null,null,null,null,null,null,null,null,null,null,null,6,"",null,null,null,null,null,null,null,null,null,null,null,null,null,null,6,""]
[7,{"$f":"大会名簿!G235","v":""},null,null,null,null,null,null,null,null,null,null,null,null,null,null,7,"",null,null,null,null,null,null,null,null,null,null,null,null,null,null,7,"",null,null,null,null,null,null,null,null,null,null,null,null,null,null,7,""]
[8,{"$f":"大会名簿!G236","v":""},null,null,null,null,null,null,null,null,null,null,null,null,null,null,8,"",null,null,null,null,null,null,null,null,null,null,null,null,null,null,8,"",null,null,null,null,null,null,null,null,null,null,null,null,null,null,8,""]
["30組",null,"大会名",null,{"$f":"大会名簿!$D$1","v":"第○○回　○○杯グラウンド・ゴルフ大会"},null,null,null,null,null,null,null,null,null,null,null,"30組",null,"大会名",null,{"$f":"大会名簿!$D$1","v":"第○○回　○○杯グラウンド・ゴルフ大会"},null,null,null,null,null,null,null,null,null,null,null,"30組",null,"大会名",null,{"$f":"大会名簿!$D$1","v":"第○○回　○○杯グラウンド・ゴルフ大会"},null,null,null,null,null,null,null,null,null,null,null,"30組",null,"大会名",null,{"$f":"大会名簿!$D$1","v":"第○○回　○○杯グラウンド・ゴルフ大会"}]
[null,null,"組　名",null,{"$f":"大会名簿!$D$2","v":"Ａ組"},null,"大会開催日",null,{"$f":"大会名簿!$H$2","v":"令和○年○月○日"},null,null,null,"スタートホール",null,"４－６",null,null,null,"組　名",null,{"$f":"大会名簿!$D$2","v":"Ａ組"},null,"大会開催日",null,{"$f":"大会名簿!$H$2","v":"令和○年○月○日"},null,null,null,"スタートホール",null,"１－６",null,null,null,"組　名",null,{"$f":"大会名簿!$D$2","v":"Ａ組"},null,"大会開催日",null,{"$f":"大会名簿!$H$2","v":"令和○年○月○日"},null,null,null,"スタートホール",null,"２－６",null,null,null,"組　名",null,{"$f":"大会名簿!$D$2","v":"Ａ組"},null,"大会開催日",null,{"$f":"大会名簿!$H$2","v":"令和○年○月○日"},null,null,null,"スタートホール",null,"３－６"]
["選手NO","　　　 ホールポスト\n\n　氏名",null,6,7,8,1,2,3,4,5,"実打数","１打回数","２打回数","合計","確　認\nサイン","選手NO","　　　 ホールポスト\n\n　氏名",null,6,7,8,1,2,3,4,5,"実打数","１打回数","２打回数","合計","確　認\nサイン","選手NO","　　　 ホールポスト\n\n　氏名",null,6,7,8,1,2,3,4,5,"実打数","１打回数","２打回数","合計","確　認\nサイン","選手NO","　　　 ホールポスト\n\n　氏名",null,6,7,8,1,2,3,4,5,"実打数","１打回数","２打回数","合計","確　認\nサイン"]
[1,{"$f":"大会名簿!G237","v":""},null,null,null,null,null,null,null,null,null,null,null,null,null,null,1,{"$f":"B324","v":""},null,null,null,null,null,null,null,null,null,null,null,null,null,null,1,{"$f":"B324","v":""},null,null,null,null,null,null,null,null,null,null,null,null,null,null,1,{"$f":"B324","v":""}]
[2,{"$f":"大会名簿!G238","v":""},null,null,null,null,null,null,null,null,null,null,null,null,null,null,2,{"$f":"B325","v":""},null,null,null,null,null,null,null,null,null,null,null,null,null,null,2,{"$f":"B325","v":""},null,null,null,null,null,null,null,null,null,null,null,null,null,null,2,{"$f":"B325","v":""}]
[3,{"$f":"大会名簿!G239","v":""},null,null,null,null,null,null,null,null,null,null,null,null,null,null,3,"",null,null,null,null,null,null,null,null,null,null,null,null,null,null,3,"",null,null,null,null,null,null,null,null,null,null,null,null,null,null,3,""]
[4,{"$f":"大会名簿!G240","v":""},null,null,null,null,null,null,null,null,null,null,null,null,null,null,4,"",null,null,null,null,null,null,null,null,null,null,null,null,null,null,4,"",null,null,null,null,null,null,null,null,null,null,null,null,null,null,4,""]
[5,{"$f":"大会名簿!G241","v":""},null,null,null,null,null,null,null,null,null,null,null,null,null,null,5,"",null,null,null,null,null,null,null,null,null,null,null,null,null,null,5,"",null,null,null,null,null,null,null,null,null,null,null,null,null,null,5,""]
[6,{"$f":"大会名簿!G242","v":""},null,null,null,null,null,null,null,null,null,null,null,null,null,null,6,"",null,null,null,null,null,null,null,null,null,null,null,null,null,null,6,"",null,null,null,null,null,null,null,null,null,null,null,null,null,null,6,""]
[7,{"$f":"大会名簿!G243","v":""},null,null,null,null,null,null,null,null,null,null,null,null,null,null,7,"",null,null,null,null,null,null,null,null,null,null,null,null,null,null,7,"",null,null,null,null,null,null,null,null,null,null,null,null,null,null,7,""]
[8,{"$f":"大会名簿!G244","v":""},null,null,null,null,null,null,null,null,null,null,null,null,null,null,8,"",null,null,null,null,null,null,null,null,null,null,null,null,null,null,8,"",null,null,null,null,null,null,null,null,null,null,null,null,null,null,8,""]
["31組",null,"大会名",null,{"$f":"大会名簿!$D$1","v":"第○○回　○○杯グラウンド・ゴルフ大会"},null,null,null,null,null,null,null,null,null,null,null,"31組",null,"大会名",null,{"$f":"大会名簿!$D$1","v":"第○○回　○○杯グラウンド・ゴルフ大会"},null,null,null,null,null,null,null,null,null,null,null,"31組",null,"大会名",null,{"$f":"大会名簿!$D$1","v":"第○○回　○○杯グラウンド・ゴルフ大会"},null,null,null,null,null,null,null,null,null,null,null,"31組",null,"大会名",null,{"$f":"大会名簿!$D$1","v":"第○○回　○○杯グラウンド・ゴルフ大会"}]
[null,null,"組　名",null,{"$f":"大会名簿!$D$2","v":"Ａ組"},null,"大会開催日",null,{"$f":"大会名簿!$H$2","v":"令和○年○月○日"},null,null,null,"スタートホール",null,"４－７",null,null,null,"組　名",null,{"$f":"大会名簿!$D$2","v":"Ａ組"},null,"大会開催日",null,{"$f":"大会名簿!$H$2","v":"令和○年○月○日"},null,null,null,"スタートホール",null,"１－７",null,null,null,"組　名",null,{"$f":"大会名簿!$D$2","v":"Ａ組"},null,"大会開催日",null,{"$f":"大会名簿!$H$2","v":"令和○年○月○日"},null,null,null,"スタートホール",null,"２－７",null,null,null,"組　名",null,{"$f":"大会名簿!$D$2","v":"Ａ組"},null,"大会開催日",null,{"$f":"大会名簿!$H$2","v":"令和○年○月○日"},null,null,null,"スタートホール",null,"３－７"]
["選手NO","　　　 ホールポスト\n\n　氏名",null,7,8,1,2,3,4,5,6,"実打数","１打回数","２打回数","合計","確　認\nサイン","選手NO","　　　 ホールポスト\n\n　氏名",null,7,8,1,2,3,4,5,6,"実打数","１打回数","２打回数","合計","確　認\nサイン","選手NO","　　　 ホールポスト\n\n　氏名",null,7,8,1,2,3,4,5,6,"実打数","１打回数","２打回数","合計","確　認\nサイン","選手NO","　　　 ホールポスト\n\n　氏名",null,7,8,1,2,3,4,5,6,"実打数","１打回数","２打回数","合計","確　認\nサイン"]
[1,{"$f":"大会名簿!G245","v":""},null,null,null,null,null,null,null,null,null,null,null,null,null,null,1,{"$f":"B335","v":""},null,null,null,null,null,null,null,null,null,null,null,null,null,null,1,{"$f":"B335","v":""},null,null,null,null,null,null,null,null,null,null,null,null,null,null,1,{"$f":"B335","v":""}]
[2,{"$f":"大会名簿!G246","v":""},null,null,null,null,null,null,null,null,null,null,null,null,null,null,2,{"$f":"B336","v":""},null,null,null,null,null,null,null,null,null,null,null,null,null,null,2,{"$f":"B336","v":""},null,null,null,null,null,null,null,null,null,null,null,null,null,null,2,{"$f":"B336","v":""}]
[3,{"$f":"大会名簿!G247","v":""},null,null,null,null,null,null,null,null,null,null,null,null,null,null,3,"",null,null,null,null,null,null,null,null,null,null,null,null,null,null,3,"",null,null,null,null,null,null,null,null,null,null,null,null,null,null,3,""]
[4,{"$f":"大会名簿!G248","v":""},null,null,null,null,null,null,null,null,null,null,null,null,null,null,4,"",null,null,null,null,null,null,null,null,null,null,null,null,null,null,4,"",null,null,null,null,null,null,null,null,null,null,null,null,null,null,4,""]
[5,{"$f":"大会名簿!G249","v":""},null,null,null,null,null,null,null,null,null,null,null,null,null,null,5,"",null,null,null,null,null,null,null,null,null,null,null,null,null,null,5,"",null,null,null,null,null,null,null,null,null,null,null,null,null,null,5,""]
[6,{"$f":"大会名簿!G250","v":""},null,null,null,null,null,null,null,null,null,null,null,null,null,null,6,"",null,null,null,null,null,null,null,null,null,null,null,null,null,null,6,"",null,null,null,null,null,null,null,null,null,null,null,null,null,null,6,""]
[7,{"$f":"大会名簿!G251","v":""},null,null,null,null,null,null,null,null,null,null,null,null,null,null,7,"",null,null,null,null,null,null,null,null,null,null,null,null,null,null,7,"",null,null,null,null,null,null,null,null,null,null,null,null,null,null,7,""]
[8,{"$f":"大会名簿!G252","v":""},null,null,null,null,null,null,null,null,null,null,null,null,null,null,8,{"$f":"B342","v":""},null,null,null,null,null,null,null,null,null,null,null,null,null,null,8,"",null,null,null,null,null,null,null,null,null,null,null,null,null,null,8,""]
["32組",null,"大会名",null,{"$f":"大会名簿!$D$1","v":"第○○回　○○杯グラウンド・ゴルフ大会"},null,null,null,null,null,null,null,null,null,null,null,"32組",null,"大会名",null,{"$f":"大会名簿!$D$1","v":"第○○回　○○杯グラウンド・ゴルフ大会"},null,null,null,null,null,null,null,null,null,null,null,"32組",null,"大会名",null,{"$f":"大会名簿!$D$1","v":"第○○回　○○杯グラウンド・ゴルフ大会"},null,null,null,null,null,null,null,null,null,null,null,"32組",null,"大会名",null,{"$f":"大会名簿!$D$1","v":"第○○回　○○杯グラウンド・ゴルフ大会"}]
[null,null,"組　名",null,{"$f":"大会名簿!$D$2","v":"Ａ組"},null,"大会開催日",null,{"$f":"大会名簿!$H$2","v":"令和○年○月○日"},null,null,null,"スタートホール",null,"４－８",null,null,null,"組　名",null,{"$f":"大会名簿!$D$2","v":"Ａ組"},null,"大会開催日",null,{"$f":"大会名簿!$H$2","v":"令和○年○月○日"},null,null,null,"スタートホール",null,"１－８",null,null,null,"組　名",null,{"$f":"大会名簿!$D$2","v":"Ａ組"},null,"大会開催日",null,{"$f":"大会名簿!$H$2","v":"令和○年○月○日"},null,null,null,"スタートホール",null,"２－８",null,null,null,"組　名",null,{"$f":"大会名簿!$D$2","v":"Ａ組"},null,"大会開催日",null,{"$f":"大会名簿!$H$2","v":"令和○年○月○日"},null,null,null,"スタートホール",null,"３－８"]
["選手NO","　　　 ホールポスト\n\n　氏名",null,8,1,2,3,4,5,6,7,"実打数","１打回数","２打回数","合計","確　認\nサイン","選手NO","　　　 ホールポスト\n\n　氏名",null,8,1,2,3,4,5,6,7,"実打数","１打回数","２打回数","合計","確　認\nサイン","選手NO","　　　 ホールポスト\n\n　氏名",null,8,1,2,3,4,5,6,7,"実打数","１打回数","２打回数","合計","確　認\nサイン","選手NO","　　　 ホールポスト\n\n　氏名",null,8,1,2,3,4,5,6,7,"実打数","１打回数","２打回数","合計","確　認\nサイン"]
[1,{"$f":"大会名簿!G253","v":""},null,null,null,null,null,null,null,null,null,null,null,null,null,null,1,{"$f":"B346","v":""},null,null,null,null,null,null,null,null,null,null,null,null,null,null,1,{"$f":"B346","v":""},null,null,null,null,null,null,null,null,null,null,null,null,null,null,1,{"$f":"B346","v":""}]
[2,{"$f":"大会名簿!G254","v":""},null,null,null,null,null,null,null,null,null,null,null,null,null,null,2,{"$f":"B347","v":""},null,null,null,null,null,null,null,null,null,null,null,null,null,null,2,{"$f":"B347","v":""},null,null,null,null,null,null,null,null,null,null,null,null,null,null,2,{"$f":"B347","v":""}]
[3,{"$f":"大会名簿!G255","v":""},null,null,null,null,null,null,null,null,null,null,null,null,null,null,3,"",null,null,null,null,null,null,null,null,null,null,null,null,null,null,3,"",null,null,null,null,null,null,null,null,null,null,null,null,null,null,3,""]
[4,{"$f":"大会名簿!G256","v":""},null,null,null,null,null,null,null,null,null,null,null,null,null,null,4,"",null,null,null,null,null,null,null,null,null,null,null,null,null,null,4,"",null,null,null,null,null,null,null,null,null,null,null,null,null,null,4,""]
[5,{"$f":"大会名簿!G257","v":""},null,null,null,null,null,null,null,null,null,null,null,null,null,null,5,"",null,null,null,null,null,null,null,null,null,null,null,null,null,null,5,"",null,null,null,null,null,null,null,null,null,null,null,null,null,null,5,""]
[6,{"$f":"大会名簿!G258","v":""},null,null,null,null,null,null,null,null,null,null,null,null,null,null,6,"",null,null,null,null,null,null,null,null,null,null,null,null,null,null,6,"",null,null,null,null,null,null,null,null,null,null,null,null,null,null,6,""]
[7,{"$f":"大会名簿!G259","v":""},null,null,null,null,null,null,null,null,null,null,null,null,null,null,7,"",null,null,null,null,null,null,null,null,null,null,null,null,null,null,7,"",null,null,null,null,null,null,null,null,null,null,null,null,null,null,7,""]
[8,{"$f":"大会名簿!G260","v":""},null,null,null,null,null,null,null,null,null,null,null,null,null,null,8,"",null,null,null,null,null,null,null,null,null,null,null,null,null,null,8,"",null,null,null,null,null,null,null,null,null,null,null,null,null,null,8,""]

{"sheet":"成績表","index":4,"n_rows":324,"n_cols":26,"rows_kept":324,"cut":false,"hidden":false,"merged":[[2,10,2,12],[2,13,2,15],[2,16,2,18],[2,19,2,21],[0,0,0,24],[1,0,1,4],[1,10,1,11],[1,12,1,15],[1,18,1,21],[1,23,1,24]]}
[{"$f":"大会名簿!D1","v":"第○○回　○○杯グラウンド・ゴルフ大会"}]
[{"$f":"大会名簿!D2","v":"Ａ組"},null,null,null,null,null,null,null,null,null,"大会日",null,{"$f":"大会名簿!H2","v":"令和○年○月○日"},null,null,null,null,null,null,null,null,null,"平均得点",{"$f":"W3/B3","v":83.666666666666671}]
[null,{"$f":"COUNT(B5:B324)","v":3},null,null,null,null,null,null,null,null,"ＮＯ１",null,null,"ＮＯ２",null,null,"ＮＯ３",null,null,"NO4",null,null,{"$f":"SUM(W5:W324)","v":251}]
["NO","順位","組","番号","チーム名","選手氏名","ふりがな","生年月日","年齢","年齢係数","１打数","２打数","計","１打数","２打数","計","１打数","２打数","計","１打数","２打数","計","得点計","１打数","２打数","順位再計算"]
[1,{"$f":"IF(W5=\"\",\"\",RANK(Z5,$Z$5:$Z$324,1))","v":2},{"$f":"大会名簿!C5","v":"１"},{"$f":"大会名簿!D5","v":"１"},{"$f":"IF(大会名簿!F5=\"\",\"\",大会名簿!F5)","v":"萩"},{"$f":"IF(大会名簿!G5=\"\",\"\",大会名簿!G5)","v":"萩　　四朗"},{"$f":"IF(大会名簿!H5=\"\",\"\",大会名簿!H5)","v":"はぎ　しろう"},{"$f":"IF(大会名簿!J5=\"\",\"\",大会名簿!J5)","v":"1922-05-03"},{"$f":"IF(H5=\"\",\"\",DATEDIF(H5,TODAY(),\"y\"))","v":100},{"$f":"H5","v":8159},1,null,20,null,1,22,null,null,40,null,null,null,{"$f":"IF(SUM(M5,P5,S5,V5)=0,\"\",(SUM(M5,P5,S5,V5)))","v":82},{"$f":"IF(F5=\"\",\"\",(SUM(K5,N5,Q5,T5)))","v":1},{"$f":"IF(F5=\"\",\"\",(SUM(L5,O5,R5,U5)))","v":1},{"$f":"IF(W5=\"\",\"\",(W5-X5*0.1-Y5*0.001+J5*0.00000001))","v":81.899081589999994}]
[2,1,{"$f":"大会名簿!C6","v":"１"},{"$f":"大会名簿!D6","v":"２"},{"$f":"IF(大会名簿!F6=\"\",\"\",大会名簿!F6)","v":"秋芳"},{"$f":"IF(大会名簿!G6=\"\",\"\",大会名簿!G6)","v":"秋芳　花子"},{"$f":"IF(大会名簿!H6=\"\",\"\",大会名簿!H6)","v":"しゅうほう　はなこ"},{"$f":"IF(大会名簿!J6=\"\",\"\",大会名簿!J6)","v":"1947-12-10"},75,17511,null,2,22,1,null,25,null,null,32,null,null,null,79,1,2,78.898175110000011]
[3,3,{"$f":"大会名簿!C7","v":"１"},{"$f":"大会名簿!D7","v":"３"},{"$f":"IF(大会名簿!F7=\"\",\"\",大会名簿!F7)","v":"山口"},{"$f":"IF(大会名簿!G7=\"\",\"\",大会名簿!G7)","v":"山口　五郎"},{"$f":"IF(大会名簿!H7=\"\",\"\",大会名簿!H7)","v":"やまぐち　ごろう"},{"$f":"IF(大会名簿!J7=\"\",\"\",大会名簿!J7)","v":"1948-12-14"},74,17881,null,null,25,null,null,30,null,null,35,null,null,null,90,0,0,90.000178809999994]
[4,"",{"$f":"大会名簿!C8","v":"１"},{"$f":"大会名簿!D8","v":"４"},{"$f":"IF(大会名簿!F8=\"\",\"\",大会名簿!F8)","v":""},{"$f":"IF(大会名簿!G8=\"\",\"\",大会名簿!G8)","v":""},{"$f":"IF(大会名簿!H8=\"\",\"\",大会名簿!H8)","v":""},{"$f":"IF(大会名簿!J8=\"\",\"\",大会名簿!J8)","v":""},"","",null,null,null,null,null,null,null,null,null,null,null,null,"","","",""]
[5,"",{"$f":"大会名簿!C9","v":"１"},{"$f":"大会名簿!D9","v":"５"},{"$f":"IF(大会名簿!F9=\"\",\"\",大会名簿!F9)","v":""},{"$f":"IF(大会名簿!G9=\"\",\"\",大会名簿!G9)","v":""},{"$f":"IF(大会名簿!H9=\"\",\"\",大会名簿!H9)","v":""},{"$f":"IF(大会名簿!J9=\"\",\"\",大会名簿!J9)","v":""},"","",null,null,null,null,null,null,null,null,null,null,null,null,"","","",""]
[6,"",{"$f":"大会名簿!C10","v":"１"},{"$f":"大会名簿!D10","v":"６"},{"$f":"IF(大会名簿!F10=\"\",\"\",大会名簿!F10)","v":""},{"$f":"IF(大会名簿!G10=\"\",\"\",大会名簿!G10)","v":""},{"$f":"IF(大会名簿!H10=\"\",\"\",大会名簿!H10)","v":""},{"$f":"IF(大会名簿!J10=\"\",\"\",大会名簿!J10)","v":""},"","",null,null,null,null,null,null,null,null,null,null,null,null,"","","",""]
[7,"",{"$f":"大会名簿!C11","v":"１"},{"$f":"大会名簿!D11","v":"７"},{"$f":"IF(大会名簿!F11=\"\",\"\",大会名簿!F11)","v":""},{"$f":"IF(大会名簿!G11=\"\",\"\",大会名簿!G11)","v":""},{"$f":"IF(大会名簿!H11=\"\",\"\",大会名簿!H11)","v":""},{"$f":"IF(大会名簿!J11=\"\",\"\",大会名簿!J11)","v":""},"","",null,null,null,null,null,null,null,null,null,null,null,null,"","","",""]
[8,"",{"$f":"大会名簿!C12","v":"１"},{"$f":"大会名簿!D12","v":"８"},{"$f":"IF(大会名簿!F12=\"\",\"\",大会名簿!F12)","v":""},{"$f":"IF(大会名簿!G12=\"\",\"\",大会名簿!G12)","v":""},{"$f":"IF(大会名簿!H12=\"\",\"\",大会名簿!H12)","v":""},{"$f":"IF(大会名簿!J12=\"\",\"\",大会名簿!J12)","v":""},"","",null,null,null,null,null,null,null,null,null,null,null,null,"","","",""]
[9,"",{"$f":"大会名簿!C13","v":"２"},{"$f":"大会名簿!D13","v":"１"},{"$f":"IF(大会名簿!F13=\"\",\"\",大会名簿!F13)","v":""},{"$f":"IF(大会名簿!G13=\"\",\"\",大会名簿!G13)","v":""},{"$f":"IF(大会名簿!H13=\"\",\"\",大会名簿!H13)","v":""},{"$f":"IF(大会名簿!J13=\"\",\"\",大会名簿!J13)","v":""},"","",null,null,null,null,null,null,null,null,null,null,null,null,"","","",""]
[10,"",{"$f":"大会名簿!C14","v":"２"},{"$f":"大会名簿!D14","v":"２"},{"$f":"IF(大会名簿!F14=\"\",\"\",大会名簿!F14)","v":""},{"$f":"IF(大会名簿!G14=\"\",\"\",大会名簿!G14)","v":""},{"$f":"IF(大会名簿!H14=\"\",\"\",大会名簿!H14)","v":""},{"$f":"IF(大会名簿!J14=\"\",\"\",大会名簿!J14)","v":""},"","",null,null,null,null,null,null,null,null,null,null,null,null,"","","",""]
[11,"",{"$f":"大会名簿!C15","v":"２"},{"$f":"大会名簿!D15","v":"３"},{"$f":"IF(大会名簿!F15=\"\",\"\",大会名簿!F15)","v":""},{"$f":"IF(大会名簿!G15=\"\",\"\",大会名簿!G15)","v":""},{"$f":"IF(大会名簿!H15=\"\",\"\",大会名簿!H15)","v":""},{"$f":"IF(大会名簿!J15=\"\",\"\",大会名簿!J15)","v":""},"","",null,null,null,null,null,null,null,null,null,null,null,null,"","","",""]
[12,"",{"$f":"大会名簿!C16","v":"２"},{"$f":"大会名簿!D16","v":"４"},{"$f":"IF(大会名簿!F16=\"\",\"\",大会名簿!F16)","v":""},{"$f":"IF(大会名簿!G16=\"\",\"\",大会名簿!G16)","v":""},{"$f":"IF(大会名簿!H16=\"\",\"\",大会名簿!H16)","v":""},{"$f":"IF(大会名簿!J16=\"\",\"\",大会名簿!J16)","v":""},"","",null,null,null,null,null,null,null,null,null,null,null,null,"","","",""]
[13,"",{"$f":"大会名簿!C17","v":"２"},{"$f":"大会名簿!D17","v":"５"},{"$f":"IF(大会名簿!F17=\"\",\"\",大会名簿!F17)","v":""},{"$f":"IF(大会名簿!G17=\"\",\"\",大会名簿!G17)","v":""},{"$f":"IF(大会名簿!H17=\"\",\"\",大会名簿!H17)","v":""},{"$f":"IF(大会名簿!J17=\"\",\"\",大会名簿!J17)","v":""},"","",null,null,null,null,null,null,null,null,null,null,null,null,"","","",""]
[14,"",{"$f":"大会名簿!C18","v":"２"},{"$f":"大会名簿!D18","v":"６"},{"$f":"IF(大会名簿!F18=\"\",\"\",大会名簿!F18)","v":""},{"$f":"IF(大会名簿!G18=\"\",\"\",大会名簿!G18)","v":""},{"$f":"IF(大会名簿!H18=\"\",\"\",大会名簿!H18)","v":""},{"$f":"IF(大会名簿!J18=\"\",\"\",大会名簿!J18)","v":""},"","",null,null,null,null,null,null,null,null,null,null,null,null,"","","",""]
[15,"",{"$f":"大会名簿!C19","v":"２"},{"$f":"大会名簿!D19","v":"７"},{"$f":"IF(大会名簿!F19=\"\",\"\",大会名簿!F19)","v":""},{"$f":"IF(大会名簿!G19=\"\",\"\",大会名簿!G19)","v":""},{"$f":"IF(大会名簿!H19=\"\",\"\",大会名簿!H19)","v":""},{"$f":"IF(大会名簿!J19=\"\",\"\",大会名簿!J19)","v":""},"","",null,null,null,null,null,null,null,null,null,null,null,null,"","","",""]
[16,"",{"$f":"大会名簿!C20","v":"２"},{"$f":"大会名簿!D20","v":"８"},{"$f":"IF(大会名簿!F20=\"\",\"\",大会名簿!F20)","v":""},{"$f":"IF(大会名簿!G20=\"\",\"\",大会名簿!G20)","v":""},{"$f":"IF(大会名簿!H20=\"\",\"\",大会名簿!H20)","v":""},{"$f":"IF(大会名簿!J20=\"\",\"\",大会名簿!J20)","v":""},"","",null,null,null,null,null,null,null,null,null,null,null,null,"","","",""]
[17,"",{"$f":"大会名簿!C21","v":"３"},{"$f":"大会名簿!D21","v":"１"},{"$f":"IF(大会名簿!F21=\"\",\"\",大会名簿!F21)","v":""},{"$f":"IF(大会名簿!G21=\"\",\"\",大会名簿!G21)","v":""},{"$f":"IF(大会名簿!H21=\"\",\"\",大会名簿!H21)","v":""},{"$f":"IF(大会名簿!J21=\"\",\"\",大会名簿!J21)","v":""},"","",null,null,null,null,null,null,null,null,null,null,null,null,"","","",""]
[18,"",{"$f":"大会名簿!C22","v":"３"},{"$f":"大会名簿!D22","v":"２"},{"$f":"IF(大会名簿!F22=\"\",\"\",大会名簿!F22)","v":""},{"$f":"IF(大会名簿!G22=\"\",\"\",大会名簿!G22)","v":""},{"$f":"IF(大会名簿!H22=\"\",\"\",大会名簿!H22)","v":""},{"$f":"IF(大会名簿!J22=\"\",\"\",大会名簿!J22)","v":""},"","",null,null,null,null,null,null,null,null,null,null,null,null,"","","",""]
[19,"",{"$f":"大会名簿!C23","v":"３"},{"$f":"大会名簿!D23","v":"３"},{"$f":"IF(大会名簿!F23=\"\",\"\",大会名簿!F23)","v":""},{"$f":"IF(大会名簿!G23=\"\",\"\",大会名簿!G23)","v":""},{"$f":"IF(大会名簿!H23=\"\",\"\",大会名簿!H23)","v":""},{"$f":"IF(大会名簿!J23=\"\",\"\",大会名簿!J23)","v":""},"","",null,null,null,null,null,null,null,null,null,null,null,null,"","","",""]
[20,"",{"$f":"大会名簿!C24","v":"３"},{"$f":"大会名簿!D24","v":"４"},{"$f":"IF(大会名簿!F24=\"\",\"\",大会名簿!F24)","v":""},{"$f":"IF(大会名簿!G24=\"\",\"\",大会名簿!G24)","v":""},{"$f":"IF(大会名簿!H24=\"\",\"\",大会名簿!H24)","v":""},{"$f":"IF(大会名簿!J24=\"\",\"\",大会名簿!J24)","v":""},"","",null,null,null,null,null,null,null,null,null,null,null,null,"","","",""]
[21,"",{"$f":"大会名簿!C25","v":"３"},{"$f":"大会名簿!D25","v":"５"},{"$f":"IF(大会名簿!F25=\"\",\"\",大会名簿!F25)","v":""},{"$f":"IF(大会名簿!G25=\"\",\"\",大会名簿!G25)","v":""},{"$f":"IF(大会名簿!H25=\"\",\"\",大会名簿!H25)","v":""},{"$f":"IF(大会名簿!J25=\"\",\"\",大会名簿!J25)","v":""},"","",null,null,null,null,null,null,null,null,null,null,null,null,"","","",""]
[22,"",{"$f":"大会名簿!C26","v":"３"},{"$f":"大会名簿!D26","v":"６"},{"$f":"IF(大会名簿!F26=\"\",\"\",大会名簿!F26)","v":""},{"$f":"IF(大会名簿!G26=\"\",\"\",大会名簿!G26)","v":""},{"$f":"IF(大会名簿!H26=\"\",\"\",大会名簿!H26)","v":""},{"$f":"IF(大会名簿!J26=\"\",\"\",大会名簿!J26)","v":""},"","",null,null,null,null,null,null,null,null,null,null,null,null,"","","",""]
[23,"",{"$f":"大会名簿!C27","v":"３"},{"$f":"大会名簿!D27","v":"７"},{"$f":"IF(大会名簿!F27=\"\",\"\",大会名簿!F27)","v":""},{"$f":"IF(大会名簿!G27=\"\",\"\",大会名簿!G27)","v":""},{"$f":"IF(大会名簿!H27=\"\",\"\",大会名簿!H27)","v":""},{"$f":"IF(大会名簿!J27=\"\",\"\",大会名簿!J27)","v":""},"","",null,null,null,null,null,null,null,null,null,null,null,null,"","","",""]
[24,"",{"$f":"大会名簿!C28","v":"３"},{"$f":"大会名簿!D28","v":"８"},{"$f":"IF(大会名簿!F28=\"\",\"\",大会名簿!F28)","v":""},{"$f":"IF(大会名簿!G28=\"\",\"\",大会名簿!G28)","v":""},{"$f":"IF(大会名簿!H28=\"\",\"\",大会名簿!H28)","v":""},{"$f":"IF(大会名簿!J28=\"\",\"\",大会名簿!J28)","v":""},"","",null,null,null,null,null,null,null,null,null,null,null,null,"","","",""]
[25,"",{"$f":"大会名簿!C29","v":"４"},{"$f":"大会名簿!D29","v":"１"},{"$f":"IF(大会名簿!F29=\"\",\"\",大会名簿!F29)","v":""},{"$f":"IF(大会名簿!G29=\"\",\"\",大会名簿!G29)","v":""},{"$f":"IF(大会名簿!H29=\"\",\"\",大会名簿!H29)","v":""},{"$f":"IF(大会名簿!J29=\"\",\"\",大会名簿!J29)","v":""},"","",null,null,null,null,null,null,null,null,null,null,null,null,"","","",""]
[26,"",{"$f":"大会名簿!C30","v":"４"},{"$f":"大会名簿!D30","v":"２"},{"$f":"IF(大会名簿!F30=\"\",\"\",大会名簿!F30)","v":""},{"$f":"IF(大会名簿!G30=\"\",\"\",大会名簿!G30)","v":""},{"$f":"IF(大会名簿!H30=\"\",\"\",大会名簿!H30)","v":""},{"$f":"IF(大会名簿!J30=\"\",\"\",大会名簿!J30)","v":""},"","",null,null,null,null,null,null,null,null,null,null,null,null,"","","",""]
[27,"",{"$f":"大会名簿!C31","v":"４"},{"$f":"大会名簿!D31","v":"３"},{"$f":"IF(大会名簿!F31=\"\",\"\",大会名簿!F31)","v":""},{"$f":"IF(大会名簿!G31=\"\",\"\",大会名簿!G31)","v":""},{"$f":"IF(大会名簿!H31=\"\",\"\",大会名簿!H31)","v":""},{"$f":"IF(大会名簿!J31=\"\",\"\",大会名簿!J31)","v":""},"","",null,null,null,null,null,null,null,null,null,null,null,null,"","","",""]
[28,"",{"$f":"大会名簿!C32","v":"４"},{"$f":"大会名簿!D32","v":"４"},{"$f":"IF(大会名簿!F32=\"\",\"\",大会名簿!F32)","v":""},{"$f":"IF(大会名簿!G32=\"\",\"\",大会名簿!G32)","v":""},{"$f":"IF(大会名簿!H32=\"\",\"\",大会名簿!H32)","v":""},{"$f":"IF(大会名簿!J32=\"\",\"\",大会名簿!J32)","v":""},"","",null,null,null,null,null,null,null,null,null,null,null,null,"","","",""]
[29,"",{"$f":"大会名簿!C33","v":"４"},{"$f":"大会名簿!D33","v":"５"},{"$f":"IF(大会名簿!F33=\"\",\"\",大会名簿!F33)","v":""},{"$f":"IF(大会名簿!G33=\"\",\"\",大会名簿!G33)","v":""},{"$f":"IF(大会名簿!H33=\"\",\"\",大会名簿!H33)","v":""},{"$f":"IF(大会名簿!J33=\"\",\"\",大会名簿!J33)","v":""},"","",null,null,null,null,null,null,null,null,null,null,null,null,"","","",""]
[30,"",{"$f":"大会名簿!C34","v":"４"},{"$f":"大会名簿!D34","v":"６"},{"$f":"IF(大会名簿!F34=\"\",\"\",大会名簿!F34)","v":""},{"$f":"IF(大会名簿!G34=\"\",\"\",大会名簿!G34)","v":""},{"$f":"IF(大会名簿!H34=\"\",\"\",大会名簿!H34)","v":""},{"$f":"IF(大会名簿!J34=\"\",\"\",大会名簿!J34)","v":""},"","",null,null,null,null,null,null,null,null,null,null,null,null,"","","",""]
[31,"",{"$f":"大会名簿!C35","v":"４"},{"$f":"大会名簿!D35","v":"７"},{"$f":"IF(大会名簿!F35=\"\",\"\",大会名簿!F35)","v":""},{"$f":"IF(大会名簿!G35=\"\",\"\",大会名簿!G35)","v":""},{"$f":"IF(大会名簿!H35=\"\",\"\",大会名簿!H35)","v":""},{"$f":"IF(大会名簿!J35=\"\",\"\",大会名簿!J35)","v":""},"","",null,null,null,null,null,null,null,null,null,null,null,null,"","","",""]
[32,"",{"$f":"大会名簿!C36","v":"４"},{"$f":"大会名簿!D36","v":"８"},{"$f":"IF(大会名簿!F36=\"\",\"\",大会名簿!F36)","v":""},{"$f":"IF(大会名簿!G36=\"\",\"\",大会名簿!G36)","v":""},{"$f":"IF(大会名簿!H36=\"\",\"\",大会名簿!H36)","v":""},{"$f":"IF(大会名簿!J36=\"\",\"\",大会名簿!J36)","v":""},"","",null,null,null,null,null,null,null,null,null,null,null,null,"","","",""]
[33,"",{"$f":"大会名簿!C37","v":"５"},{"$f":"大会名簿!D37","v":"１"},{"$f":"IF(大会名簿!F37=\"\",\"\",大会名簿!F37)","v":""},{"$f":"IF(大会名簿!G37=\"\",\"\",大会名簿!G37)","v":""},{"$f":"IF(大会名簿!H37=\"\",\"\",大会名簿!H37)","v":""},{"$f":"IF(大会名簿!J37=\"\",\"\",大会名簿!J37)","v":""},"","",null,null,null,null,null,null,null,null,null,null,null,null,"","","",""]
[34,"",{"$f":"大会名簿!C38","v":"５"},{"$f":"大会名簿!D38","v":"２"},{"$f":"IF(大会名簿!F38=\"\",\"\",大会名簿!F38)","v":""},{"$f":"IF(大会名簿!G38=\"\",\"\",大会名簿!G38)","v":""},{"$f":"IF(大会名簿!H38=\"\",\"\",大会名簿!H38)","v":""},{"$f":"IF(大会名簿!J38=\"\",\"\",大会名簿!J38)","v":""},"","",null,null,null,null,null,null,null,null,null,null,null,null,"","","",""]
[35,"",{"$f":"大会名簿!C39","v":"５"},{"$f":"大会名簿!D39","v":"３"},{"$f":"IF(大会名簿!F39=\"\",\"\",大会名簿!F39)","v":""},{"$f":"IF(大会名簿!G39=\"\",\"\",大会名簿!G39)","v":""},{"$f":"IF(大会名簿!H39=\"\",\"\",大会名簿!H39)","v":""},{"$f":"IF(大会名簿!J39=\"\",\"\",大会名簿!J39)","v":""},"","",null,null,null,null,null,null,null,null,null,null,null,null,"","","",""]
[36,"",{"$f":"大会名簿!C40","v":"５"},{"$f":"大会名簿!D40","v":"４"},{"$f":"IF(大会名簿!F40=\"\",\"\",大会名簿!F40)","v":""},{"$f":"IF(大会名簿!G40=\"\",\"\",大会名簿!G40)","v":""},{"$f":"IF(大会名簿!H40=\"\",\"\",大会名簿!H40)","v":""},{"$f":"IF(大会名簿!J40=\"\",\"\",大会名簿!J40)","v":""},"","",null,null,null,null,null,null,null,null,null,null,null,null,"","","",""]
[37,"",{"$f":"大会名簿!C41","v":"５"},{"$f":"大会名簿!D41","v":"５"},{"$f":"IF(大会名簿!F41=\"\",\"\",大会名簿!F41)","v":""},{"$f":"IF(大会名簿!G41=\"\",\"\",大会名簿!G41)","v":""},{"$f":"IF(大会名簿!H41=\"\",\"\",大会名簿!H41)","v":""},{"$f":"IF(大会名簿!J41=\"\",\"\",大会名簿!J41)","v":""},"","",null,null,null,null,null,null,null,null,null,null,null,null,"","","",""]
[38,"",{"$f":"大会名簿!C42","v":"５"},{"$f":"大会名簿!D42","v":"６"},{"$f":"IF(大会名簿!F42=\"\",\"\",大会名簿!F42)","v":""},{"$f":"IF(大会名簿!G42=\"\",\"\",大会名簿!G42)","v":""},{"$f":"IF(大会名簿!H42=\"\",\"\",大会名簿!H42)","v":""},{"$f":"IF(大会名簿!J42=\"\",\"\",大会名簿!J42)","v":""},"","",null,null,null,null,null,null,null,null,null,null,null,null,"","","",""]
[39,"",{"$f":"大会名簿!C43","v":"５"},{"$f":"大会名簿!D43","v":"７"},{"$f":"IF(大会名簿!F43=\"\",\"\",大会名簿!F43)","v":""},{"$f":"IF(大会名簿!G43=\"\",\"\",大会名簿!G43)","v":""},{"$f":"IF(大会名簿!H43=\"\",\"\",大会名簿!H43)","v":""},{"$f":"IF(大会名簿!J43=\"\",\"\",大会名簿!J43)","v":""},"","",null,null,null,null,null,null,null,null,null,null,null,null,"","","",""]
[40,"",{"$f":"大会名簿!C44","v":"５"},{"$f":"大会名簿!D44","v":"８"},{"$f":"IF(大会名簿!F44=\"\",\"\",大会名簿!F44)","v":""},{"$f":"IF(大会名簿!G44=\"\",\"\",大会名簿!G44)","v":""},{"$f":"IF(大会名簿!H44=\"\",\"\",大会名簿!H44)","v":""},{"$f":"IF(大会名簿!J44=\"\",\"\",大会名簿!J44)","v":""},"","",null,null,null,null,null,null,null,null,null,null,null,null,"","","",""]
[41,"",{"$f":"大会名簿!C45","v":"６"},{"$f":"大会名簿!D45","v":"１"},{"$f":"IF(大会名簿!F45=\"\",\"\",大会名簿!F45)","v":""},{"$f":"IF(大会名簿!G45=\"\",\"\",大会名簿!G45)","v":""},{"$f":"IF(大会名簿!H45=\"\",\"\",大会名簿!H45)","v":""},{"$f":"IF(大会名簿!J45=\"\",\"\",大会名簿!J45)","v":""},"","",null,null,null,null,null,null,null,null,null,null,null,null,"","","",""]
[42,"",{"$f":"大会名簿!C46","v":"６"},{"$f":"大会名簿!D46","v":"２"},{"$f":"IF(大会名簿!F46=\"\",\"\",大会名簿!F46)","v":""},{"$f":"IF(大会名簿!G46=\"\",\"\",大会名簿!G46)","v":""},{"$f":"IF(大会名簿!H46=\"\",\"\",大会名簿!H46)","v":""},{"$f":"IF(大会名簿!J46=\"\",\"\",大会名簿!J46)","v":""},"","",null,null,null,null,null,null,null,null,null,null,null,null,"","","",""]
[43,"",{"$f":"大会名簿!C47","v":"６"},{"$f":"大会名簿!D47","v":"３"},{"$f":"IF(大会名簿!F47=\"\",\"\",大会名簿!F47)","v":""},{"$f":"IF(大会名簿!G47=\"\",\"\",大会名簿!G47)","v":""},{"$f":"IF(大会名簿!H47=\"\",\"\",大会名簿!H47)","v":""},{"$f":"IF(大会名簿!J47=\"\",\"\",大会名簿!J47)","v":""},"","",null,null,null,null,null,null,null,null,null,null,null,null,"","","",""]
[44,"",{"$f":"大会名簿!C48","v":"６"},{"$f":"大会名簿!D48","v":"４"},{"$f":"IF(大会名簿!F48=\"\",\"\",大会名簿!F48)","v":""},{"$f":"IF(大会名簿!G48=\"\",\"\",大会名簿!G48)","v":""},{"$f":"IF(大会名簿!H48=\"\",\"\",大会名簿!H48)","v":""},{"$f":"IF(大会名簿!J48=\"\",\"\",大会名簿!J48)","v":""},"","",null,null,null,null,null,null,null,null,null,null,null,null,"","","",""]
[45,"",{"$f":"大会名簿!C49","v":"６"},{"$f":"大会名簿!D49","v":"５"},{"$f":"IF(大会名簿!F49=\"\",\"\",大会名簿!F49)","v":""},{"$f":"IF(大会名簿!G49=\"\",\"\",大会名簿!G49)","v":""},{"$f":"IF(大会名簿!H49=\"\",\"\",大会名簿!H49)","v":""},{"$f":"IF(大会名簿!J49=\"\",\"\",大会名簿!J49)","v":""},"","",null,null,null,null,null,null,null,null,null,null,null,null,"","","",""]
[46,"",{"$f":"大会名簿!C50","v":"６"},{"$f":"大会名簿!D50","v":"６"},{"$f":"IF(大会名簿!F50=\"\",\"\",大会名簿!F50)","v":""},{"$f":"IF(大会名簿!G50=\"\",\"\",大会名簿!G50)","v":""},{"$f":"IF(大会名簿!H50=\"\",\"\",大会名簿!H50)","v":""},{"$f":"IF(大会名簿!J50=\"\",\"\",大会名簿!J50)","v":""},"","",null,null,null,null,null,null,null,null,null,null,null,null,"","","",""]
[47,"",{"$f":"大会名簿!C51","v":"６"},{"$f":"大会名簿!D51","v":"７"},{"$f":"IF(大会名簿!F51=\"\",\"\",大会名簿!F51)","v":""},{"$f":"IF(大会名簿!G51=\"\",\"\",大会名簿!G51)","v":""},{"$f":"IF(大会名簿!H51=\"\",\"\",大会名簿!H51)","v":""},{"$f":"IF(大会名簿!J51=\"\",\"\",大会名簿!J51)","v":""},"","",null,null,null,null,null,null,null,null,null,null,null,null,"","","",""]
[48,"",{"$f":"大会名簿!C52","v":"６"},{"$f":"大会名簿!D52","v":"８"},{"$f":"IF(大会名簿!F52=\"\",\"\",大会名簿!F52)","v":""},{"$f":"IF(大会名簿!G52=\"\",\"\",大会名簿!G52)","v":""},{"$f":"IF(大会名簿!H52=\"\",\"\",大会名簿!H52)","v":""},{"$f":"IF(大会名簿!J52=\"\",\"\",大会名簿!J52)","v":""},"","",null,null,null,null,null,null,null,null,null,null,null,null,"","","",""]
[49,"",{"$f":"大会名簿!C53","v":"７"},{"$f":"大会名簿!D53","v":"１"},{"$f":"IF(大会名簿!F53=\"\",\"\",大会名簿!F53)","v":""},{"$f":"IF(大会名簿!G53=\"\",\"\",大会名簿!G53)","v":""},{"$f":"IF(大会名簿!H53=\"\",\"\",大会名簿!H53)","v":""},{"$f":"IF(大会名簿!J53=\"\",\"\",大会名簿!J53)","v":""},"","",null,null,null,null,null,null,null,null,null,null,null,null,"","","",""]
[50,"",{"$f":"大会名簿!C54","v":"７"},{"$f":"大会名簿!D54","v":"２"},{"$f":"IF(大会名簿!F54=\"\",\"\",大会名簿!F54)","v":""},{"$f":"IF(大会名簿!G54=\"\",\"\",大会名簿!G54)","v":""},{"$f":"IF(大会名簿!H54=\"\",\"\",大会名簿!H54)","v":""},{"$f":"IF(大会名簿!J54=\"\",\"\",大会名簿!J54)","v":""},"","",null,null,null,null,null,null,null,null,null,null,null,null,"","","",""]
[51,"",{"$f":"大会名簿!C55","v":"７"},{"$f":"大会名簿!D55","v":"３"},{"$f":"IF(大会名簿!F55=\"\",\"\",大会名簿!F55)","v":""},{"$f":"IF(大会名簿!G55=\"\",\"\",大会名簿!G55)","v":""},{"$f":"IF(大会名簿!H55=\"\",\"\",大会名簿!H55)","v":""},{"$f":"IF(大会名簿!J55=\"\",\"\",大会名簿!J55)","v":""},"","",null,null,null,null,null,null,null,null,null,null,null,null,"","","",""]
[52,"",{"$f":"大会名簿!C56","v":"７"},{"$f":"大会名簿!D56","v":"４"},{"$f":"IF(大会名簿!F56=\"\",\"\",大会名簿!F56)","v":""},{"$f":"IF(大会名簿!G56=\"\",\"\",大会名簿!G56)","v":""},{"$f":"IF(大会名簿!H56=\"\",\"\",大会名簿!H56)","v":""},{"$f":"IF(大会名簿!J56=\"\",\"\",大会名簿!J56)","v":""},"","",null,null,null,null,null,null,null,null,null,null,null,null,"","","",""]
[53,"",{"$f":"大会名簿!C57","v":"７"},{"$f":"大会名簿!D57","v":"５"},{"$f":"IF(大会名簿!F57=\"\",\"\",大会名簿!F57)","v":""},{"$f":"IF(大会名簿!G57=\"\",\"\",大会名簿!G57)","v":""},{"$f":"IF(大会名簿!H57=\"\",\"\",大会名簿!H57)","v":""},{"$f":"IF(大会名簿!J57=\"\",\"\",大会名簿!J57)","v":""},"","",null,null,null,null,null,null,null,null,null,null,null,null,"","","",""]
[54,"",{"$f":"大会名簿!C58","v":"７"},{"$f":"大会名簿!D58","v":"６"},{"$f":"IF(大会名簿!F58=\"\",\"\",大会名簿!F58)","v":""},{"$f":"IF(大会名簿!G58=\"\",\"\",大会名簿!G58)","v":""},{"$f":"IF(大会名簿!H58=\"\",\"\",大会名簿!H58)","v":""},{"$f":"IF(大会名簿!J58=\"\",\"\",大会名簿!J58)","v":""},"","",null,null,null,null,null,null,null,null,null,null,null,null,"","","",""]
[55,"",{"$f":"大会名簿!C59","v":"７"},{"$f":"大会名簿!D59","v":"７"},{"$f":"IF(大会名簿!F59=\"\",\"\",大会名簿!F59)","v":""},{"$f":"IF(大会名簿!G59=\"\",\"\",大会名簿!G59)","v":""},{"$f":"IF(大会名簿!H59=\"\",\"\",大会名簿!H59)","v":""},{"$f":"IF(大会名簿!J59=\"\",\"\",大会名簿!J59)","v":""},"","",null,null,null,null,null,null,null,null,null,null,null,null,"","","",""]
[56,"",{"$f":"大会名簿!C60","v":"７"},{"$f":"大会名簿!D60","v":"８"},{"$f":"IF(大会名簿!F60=\"\",\"\",大会名簿!F60)","v":""},{"$f":"IF(大会名簿!G60=\"\",\"\",大会名簿!G60)","v":""},{"$f":"IF(大会名簿!H60=\"\",\"\",大会名簿!H60)","v":""},{"$f":"IF(大会名簿!J60=\"\",\"\",大会名簿!J60)","v":""},"","",null,null,null,null,null,null,null,null,null,null,null,null,"","","",""]
[57,"",{"$f":"大会名簿!C61","v":"８"},{"$f":"大会名簿!D61","v":"１"},{"$f":"IF(大会名簿!F61=\"\",\"\",大会名簿!F61)","v":""},{"$f":"IF(大会名簿!G61=\"\",\"\",大会名簿!G61)","v":""},{"$f":"IF(大会名簿!H61=\"\",\"\",大会名簿!H61)","v":""},{"$f":"IF(大会名簿!J61=\"\",\"\",大会名簿!J61)","v":""},"","",null,null,null,null,null,null,null,null,null,null,null,null,"","","",""]
[58,"",{"$f":"大会名簿!C62","v":"８"},{"$f":"大会名簿!D62","v":"２"},{"$f":"IF(大会名簿!F62=\"\",\"\",大会名簿!F62)","v":""},{"$f":"IF(大会名簿!G62=\"\",\"\",大会名簿!G62)","v":""},{"$f":"IF(大会名簿!H62=\"\",\"\",大会名簿!H62)","v":""},{"$f":"IF(大会名簿!J62=\"\",\"\",大会名簿!J62)","v":""},"","",null,null,null,null,null,null,null,null,null,null,null,null,"","","",""]
[59,"",{"$f":"大会名簿!C63","v":"８"},{"$f":"大会名簿!D63","v":"３"},{"$f":"IF(大会名簿!F63=\"\",\"\",大会名簿!F63)","v":""},{"$f":"IF(大会名簿!G63=\"\",\"\",大会名簿!G63)","v":""},{"$f":"IF(大会名簿!H63=\"\",\"\",大会名簿!H63)","v":""},{"$f":"IF(大会名簿!J63=\"\",\"\",大会名簿!J63)","v":""},"","",null,null,null,null,null,null,null,null,null,null,null,null,"","","",""]
[60,"",{"$f":"大会名簿!C64","v":"８"},{"$f":"大会名簿!D64","v":"４"},{"$f":"IF(大会名簿!F64=\"\",\"\",大会名簿!F64)","v":""},{"$f":"IF(大会名簿!G64=\"\",\"\",大会名簿!G64)","v":""},{"$f":"IF(大会名簿!H64=\"\",\"\",大会名簿!H64)","v":""},{"$f":"IF(大会名簿!J64=\"\",\"\",大会名簿!J64)","v":""},"","",null,null,null,null,null,null,null,null,null,null,null,null,"","","",""]
[61,"",{"$f":"大会名簿!C65","v":"８"},{"$f":"大会名簿!D65","v":"５"},{"$f":"IF(大会名簿!F65=\"\",\"\",大会名簿!F65)","v":""},{"$f":"IF(大会名簿!G65=\"\",\"\",大会名簿!G65)","v":""},{"$f":"IF(大会名簿!H65=\"\",\"\",大会名簿!H65)","v":""},{"$f":"IF(大会名簿!J65=\"\",\"\",大会名簿!J65)","v":""},"","",null,null,null,null,null,null,null,null,null,null,null,null,"","","",""]
[62,"",{"$f":"大会名簿!C66","v":"８"},{"$f":"大会名簿!D66","v":"６"},{"$f":"IF(大会名簿!F66=\"\",\"\",大会名簿!F66)","v":""},{"$f":"IF(大会名簿!G66=\"\",\"\",大会名簿!G66)","v":""},{"$f":"IF(大会名簿!H66=\"\",\"\",大会名簿!H66)","v":""},{"$f":"IF(大会名簿!J66=\"\",\"\",大会名簿!J66)","v":""},"","",null,null,null,null,null,null,null,null,null,null,null,null,"","","",""]
[63,"",{"$f":"大会名簿!C67","v":"８"},{"$f":"大会名簿!D67","v":"７"},{"$f":"IF(大会名簿!F67=\"\",\"\",大会名簿!F67)","v":""},{"$f":"IF(大会名簿!G67=\"\",\"\",大会名簿!G67)","v":""},{"$f":"IF(大会名簿!H67=\"\",\"\",大会名簿!H67)","v":""},{"$f":"IF(大会名簿!J67=\"\",\"\",大会名簿!J67)","v":""},"","",null,null,null,null,null,null,null,null,null,null,null,null,"","","",""]
[64,"",{"$f":"大会名簿!C68","v":"８"},{"$f":"大会名簿!D68","v":"８"},{"$f":"IF(大会名簿!F68=\"\",\"\",大会名簿!F68)","v":""},{"$f":"IF(大会名簿!G68=\"\",\"\",大会名簿!G68)","v":""},{"$f":"IF(大会名簿!H68=\"\",\"\",大会名簿!H68)","v":""},{"$f":"IF(大会名簿!J68=\"\",\"\",大会名簿!J68)","v":""},"","",null,null,null,null,null,null,null,null,null,null,null,null,"","","",""]
[65,{"$f":"IF(W69=\"\",\"\",RANK(Z69,$Z$5:$Z$324,1))","v":""},{"$f":"大会名簿!C69","v":"９"},{"$f":"大会名簿!D69","v":"１"},{"$f":"IF(大会名簿!F69=\"\",\"\",大会名簿!F69)","v":""},{"$f":"IF(大会名簿!G69=\"\",\"\",大会名簿!G69)","v":""},{"$f":"IF(大会名簿!H69=\"\",\"\",大会名簿!H69)","v":""},{"$f":"IF(大会名簿!J69=\"\",\"\",大会名簿!J69)","v":""},{"$f":"IF(H69=\"\",\"\",DATEDIF(H69,TODAY(),\"y\"))","v":""},{"$f":"H69","v":""},null,null,null,null,null,null,null,null,null,null,null,null,{"$f":"IF(SUM(M69,P69,S69,V69)=0,\"\",(SUM(M69,P69,S69,V69)))","v":""},{"$f":"IF(F69=\"\",\"\",(SUM(K69,N69,Q69,T69)))","v":""},{"$f":"IF(F69=\"\",\"\",(SUM(L69,O69,R69,U69)))","v":""},{"$f":"IF(W69=\"\",\"\",(W69-X69*0.1-Y69*0.001+J69*0.00000001))","v":""}]
[66,"",{"$f":"大会名簿!C70","v":"９"},{"$f":"大会名簿!D70","v":"２"},{"$f":"IF(大会名簿!F70=\"\",\"\",大会名簿!F70)","v":""},{"$f":"IF(大会名簿!G70=\"\",\"\",大会名簿!G70)","v":""},{"$f":"IF(大会名簿!H70=\"\",\"\",大会名簿!H70)","v":""},{"$f":"IF(大会名簿!J70=\"\",\"\",大会名簿!J70)","v":""},"","",null,null,null,null,null,null,null,null,null,null,null,null,"","","",""]
[67,"",{"$f":"大会名簿!C71","v":"９"},{"$f":"大会名簿!D71","v":"３"},{"$f":"IF(大会名簿!F71=\"\",\"\",大会名簿!F71)","v":""},{"$f":"IF(大会名簿!G71=\"\",\"\",大会名簿!G71)","v":""},{"$f":"IF(大会名簿!H71=\"\",\"\",大会名簿!H71)","v":""},{"$f":"IF(大会名簿!J71=\"\",\"\",大会名簿!J71)","v":""},"","",null,null,null,null,null,null,null,null,null,null,null,null,"","","",""]
[68,"",{"$f":"大会名簿!C72","v":"９"},{"$f":"大会名簿!D72","v":"４"},{"$f":"IF(大会名簿!F72=\"\",\"\",大会名簿!F72)","v":""},{"$f":"IF(大会名簿!G72=\"\",\"\",大会名簿!G72)","v":""},{"$f":"IF(大会名簿!H72=\"\",\"\",大会名簿!H72)","v":""},{"$f":"IF(大会名簿!J72=\"\",\"\",大会名簿!J72)","v":""},"","",null,null,null,null,null,null,null,null,null,null,null,null,"","","",""]
[69,"",{"$f":"大会名簿!C73","v":"９"},{"$f":"大会名簿!D73","v":"５"},{"$f":"IF(大会名簿!F73=\"\",\"\",大会名簿!F73)","v":""},{"$f":"IF(大会名簿!G73=\"\",\"\",大会名簿!G73)","v":""},{"$f":"IF(大会名簿!H73=\"\",\"\",大会名簿!H73)","v":""},{"$f":"IF(大会名簿!J73=\"\",\"\",大会名簿!J73)","v":""},"","",null,null,null,null,null,null,null,null,null,null,null,null,"","","",""]
[70,"",{"$f":"大会名簿!C74","v":"９"},{"$f":"大会名簿!D74","v":"６"},{"$f":"IF(大会名簿!F74=\"\",\"\",大会名簿!F74)","v":""},{"$f":"IF(大会名簿!G74=\"\",\"\",大会名簿!G74)","v":""},{"$f":"IF(大会名簿!H74=\"\",\"\",大会名簿!H74)","v":""},{"$f":"IF(大会名簿!J74=\"\",\"\",大会名簿!J74)","v":""},"","",null,null,null,null,null,null,null,null,null,null,null,null,"","","",""]
[71,"",{"$f":"大会名簿!C75","v":"９"},{"$f":"大会名簿!D75","v":"７"},{"$f":"IF(大会名簿!F75=\"\",\"\",大会名簿!F75)","v":""},{"$f":"IF(大会名簿!G75=\"\",\"\",大会名簿!G75)","v":""},{"$f":"IF(大会名簿!H75=\"\",\"\",大会名簿!H75)","v":""},{"$f":"IF(大会名簿!J75=\"\",\"\",大会名簿!J75)","v":""},"","",null,null,null,null,null,null,null,null,null,null,null,null,"","","",""]
[72,"",{"$f":"大会名簿!C76","v":"９"},{"$f":"大会名簿!D76","v":"８"},{"$f":"IF(大会名簿!F76=\"\",\"\",大会名簿!F76)","v":""},{"$f":"IF(大会名簿!G76=\"\",\"\",大会名簿!G76)","v":""},{"$f":"IF(大会名簿!H76=\"\",\"\",大会名簿!H76)","v":""},{"$f":"IF(大会名簿!J76=\"\",\"\",大会名簿!J76)","v":""},"","",null,null,null,null,null,null,null,null,null,null,null,null,"","","",""]
[73,"",{"$f":"大会名簿!C77","v":10},{"$f":"大会名簿!D77","v":"１"},{"$f":"IF(大会名簿!F77=\"\",\"\",大会名簿!F77)","v":""},{"$f":"IF(大会名簿!G77=\"\",\"\",大会名簿!G77)","v":""},{"$f":"IF(大会名簿!H77=\"\",\"\",大会名簿!H77)","v":""},{"$f":"IF(大会名簿!J77=\"\",\"\",大会名簿!J77)","v":""},"","",null,null,null,null,null,null,null,null,null,null,null,null,"","","",""]
[74,"",{"$f":"大会名簿!C78","v":10},{"$f":"大会名簿!D78","v":"２"},{"$f":"IF(大会名簿!F78=\"\",\"\",大会名簿!F78)","v":""},{"$f":"IF(大会名簿!G78=\"\",\"\",大会名簿!G78)","v":""},{"$f":"IF(大会名簿!H78=\"\",\"\",大会名簿!H78)","v":""},{"$f":"IF(大会名簿!J78=\"\",\"\",大会名簿!J78)","v":""},"","",null,null,null,null,null,null,null,null,null,null,null,null,"","","",""]
[75,"",{"$f":"大会名簿!C79","v":10},{"$f":"大会名簿!D79","v":"３"},{"$f":"IF(大会名簿!F79=\"\",\"\",大会名簿!F79)","v":""},{"$f":"IF(大会名簿!G79=\"\",\"\",大会名簿!G79)","v":""},{"$f":"IF(大会名簿!H79=\"\",\"\",大会名簿!H79)","v":""},{"$f":"IF(大会名簿!J79=\"\",\"\",大会名簿!J79)","v":""},"","",null,null,null,null,null,null,null,null,null,null,null,null,"","","",""]
[76,"",{"$f":"大会名簿!C80","v":10},{"$f":"大会名簿!D80","v":"４"},{"$f":"IF(大会名簿!F80=\"\",\"\",大会名簿!F80)","v":""},{"$f":"IF(大会名簿!G80=\"\",\"\",大会名簿!G80)","v":""},{"$f":"IF(大会名簿!H80=\"\",\"\",大会名簿!H80)","v":""},{"$f":"IF(大会名簿!J80=\"\",\"\",大会名簿!J80)","v":""},"","",null,null,null,null,null,null,null,null,null,null,null,null,"","","",""]
[77,"",{"$f":"大会名簿!C81","v":10},{"$f":"大会名簿!D81","v":"５"},{"$f":"IF(大会名簿!F81=\"\",\"\",大会名簿!F81)","v":""},{"$f":"IF(大会名簿!G81=\"\",\"\",大会名簿!G81)","v":""},{"$f":"IF(大会名簿!H81=\"\",\"\",大会名簿!H81)","v":""},{"$f":"IF(大会名簿!J81=\"\",\"\",大会名簿!J81)","v":""},"","",null,null,null,null,null,null,null,null,null,null,null,null,"","","",""]
[78,"",{"$f":"大会名簿!C82","v":10},{"$f":"大会名簿!D82","v":"６"},{"$f":"IF(大会名簿!F82=\"\",\"\",大会名簿!F82)","v":""},{"$f":"IF(大会名簿!G82=\"\",\"\",大会名簿!G82)","v":""},{"$f":"IF(大会名簿!H82=\"\",\"\",大会名簿!H82)","v":""},{"$f":"IF(大会名簿!J82=\"\",\"\",大会名簿!J82)","v":""},"","",null,null,null,null,null,null,null,null,null,null,null,null,"","","",""]
[79,"",{"$f":"大会名簿!C83","v":10},{"$f":"大会名簿!D83","v":"７"},{"$f":"IF(大会名簿!F83=\"\",\"\",大会名簿!F83)","v":""},{"$f":"IF(大会名簿!G83=\"\",\"\",大会名簿!G83)","v":""},{"$f":"IF(大会名簿!H83=\"\",\"\",大会名簿!H83)","v":""},{"$f":"IF(大会名簿!J83=\"\",\"\",大会名簿!J83)","v":""},"","",null,null,null,null,null,null,null,null,null,null,null,null,"","","",""]
[80,"",{"$f":"大会名簿!C84","v":10},{"$f":"大会名簿!D84","v":"８"},{"$f":"IF(大会名簿!F84=\"\",\"\",大会名簿!F84)","v":""},{"$f":"IF(大会名簿!G84=\"\",\"\",大会名簿!G84)","v":""},{"$f":"IF(大会名簿!H84=\"\",\"\",大会名簿!H84)","v":""},{"$f":"IF(大会名簿!J84=\"\",\"\",大会名簿!J84)","v":""},"","",null,null,null,null,null,null,null,null,null,null,null,null,"","","",""]
[81,"",{"$f":"大会名簿!C85","v":11},{"$f":"大会名簿!D85","v":"１"},{"$f":"IF(大会名簿!F85=\"\",\"\",大会名簿!F85)","v":""},{"$f":"IF(大会名簿!G85=\"\",\"\",大会名簿!G85)","v":""},{"$f":"IF(大会名簿!H85=\"\",\"\",大会名簿!H85)","v":""},{"$f":"IF(大会名簿!J85=\"\",\"\",大会名簿!J85)","v":""},"","",null,null,null,null,null,null,null,null,null,null,null,null,"","","",""]
[82,"",{"$f":"大会名簿!C86","v":11},{"$f":"大会名簿!D86","v":"２"},{"$f":"IF(大会名簿!F86=\"\",\"\",大会名簿!F86)","v":""},{"$f":"IF(大会名簿!G86=\"\",\"\",大会名簿!G86)","v":""},{"$f":"IF(大会名簿!H86=\"\",\"\",大会名簿!H86)","v":""},{"$f":"IF(大会名簿!J86=\"\",\"\",大会名簿!J86)","v":""},"","",null,null,null,null,null,null,null,null,null,null,null,null,"","","",""]
[83,"",{"$f":"大会名簿!C87","v":11},{"$f":"大会名簿!D87","v":"３"},{"$f":"IF(大会名簿!F87=\"\",\"\",大会名簿!F87)","v":""},{"$f":"IF(大会名簿!G87=\"\",\"\",大会名簿!G87)","v":""},{"$f":"IF(大会名簿!H87=\"\",\"\",大会名簿!H87)","v":""},{"$f":"IF(大会名簿!J87=\"\",\"\",大会名簿!J87)","v":""},"","",null,null,null,null,null,null,null,null,null,null,null,null,"","","",""]
[84,"",{"$f":"大会名簿!C88","v":11},{"$f":"大会名簿!D88","v":"４"},{"$f":"IF(大会名簿!F88=\"\",\"\",大会名簿!F88)","v":""},{"$f":"IF(大会名簿!G88=\"\",\"\",大会名簿!G88)","v":""},{"$f":"IF(大会名簿!H88=\"\",\"\",大会名簿!H88)","v":""},{"$f":"IF(大会名簿!J88=\"\",\"\",大会名簿!J88)","v":""},"","",null,null,null,null,null,null,null,null,null,null,null,null,"","","",""]
[85,"",{"$f":"大会名簿!C89","v":11},{"$f":"大会名簿!D89","v":"５"},{"$f":"IF(大会名簿!F89=\"\",\"\",大会名簿!F89)","v":""},{"$f":"IF(大会名簿!G89=\"\",\"\",大会名簿!G89)","v":""},{"$f":"IF(大会名簿!H89=\"\",\"\",大会名簿!H89)","v":""},{"$f":"IF(大会名簿!J89=\"\",\"\",大会名簿!J89)","v":""},"","",null,null,null,null,null,null,null,null,null,null,null,null,"","","",""]
[86,"",{"$f":"大会名簿!C90","v":11},{"$f":"大会名簿!D90","v":"６"},{"$f":"IF(大会名簿!F90=\"\",\"\",大会名簿!F90)","v":""},{"$f":"IF(大会名簿!G90=\"\",\"\",大会名簿!G90)","v":""},{"$f":"IF(大会名簿!H90=\"\",\"\",大会名簿!H90)","v":""},{"$f":"IF(大会名簿!J90=\"\",\"\",大会名簿!J90)","v":""},"","",null,null,null,null,null,null,null,null,null,null,null,null,"","","",""]
[87,"",{"$f":"大会名簿!C91","v":11},{"$f":"大会名簿!D91","v":"７"},{"$f":"IF(大会名簿!F91=\"\",\"\",大会名簿!F91)","v":""},{"$f":"IF(大会名簿!G91=\"\",\"\",大会名簿!G91)","v":""},{"$f":"IF(大会名簿!H91=\"\",\"\",大会名簿!H91)","v":""},{"$f":"IF(大会名簿!J91=\"\",\"\",大会名簿!J91)","v":""},"","",null,null,null,null,null,null,null,null,null,null,null,null,"","","",""]
[88,"",{"$f":"大会名簿!C92","v":11},{"$f":"大会名簿!D92","v":"８"},{"$f":"IF(大会名簿!F92=\"\",\"\",大会名簿!F92)","v":""},{"$f":"IF(大会名簿!G92=\"\",\"\",大会名簿!G92)","v":""},{"$f":"IF(大会名簿!H92=\"\",\"\",大会名簿!H92)","v":""},{"$f":"IF(大会名簿!J92=\"\",\"\",大会名簿!J92)","v":""},"","",null,null,null,null,null,null,null,null,null,null,null,null,"","","",""]
[89,"",{"$f":"大会名簿!C93","v":12},{"$f":"大会名簿!D93","v":"１"},{"$f":"IF(大会名簿!F93=\"\",\"\",大会名簿!F93)","v":""},{"$f":"IF(大会名簿!G93=\"\",\"\",大会名簿!G93)","v":""},{"$f":"IF(大会名簿!H93=\"\",\"\",大会名簿!H93)","v":""},{"$f":"IF(大会名簿!J93=\"\",\"\",大会名簿!J93)","v":""},"","",null,null,null,null,null,null,null,null,null,null,null,null,"","","",""]
[90,"",{"$f":"大会名簿!C94","v":12},{"$f":"大会名簿!D94","v":"２"},{"$f":"IF(大会名簿!F94=\"\",\"\",大会名簿!F94)","v":""},{"$f":"IF(大会名簿!G94=\"\",\"\",大会名簿!G94)","v":""},{"$f":"IF(大会名簿!H94=\"\",\"\",大会名簿!H94)","v":""},{"$f":"IF(大会名簿!J94=\"\",\"\",大会名簿!J94)","v":""},"","",null,null,null,null,null,null,null,null,null,null,null,null,"","","",""]
[91,"",{"$f":"大会名簿!C95","v":12},{"$f":"大会名簿!D95","v":"３"},{"$f":"IF(大会名簿!F95=\"\",\"\",大会名簿!F95)","v":""},{"$f":"IF(大会名簿!G95=\"\",\"\",大会名簿!G95)","v":""},{"$f":"IF(大会名簿!H95=\"\",\"\",大会名簿!H95)","v":""},{"$f":"IF(大会名簿!J95=\"\",\"\",大会名簿!J95)","v":""},"","",null,null,null,null,null,null,null,null,null,null,null,null,"","","",""]
[92,"",{"$f":"大会名簿!C96","v":12},{"$f":"大会名簿!D96","v":"４"},{"$f":"IF(大会名簿!F96=\"\",\"\",大会名簿!F96)","v":""},{"$f":"IF(大会名簿!G96=\"\",\"\",大会名簿!G96)","v":""},{"$f":"IF(大会名簿!H96=\"\",\"\",大会名簿!H96)","v":""},{"$f":"IF(大会名簿!J96=\"\",\"\",大会名簿!J96)","v":""},"","",null,null,null,null,null,null,null,null,null,null,null,null,"","","",""]
[93,"",{"$f":"大会名簿!C97","v":12},{"$f":"大会名簿!D97","v":"５"},{"$f":"IF(大会名簿!F97=\"\",\"\",大会名簿!F97)","v":""},{"$f":"IF(大会名簿!G97=\"\",\"\",大会名簿!G97)","v":""},{"$f":"IF(大会名簿!H97=\"\",\"\",大会名簿!H97)","v":""},{"$f":"IF(大会名簿!J97=\"\",\"\",大会名簿!J97)","v":""},"","",null,null,null,null,null,null,null,null,null,null,null,null,"","","",""]
[94,"",{"$f":"大会名簿!C98","v":12},{"$f":"大会名簿!D98","v":"６"},{"$f":"IF(大会名簿!F98=\"\",\"\",大会名簿!F98)","v":""},{"$f":"IF(大会名簿!G98=\"\",\"\",大会名簿!G98)","v":""},{"$f":"IF(大会名簿!H98=\"\",\"\",大会名簿!H98)","v":""},{"$f":"IF(大会名簿!J98=\"\",\"\",大会名簿!J98)","v":""},"","",null,null,null,null,null,null,null,null,null,null,null,null,"","","",""]
[95,"",{"$f":"大会名簿!C99","v":12},{"$f":"大会名簿!D99","v":"７"},{"$f":"IF(大会名簿!F99=\"\",\"\",大会名簿!F99)","v":""},{"$f":"IF(大会名簿!G99=\"\",\"\",大会名簿!G99)","v":""},{"$f":"IF(大会名簿!H99=\"\",\"\",大会名簿!H99)","v":""},{"$f":"IF(大会名簿!J99=\"\",\"\",大会名簿!J99)","v":""},"","",null,null,null,null,null,null,null,null,null,null,null,null,"","","",""]
[96,"",{"$f":"大会名簿!C100","v":12},{"$f":"大会名簿!D100","v":"８"},{"$f":"IF(大会名簿!F100=\"\",\"\",大会名簿!F100)","v":""},{"$f":"IF(大会名簿!G100=\"\",\"\",大会名簿!G100)","v":""},{"$f":"IF(大会名簿!H100=\"\",\"\",大会名簿!H100)","v":""},{"$f":"IF(大会名簿!J100=\"\",\"\",大会名簿!J100)","v":""},"","",null,null,null,null,null,null,null,null,null,null,null,null,"","","",""]
[97,"",{"$f":"大会名簿!C101","v":13},{"$f":"大会名簿!D101","v":"１"},{"$f":"IF(大会名簿!F101=\"\",\"\",大会名簿!F101)","v":""},{"$f":"IF(大会名簿!G101=\"\",\"\",大会名簿!G101)","v":""},{"$f":"IF(大会名簿!H101=\"\",\"\",大会名簿!H101)","v":""},{"$f":"IF(大会名簿!J101=\"\",\"\",大会名簿!J101)","v":""},"","",null,null,null,null,null,null,null,null,null,null,null,null,"","","",""]
[98,"",{"$f":"大会名簿!C102","v":13},{"$f":"大会名簿!D102","v":"２"},{"$f":"IF(大会名簿!F102=\"\",\"\",大会名簿!F102)","v":""},{"$f":"IF(大会名簿!G102=\"\",\"\",大会名簿!G102)","v":""},{"$f":"IF(大会名簿!H102=\"\",\"\",大会名簿!H102)","v":""},{"$f":"IF(大会名簿!J102=\"\",\"\",大会名簿!J102)","v":""},"","",null,null,null,null,null,null,null,null,null,null,null,null,"","","",""]
[99,"",{"$f":"大会名簿!C103","v":13},{"$f":"大会名簿!D103","v":"３"},{"$f":"IF(大会名簿!F103=\"\",\"\",大会名簿!F103)","v":""},{"$f":"IF(大会名簿!G103=\"\",\"\",大会名簿!G103)","v":""},{"$f":"IF(大会名簿!H103=\"\",\"\",大会名簿!H103)","v":""},{"$f":"IF(大会名簿!J103=\"\",\"\",大会名簿!J103)","v":""},"","",null,null,null,null,null,null,null,null,null,null,null,null,"","","",""]
[100,"",{"$f":"大会名簿!C104","v":13},{"$f":"大会名簿!D104","v":"４"},{"$f":"IF(大会名簿!F104=\"\",\"\",大会名簿!F104)","v":""},{"$f":"IF(大会名簿!G104=\"\",\"\",大会名簿!G104)","v":""},{"$f":"IF(大会名簿!H104=\"\",\"\",大会名簿!H104)","v":""},{"$f":"IF(大会名簿!J104=\"\",\"\",大会名簿!J104)","v":""},"","",null,null,null,null,null,null,null,null,null,null,null,null,"","","",""]
[101,"",{"$f":"大会名簿!C105","v":13},{"$f":"大会名簿!D105","v":"５"},{"$f":"IF(大会名簿!F105=\"\",\"\",大会名簿!F105)","v":""},{"$f":"IF(大会名簿!G105=\"\",\"\",大会名簿!G105)","v":""},{"$f":"IF(大会名簿!H105=\"\",\"\",大会名簿!H105)","v":""},{"$f":"IF(大会名簿!J105=\"\",\"\",大会名簿!J105)","v":""},"","",null,null,null,null,null,null,null,null,null,null,null,null,"","","",""]
[102,"",{"$f":"大会名簿!C106","v":13},{"$f":"大会名簿!D106","v":"６"},{"$f":"IF(大会名簿!F106=\"\",\"\",大会名簿!F106)","v":""},{"$f":"IF(大会名簿!G106=\"\",\"\",大会名簿!G106)","v":""},{"$f":"IF(大会名簿!H106=\"\",\"\",大会名簿!H106)","v":""},{"$f":"IF(大会名簿!J106=\"\",\"\",大会名簿!J106)","v":""},"","",null,null,null,null,null,null,null,null,null,null,null,null,"","","",""]
[103,"",{"$f":"大会名簿!C107","v":13},{"$f":"大会名簿!D107","v":"７"},{"$f":"IF(大会名簿!F107=\"\",\"\",大会名簿!F107)","v":""},{"$f":"IF(大会名簿!G107=\"\",\"\",大会名簿!G107)","v":""},{"$f":"IF(大会名簿!H107=\"\",\"\",大会名簿!H107)","v":""},{"$f":"IF(大会名簿!J107=\"\",\"\",大会名簿!J107)","v":""},"","",null,null,null,null,null,null,null,null,null,null,null,null,"","","",""]
[104,"",{"$f":"大会名簿!C108","v":13},{"$f":"大会名簿!D108","v":"８"},{"$f":"IF(大会名簿!F108=\"\",\"\",大会名簿!F108)","v":""},{"$f":"IF(大会名簿!G108=\"\",\"\",大会名簿!G108)","v":""},{"$f":"IF(大会名簿!H108=\"\",\"\",大会名簿!H108)","v":""},{"$f":"IF(大会名簿!J108=\"\",\"\",大会名簿!J108)","v":""},"","",null,null,null,null,null,null,null,null,null,null,null,null,"","","",""]
[105,"",{"$f":"大会名簿!C109","v":14},{"$f":"大会名簿!D109","v":"１"},{"$f":"IF(大会名簿!F109=\"\",\"\",大会名簿!F109)","v":""},{"$f":"IF(大会名簿!G109=\"\",\"\",大会名簿!G109)","v":""},{"$f":"IF(大会名簿!H109=\"\",\"\",大会名簿!H109)","v":""},{"$f":"IF(大会名簿!J109=\"\",\"\",大会名簿!J109)","v":""},"","",null,null,null,null,null,null,null,null,null,null,null,null,"","","",""]
[106,"",{"$f":"大会名簿!C110","v":14},{"$f":"大会名簿!D110","v":"２"},{"$f":"IF(大会名簿!F110=\"\",\"\",大会名簿!F110)","v":""},{"$f":"IF(大会名簿!G110=\"\",\"\",大会名簿!G110)","v":""},{"$f":"IF(大会名簿!H110=\"\",\"\",大会名簿!H110)","v":""},{"$f":"IF(大会名簿!J110=\"\",\"\",大会名簿!J110)","v":""},"","",null,null,null,null,null,null,null,null,null,null,null,null,"","","",""]
[107,"",{"$f":"大会名簿!C111","v":14},{"$f":"大会名簿!D111","v":"３"},{"$f":"IF(大会名簿!F111=\"\",\"\",大会名簿!F111)","v":""},{"$f":"IF(大会名簿!G111=\"\",\"\",大会名簿!G111)","v":""},{"$f":"IF(大会名簿!H111=\"\",\"\",大会名簿!H111)","v":""},{"$f":"IF(大会名簿!J111=\"\",\"\",大会名簿!J111)","v":""},"","",null,null,null,null,null,null,null,null,null,null,null,null,"","","",""]
[108,"",{"$f":"大会名簿!C112","v":14},{"$f":"大会名簿!D112","v":"４"},{"$f":"IF(大会名簿!F112=\"\",\"\",大会名簿!F112)","v":""},{"$f":"IF(大会名簿!G112=\"\",\"\",大会名簿!G112)","v":""},{"$f":"IF(大会名簿!H112=\"\",\"\",大会名簿!H112)","v":""},{"$f":"IF(大会名簿!J112=\"\",\"\",大会名簿!J112)","v":""},"","",null,null,null,null,null,null,null,null,null,null,null,null,"","","",""]
[109,"",{"$f":"大会名簿!C113","v":14},{"$f":"大会名簿!D113","v":"５"},{"$f":"IF(大会名簿!F113=\"\",\"\",大会名簿!F113)","v":""},{"$f":"IF(大会名簿!G113=\"\",\"\",大会名簿!G113)","v":""},{"$f":"IF(大会名簿!H113=\"\",\"\",大会名簿!H113)","v":""},{"$f":"IF(大会名簿!J113=\"\",\"\",大会名簿!J113)","v":""},"","",null,null,null,null,null,null,null,null,null,null,null,null,"","","",""]
[110,"",{"$f":"大会名簿!C114","v":14},{"$f":"大会名簿!D114","v":"６"},{"$f":"IF(大会名簿!F114=\"\",\"\",大会名簿!F114)","v":""},{"$f":"IF(大会名簿!G114=\"\",\"\",大会名簿!G114)","v":""},{"$f":"IF(大会名簿!H114=\"\",\"\",大会名簿!H114)","v":""},{"$f":"IF(大会名簿!J114=\"\",\"\",大会名簿!J114)","v":""},"","",null,null,null,null,null,null,null,null,null,null,null,null,"","","",""]
[111,"",{"$f":"大会名簿!C115","v":14},{"$f":"大会名簿!D115","v":"７"},{"$f":"IF(大会名簿!F115=\"\",\"\",大会名簿!F115)","v":""},{"$f":"IF(大会名簿!G115=\"\",\"\",大会名簿!G115)","v":""},{"$f":"IF(大会名簿!H115=\"\",\"\",大会名簿!H115)","v":""},{"$f":"IF(大会名簿!J115=\"\",\"\",大会名簿!J115)","v":""},"","",null,null,null,null,null,null,null,null,null,null,null,null,"","","",""]
[112,"",{"$f":"大会名簿!C116","v":14},{"$f":"大会名簿!D116","v":"８"},{"$f":"IF(大会名簿!F116=\"\",\"\",大会名簿!F116)","v":""},{"$f":"IF(大会名簿!G116=\"\",\"\",大会名簿!G116)","v":""},{"$f":"IF(大会名簿!H116=\"\",\"\",大会名簿!H116)","v":""},{"$f":"IF(大会名簿!J116=\"\",\"\",大会名簿!J116)","v":""},"","",null,null,null,null,null,null,null,null,null,null,null,null,"","","",""]
[113,"",{"$f":"大会名簿!C117","v":15},{"$f":"大会名簿!D117","v":"１"},{"$f":"IF(大会名簿!F117=\"\",\"\",大会名簿!F117)","v":""},{"$f":"IF(大会名簿!G117=\"\",\"\",大会名簿!G117)","v":""},{"$f":"IF(大会名簿!H117=\"\",\"\",大会名簿!H117)","v":""},{"$f":"IF(大会名簿!J117=\"\",\"\",大会名簿!J117)","v":""},"","",null,null,null,null,null,null,null,null,null,null,null,null,"","","",""]
[114,"",{"$f":"大会名簿!C118","v":15},{"$f":"大会名簿!D118","v":"２"},{"$f":"IF(大会名簿!F118=\"\",\"\",大会名簿!F118)","v":""},{"$f":"IF(大会名簿!G118=\"\",\"\",大会名簿!G118)","v":""},{"$f":"IF(大会名簿!H118=\"\",\"\",大会名簿!H118)","v":""},{"$f":"IF(大会名簿!J118=\"\",\"\",大会名簿!J118)","v":""},"","",null,null,null,null,null,null,null,null,null,null,null,null,"","","",""]
[115,"",{"$f":"大会名簿!C119","v":15},{"$f":"大会名簿!D119","v":"３"},{"$f":"IF(大会名簿!F119=\"\",\"\",大会名簿!F119)","v":""},{"$f":"IF(大会名簿!G119=\"\",\"\",大会名簿!G119)","v":""},{"$f":"IF(大会名簿!H119=\"\",\"\",大会名簿!H119)","v":""},{"$f":"IF(大会名簿!J119=\"\",\"\",大会名簿!J119)","v":""},"","",null,null,null,null,null,null,null,null,null,null,null,null,"","","",""]
[116,"",{"$f":"大会名簿!C120","v":15},{"$f":"大会名簿!D120","v":"４"},{"$f":"IF(大会名簿!F120=\"\",\"\",大会名簿!F120)","v":""},{"$f":"IF(大会名簿!G120=\"\",\"\",大会名簿!G120)","v":""},{"$f":"IF(大会名簿!H120=\"\",\"\",大会名簿!H120)","v":""},{"$f":"IF(大会名簿!J120=\"\",\"\",大会名簿!J120)","v":""},"","",null,null,null,null,null,null,null,null,null,null,null,null,"","","",""]
[117,"",{"$f":"大会名簿!C121","v":15},{"$f":"大会名簿!D121","v":"５"},{"$f":"IF(大会名簿!F121=\"\",\"\",大会名簿!F121)","v":""},{"$f":"IF(大会名簿!G121=\"\",\"\",大会名簿!G121)","v":""},{"$f":"IF(大会名簿!H121=\"\",\"\",大会名簿!H121)","v":""},{"$f":"IF(大会名簿!J121=\"\",\"\",大会名簿!J121)","v":""},"","",null,null,null,null,null,null,null,null,null,null,null,null,"","","",""]
[118,"",{"$f":"大会名簿!C122","v":15},{"$f":"大会名簿!D122","v":"６"},{"$f":"IF(大会名簿!F122=\"\",\"\",大会名簿!F122)","v":""},{"$f":"IF(大会名簿!G122=\"\",\"\",大会名簿!G122)","v":""},{"$f":"IF(大会名簿!H122=\"\",\"\",大会名簿!H122)","v":""},{"$f":"IF(大会名簿!J122=\"\",\"\",大会名簿!J122)","v":""},"","",null,null,null,null,null,null,null,null,null,null,null,null,"","","",""]
[119,"",{"$f":"大会名簿!C123","v":15},{"$f":"大会名簿!D123","v":"７"},{"$f":"IF(大会名簿!F123=\"\",\"\",大会名簿!F123)","v":""},{"$f":"IF(大会名簿!G123=\"\",\"\",大会名簿!G123)","v":""},{"$f":"IF(大会名簿!H123=\"\",\"\",大会名簿!H123)","v":""},{"$f":"IF(大会名簿!J123=\"\",\"\",大会名簿!J123)","v":""},"","",null,null,null,null,null,null,null,null,null,null,null,null,"","","",""]
[120,"",{"$f":"大会名簿!C124","v":15},{"$f":"大会名簿!D124","v":"８"},{"$f":"IF(大会名簿!F124=\"\",\"\",大会名簿!F124)","v":""},{"$f":"IF(大会名簿!G124=\"\",\"\",大会名簿!G124)","v":""},{"$f":"IF(大会名簿!H124=\"\",\"\",大会名簿!H124)","v":""},{"$f":"IF(大会名簿!J124=\"\",\"\",大会名簿!J124)","v":""},"","",null,null,null,null,null,null,null,null,null,null,null,null,"","","",""]
[121,"",{"$f":"大会名簿!C125","v":16},{"$f":"大会名簿!D125","v":"１"},{"$f":"IF(大会名簿!F125=\"\",\"\",大会名簿!F125)","v":""},{"$f":"IF(大会名簿!G125=\"\",\"\",大会名簿!G125)","v":""},{"$f":"IF(大会名簿!H125=\"\",\"\",大会名簿!H125)","v":""},{"$f":"IF(大会名簿!J125=\"\",\"\",大会名簿!J125)","v":""},"","",null,null,null,null,null,null,null,null,null,null,null,null,"","","",""]
[122,"",{"$f":"大会名簿!C126","v":16},{"$f":"大会名簿!D126","v":"２"},{"$f":"IF(大会名簿!F126=\"\",\"\",大会名簿!F126)","v":""},{"$f":"IF(大会名簿!G126=\"\",\"\",大会名簿!G126)","v":""},{"$f":"IF(大会名簿!H126=\"\",\"\",大会名簿!H126)","v":""},{"$f":"IF(大会名簿!J126=\"\",\"\",大会名簿!J126)","v":""},"","",null,null,null,null,null,null,null,null,null,null,null,null,"","","",""]
[123,"",{"$f":"大会名簿!C127","v":16},{"$f":"大会名簿!D127","v":"３"},{"$f":"IF(大会名簿!F127=\"\",\"\",大会名簿!F127)","v":""},{"$f":"IF(大会名簿!G127=\"\",\"\",大会名簿!G127)","v":""},{"$f":"IF(大会名簿!H127=\"\",\"\",大会名簿!H127)","v":""},{"$f":"IF(大会名簿!J127=\"\",\"\",大会名簿!J127)","v":""},"","",null,null,null,null,null,null,null,null,null,null,null,null,"","","",""]
[124,"",{"$f":"大会名簿!C128","v":16},{"$f":"大会名簿!D128","v":"４"},{"$f":"IF(大会名簿!F128=\"\",\"\",大会名簿!F128)","v":""},{"$f":"IF(大会名簿!G128=\"\",\"\",大会名簿!G128)","v":""},{"$f":"IF(大会名簿!H128=\"\",\"\",大会名簿!H128)","v":""},{"$f":"IF(大会名簿!J128=\"\",\"\",大会名簿!J128)","v":""},"","",null,null,null,null,null,null,null,null,null,null,null,null,"","","",""]
[125,"",{"$f":"大会名簿!C129","v":16},{"$f":"大会名簿!D129","v":"５"},{"$f":"IF(大会名簿!F129=\"\",\"\",大会名簿!F129)","v":""},{"$f":"IF(大会名簿!G129=\"\",\"\",大会名簿!G129)","v":""},{"$f":"IF(大会名簿!H129=\"\",\"\",大会名簿!H129)","v":""},{"$f":"IF(大会名簿!J129=\"\",\"\",大会名簿!J129)","v":""},"","",null,null,null,null,null,null,null,null,null,null,null,null,"","","",""]
[126,"",{"$f":"大会名簿!C130","v":16},{"$f":"大会名簿!D130","v":"６"},{"$f":"IF(大会名簿!F130=\"\",\"\",大会名簿!F130)","v":""},{"$f":"IF(大会名簿!G130=\"\",\"\",大会名簿!G130)","v":""},{"$f":"IF(大会名簿!H130=\"\",\"\",大会名簿!H130)","v":""},{"$f":"IF(大会名簿!J130=\"\",\"\",大会名簿!J130)","v":""},"","",null,null,null,null,null,null,null,null,null,null,null,null,"","","",""]
[127,"",{"$f":"大会名簿!C131","v":16},{"$f":"大会名簿!D131","v":"７"},{"$f":"IF(大会名簿!F131=\"\",\"\",大会名簿!F131)","v":""},{"$f":"IF(大会名簿!G131=\"\",\"\",大会名簿!G131)","v":""},{"$f":"IF(大会名簿!H131=\"\",\"\",大会名簿!H131)","v":""},{"$f":"IF(大会名簿!J131=\"\",\"\",大会名簿!J131)","v":""},"","",null,null,null,null,null,null,null,null,null,null,null,null,"","","",""]
[128,"",{"$f":"大会名簿!C132","v":16},{"$f":"大会名簿!D132","v":"８"},{"$f":"IF(大会名簿!F132=\"\",\"\",大会名簿!F132)","v":""},{"$f":"IF(大会名簿!G132=\"\",\"\",大会名簿!G132)","v":""},{"$f":"IF(大会名簿!H132=\"\",\"\",大会名簿!H132)","v":""},{"$f":"IF(大会名簿!J132=\"\",\"\",大会名簿!J132)","v":""},"","",null,null,null,null,null,null,null,null,null,null,null,null,"","","",""]
[129,{"$f":"IF(W133=\"\",\"\",RANK(Z133,$Z$5:$Z$324,1))","v":""},{"$f":"大会名簿!C133","v":17},{"$f":"大会名簿!D133","v":"１"},{"$f":"IF(大会名簿!F133=\"\",\"\",大会名簿!F133)","v":""},{"$f":"IF(大会名簿!G133=\"\",\"\",大会名簿!G133)","v":""},{"$f":"IF(大会名簿!H133=\"\",\"\",大会名簿!H133)","v":""},{"$f":"IF(大会名簿!J133=\"\",\"\",大会名簿!J133)","v":""},{"$f":"IF(H133=\"\",\"\",DATEDIF(H133,TODAY(),\"y\"))","v":""},{"$f":"H133","v":""},null,null,null,null,null,null,null,null,null,null,null,null,{"$f":"IF(SUM(M133,P133,S133,V133)=0,\"\",(SUM(M133,P133,S133,V133)))","v":""},{"$f":"IF(F133=\"\",\"\",(SUM(K133,N133,Q133,T133)))","v":""},{"$f":"IF(F133=\"\",\"\",(SUM(L133,O133,R133,U133)))","v":""},{"$f":"IF(W133=\"\",\"\",(W133-X133*0.1-Y133*0.001+J133*0.00000001))","v":""}]
[130,"",{"$f":"大会名簿!C134","v":17},{"$f":"大会名簿!D134","v":"２"},{"$f":"IF(大会名簿!F134=\"\",\"\",大会名簿!F134)","v":""},{"$f":"IF(大会名簿!G134=\"\",\"\",大会名簿!G134)","v":""},{"$f":"IF(大会名簿!H134=\"\",\"\",大会名簿!H134)","v":""},{"$f":"IF(大会名簿!J134=\"\",\"\",大会名簿!J134)","v":""},"","",null,null,null,null,null,null,null,null,null,null,null,null,"","","",""]
[131,"",{"$f":"大会名簿!C135","v":17},{"$f":"大会名簿!D135","v":"３"},{"$f":"IF(大会名簿!F135=\"\",\"\",大会名簿!F135)","v":""},{"$f":"IF(大会名簿!G135=\"\",\"\",大会名簿!G135)","v":""},{"$f":"IF(大会名簿!H135=\"\",\"\",大会名簿!H135)","v":""},{"$f":"IF(大会名簿!J135=\"\",\"\",大会名簿!J135)","v":""},"","",null,null,null,null,null,null,null,null,null,null,null,null,"","","",""]
[132,"",{"$f":"大会名簿!C136","v":17},{"$f":"大会名簿!D136","v":"４"},{"$f":"IF(大会名簿!F136=\"\",\"\",大会名簿!F136)","v":""},{"$f":"IF(大会名簿!G136=\"\",\"\",大会名簿!G136)","v":""},{"$f":"IF(大会名簿!H136=\"\",\"\",大会名簿!H136)","v":""},{"$f":"IF(大会名簿!J136=\"\",\"\",大会名簿!J136)","v":""},"","",null,null,null,null,null,null,null,null,null,null,null,null,"","","",""]
[133,"",{"$f":"大会名簿!C137","v":17},{"$f":"大会名簿!D137","v":"５"},{"$f":"IF(大会名簿!F137=\"\",\"\",大会名簿!F137)","v":""},{"$f":"IF(大会名簿!G137=\"\",\"\",大会名簿!G137)","v":""},{"$f":"IF(大会名簿!H137=\"\",\"\",大会名簿!H137)","v":""},{"$f":"IF(大会名簿!J137=\"\",\"\",大会名簿!J137)","v":""},"","",null,null,null,null,null,null,null,null,null,null,null,null,"","","",""]
[134,"",{"$f":"大会名簿!C138","v":17},{"$f":"大会名簿!D138","v":"６"},{"$f":"IF(大会名簿!F138=\"\",\"\",大会名簿!F138)","v":""},{"$f":"IF(大会名簿!G138=\"\",\"\",大会名簿!G138)","v":""},{"$f":"IF(大会名簿!H138=\"\",\"\",大会名簿!H138)","v":""},{"$f":"IF(大会名簿!J138=\"\",\"\",大会名簿!J138)","v":""},"","",null,null,null,null,null,null,null,null,null,null,null,null,"","","",""]
[135,"",{"$f":"大会名簿!C139","v":17},{"$f":"大会名簿!D139","v":"７"},{"$f":"IF(大会名簿!F139=\"\",\"\",大会名簿!F139)","v":""},{"$f":"IF(大会名簿!G139=\"\",\"\",大会名簿!G139)","v":""},{"$f":"IF(大会名簿!H139=\"\",\"\",大会名簿!H139)","v":""},{"$f":"IF(大会名簿!J139=\"\",\"\",大会名簿!J139)","v":""},"","",null,null,null,null,null,null,null,null,null,null,null,null,"","","",""]
[136,"",{"$f":"大会名簿!C140","v":17},{"$f":"大会名簿!D140","v":"８"},{"$f":"IF(大会名簿!F140=\"\",\"\",大会名簿!F140)","v":""},{"$f":"IF(大会名簿!G140=\"\",\"\",大会名簿!G140)","v":""},{"$f":"IF(大会名簿!H140=\"\",\"\",大会名簿!H140)","v":""},{"$f":"IF(大会名簿!J140=\"\",\"\",大会名簿!J140)","v":""},"","",null,null,null,null,null,null,null,null,null,null,null,null,"","","",""]
[137,"",{"$f":"大会名簿!C141","v":18},{"$f":"大会名簿!D141","v":"１"},{"$f":"IF(大会名簿!F141=\"\",\"\",大会名簿!F141)","v":""},{"$f":"IF(大会名簿!G141=\"\",\"\",大会名簿!G141)","v":""},{"$f":"IF(大会名簿!H141=\"\",\"\",大会名簿!H141)","v":""},{"$f":"IF(大会名簿!J141=\"\",\"\",大会名簿!J141)","v":""},"","",null,null,null,null,null,null,null,null,null,null,null,null,"","","",""]
[138,"",{"$f":"大会名簿!C142","v":18},{"$f":"大会名簿!D142","v":"２"},{"$f":"IF(大会名簿!F142=\"\",\"\",大会名簿!F142)","v":""},{"$f":"IF(大会名簿!G142=\"\",\"\",大会名簿!G142)","v":""},{"$f":"IF(大会名簿!H142=\"\",\"\",大会名簿!H142)","v":""},{"$f":"IF(大会名簿!J142=\"\",\"\",大会名簿!J142)","v":""},"","",null,null,null,null,null,null,null,null,null,null,null,null,"","","",""]
[139,"",{"$f":"大会名簿!C143","v":18},{"$f":"大会名簿!D143","v":"３"},{"$f":"IF(大会名簿!F143=\"\",\"\",大会名簿!F143)","v":""},{"$f":"IF(大会名簿!G143=\"\",\"\",大会名簿!G143)","v":""},{"$f":"IF(大会名簿!H143=\"\",\"\",大会名簿!H143)","v":""},{"$f":"IF(大会名簿!J143=\"\",\"\",大会名簿!J143)","v":""},"","",null,null,null,null,null,null,null,null,null,null,null,null,"","","",""]
[140,"",{"$f":"大会名簿!C144","v":18},{"$f":"大会名簿!D144","v":"４"},{"$f":"IF(大会名簿!F144=\"\",\"\",大会名簿!F144)","v":""},{"$f":"IF(大会名簿!G144=\"\",\"\",大会名簿!G144)","v":""},{"$f":"IF(大会名簿!H144=\"\",\"\",大会名簿!H144)","v":""},{"$f":"IF(大会名簿!J144=\"\",\"\",大会名簿!J144)","v":""},"","",null,null,null,null,null,null,null,null,null,null,null,null,"","","",""]
[141,"",{"$f":"大会名簿!C145","v":18},{"$f":"大会名簿!D145","v":"５"},{"$f":"IF(大会名簿!F145=\"\",\"\",大会名簿!F145)","v":""},{"$f":"IF(大会名簿!G145=\"\",\"\",大会名簿!G145)","v":""},{"$f":"IF(大会名簿!H145=\"\",\"\",大会名簿!H145)","v":""},{"$f":"IF(大会名簿!J145=\"\",\"\",大会名簿!J145)","v":""},"","",null,null,null,null,null,null,null,null,null,null,null,null,"","","",""]
[142,"",{"$f":"大会名簿!C146","v":18},{"$f":"大会名簿!D146","v":"６"},{"$f":"IF(大会名簿!F146=\"\",\"\",大会名簿!F146)","v":""},{"$f":"IF(大会名簿!G146=\"\",\"\",大会名簿!G146)","v":""},{"$f":"IF(大会名簿!H146=\"\",\"\",大会名簿!H146)","v":""},{"$f":"IF(大会名簿!J146=\"\",\"\",大会名簿!J146)","v":""},"","",null,null,null,null,null,null,null,null,null,null,null,null,"","","",""]
[143,"",{"$f":"大会名簿!C147","v":18},{"$f":"大会名簿!D147","v":"７"},{"$f":"IF(大会名簿!F147=\"\",\"\",大会名簿!F147)","v":""},{"$f":"IF(大会名簿!G147=\"\",\"\",大会名簿!G147)","v":""},{"$f":"IF(大会名簿!H147=\"\",\"\",大会名簿!H147)","v":""},{"$f":"IF(大会名簿!J147=\"\",\"\",大会名簿!J147)","v":""},"","",null,null,null,null,null,null,null,null,null,null,null,null,"","","",""]
[144,"",{"$f":"大会名簿!C148","v":18},{"$f":"大会名簿!D148","v":"８"},{"$f":"IF(大会名簿!F148=\"\",\"\",大会名簿!F148)","v":""},{"$f":"IF(大会名簿!G148=\"\",\"\",大会名簿!G148)","v":""},{"$f":"IF(大会名簿!H148=\"\",\"\",大会名簿!H148)","v":""},{"$f":"IF(大会名簿!J148=\"\",\"\",大会名簿!J148)","v":""},"","",null,null,null,null,null,null,null,null,null,null,null,null,"","","",""]
[145,"",{"$f":"大会名簿!C149","v":19},{"$f":"大会名簿!D149","v":"１"},{"$f":"IF(大会名簿!F149=\"\",\"\",大会名簿!F149)","v":""},{"$f":"IF(大会名簿!G149=\"\",\"\",大会名簿!G149)","v":""},{"$f":"IF(大会名簿!H149=\"\",\"\",大会名簿!H149)","v":""},{"$f":"IF(大会名簿!J149=\"\",\"\",大会名簿!J149)","v":""},"","",null,null,null,null,null,null,null,null,null,null,null,null,"","","",""]
[146,"",{"$f":"大会名簿!C150","v":19},{"$f":"大会名簿!D150","v":"２"},{"$f":"IF(大会名簿!F150=\"\",\"\",大会名簿!F150)","v":""},{"$f":"IF(大会名簿!G150=\"\",\"\",大会名簿!G150)","v":""},{"$f":"IF(大会名簿!H150=\"\",\"\",大会名簿!H150)","v":""},{"$f":"IF(大会名簿!J150=\"\",\"\",大会名簿!J150)","v":""},"","",null,null,null,null,null,null,null,null,null,null,null,null,"","","",""]
[147,"",{"$f":"大会名簿!C151","v":19},{"$f":"大会名簿!D151","v":"３"},{"$f":"IF(大会名簿!F151=\"\",\"\",大会名簿!F151)","v":""},{"$f":"IF(大会名簿!G151=\"\",\"\",大会名簿!G151)","v":""},{"$f":"IF(大会名簿!H151=\"\",\"\",大会名簿!H151)","v":""},{"$f":"IF(大会名簿!J151=\"\",\"\",大会名簿!J151)","v":""},"","",null,null,null,null,null,null,null,null,null,null,null,null,"","","",""]
[148,"",{"$f":"大会名簿!C152","v":19},{"$f":"大会名簿!D152","v":"４"},{"$f":"IF(大会名簿!F152=\"\",\"\",大会名簿!F152)","v":""},{"$f":"IF(大会名簿!G152=\"\",\"\",大会名簿!G152)","v":""},{"$f":"IF(大会名簿!H152=\"\",\"\",大会名簿!H152)","v":""},{"$f":"IF(大会名簿!J152=\"\",\"\",大会名簿!J152)","v":""},"","",null,null,null,null,null,null,null,null,null,null,null,null,"","","",""]
[149,"",{"$f":"大会名簿!C153","v":19},{"$f":"大会名簿!D153","v":"５"},{"$f":"IF(大会名簿!F153=\"\",\"\",大会名簿!F153)","v":""},{"$f":"IF(大会名簿!G153=\"\",\"\",大会名簿!G153)","v":""},{"$f":"IF(大会名簿!H153=\"\",\"\",大会名簿!H153)","v":""},{"$f":"IF(大会名簿!J153=\"\",\"\",大会名簿!J153)","v":""},"","",null,null,null,null,null,null,null,null,null,null,null,null,"","","",""]
[150,"",{"$f":"大会名簿!C154","v":19},{"$f":"大会名簿!D154","v":"６"},{"$f":"IF(大会名簿!F154=\"\",\"\",大会名簿!F154)","v":""},{"$f":"IF(大会名簿!G154=\"\",\"\",大会名簿!G154)","v":""},{"$f":"IF(大会名簿!H154=\"\",\"\",大会名簿!H154)","v":""},{"$f":"IF(大会名簿!J154=\"\",\"\",大会名簿!J154)","v":""},"","",null,null,null,null,null,null,null,null,null,null,null,null,"","","",""]
[151,"",{"$f":"大会名簿!C155","v":19},{"$f":"大会名簿!D155","v":"７"},{"$f":"IF(大会名簿!F155=\"\",\"\",大会名簿!F155)","v":""},{"$f":"IF(大会名簿!G155=\"\",\"\",大会名簿!G155)","v":""},{"$f":"IF(大会名簿!H155=\"\",\"\",大会名簿!H155)","v":""},{"$f":"IF(大会名簿!J155=\"\",\"\",大会名簿!J155)","v":""},"","",null,null,null,null,null,null,null,null,null,null,null,null,"","","",""]
[152,"",{"$f":"大会名簿!C156","v":19},{"$f":"大会名簿!D156","v":"８"},{"$f":"IF(大会名簿!F156=\"\",\"\",大会名簿!F156)","v":""},{"$f":"IF(大会名簿!G156=\"\",\"\",大会名簿!G156)","v":""},{"$f":"IF(大会名簿!H156=\"\",\"\",大会名簿!H156)","v":""},{"$f":"IF(大会名簿!J156=\"\",\"\",大会名簿!J156)","v":""},"","",null,null,null,null,null,null,null,null,null,null,null,null,"","","",""]
[153,"",{"$f":"大会名簿!C157","v":20},{"$f":"大会名簿!D157","v":"１"},{"$f":"IF(大会名簿!F157=\"\",\"\",大会名簿!F157)","v":""},{"$f":"IF(大会名簿!G157=\"\",\"\",大会名簿!G157)","v":""},{"$f":"IF(大会名簿!H157=\"\",\"\",大会名簿!H157)","v":""},{"$f":"IF(大会名簿!J157=\"\",\"\",大会名簿!J157)","v":""},"","",null,null,null,null,null,null,null,null,null,null,null,null,"","","",""]
[154,"",{"$f":"大会名簿!C158","v":20},{"$f":"大会名簿!D158","v":"２"},{"$f":"IF(大会名簿!F158=\"\",\"\",大会名簿!F158)","v":""},{"$f":"IF(大会名簿!G158=\"\",\"\",大会名簿!G158)","v":""},{"$f":"IF(大会名簿!H158=\"\",\"\",大会名簿!H158)","v":""},{"$f":"IF(大会名簿!J158=\"\",\"\",大会名簿!J158)","v":""},"","",null,null,null,null,null,null,null,null,null,null,null,null,"","","",""]
[155,"",{"$f":"大会名簿!C159","v":20},{"$f":"大会名簿!D159","v":"３"},{"$f":"IF(大会名簿!F159=\"\",\"\",大会名簿!F159)","v":""},{"$f":"IF(大会名簿!G159=\"\",\"\",大会名簿!G159)","v":""},{"$f":"IF(大会名簿!H159=\"\",\"\",大会名簿!H159)","v":""},{"$f":"IF(大会名簿!J159=\"\",\"\",大会名簿!J159)","v":""},"","",null,null,null,null,null,null,null,null,null,null,null,null,"","","",""]
[156,"",{"$f":"大会名簿!C160","v":20},{"$f":"大会名簿!D160","v":"４"},{"$f":"IF(大会名簿!F160=\"\",\"\",大会名簿!F160)","v":""},{"$f":"IF(大会名簿!G160=\"\",\"\",大会名簿!G160)","v":""},{"$f":"IF(大会名簿!H160=\"\",\"\",大会名簿!H160)","v":""},{"$f":"IF(大会名簿!J160=\"\",\"\",大会名簿!J160)","v":""},"","",null,null,null,null,null,null,null,null,null,null,null,null,"","","",""]
[157,"",{"$f":"大会名簿!C161","v":20},{"$f":"大会名簿!D161","v":"５"},{"$f":"IF(大会名簿!F161=\"\",\"\",大会名簿!F161)","v":""},{"$f":"IF(大会名簿!G161=\"\",\"\",大会名簿!G161)","v":""},{"$f":"IF(大会名簿!H161=\"\",\"\",大会名簿!H161)","v":""},{"$f":"IF(大会名簿!J161=\"\",\"\",大会名簿!J161)","v":""},"","",null,null,null,null,null,null,null,null,null,null,null,null,"","","",""]
[158,"",{"$f":"大会名簿!C162","v":20},{"$f":"大会名簿!D162","v":"６"},{"$f":"IF(大会名簿!F162=\"\",\"\",大会名簿!F162)","v":""},{"$f":"IF(大会名簿!G162=\"\",\"\",大会名簿!G162)","v":""},{"$f":"IF(大会名簿!H162=\"\",\"\",大会名簿!H162)","v":""},{"$f":"IF(大会名簿!J162=\"\",\"\",大会名簿!J162)","v":""},"","",null,null,null,null,null,null,null,null,null,null,null,null,"","","",""]
[159,"",{"$f":"大会名簿!C163","v":20},{"$f":"大会名簿!D163","v":"７"},{"$f":"IF(大会名簿!F163=\"\",\"\",大会名簿!F163)","v":""},{"$f":"IF(大会名簿!G163=\"\",\"\",大会名簿!G163)","v":""},{"$f":"IF(大会名簿!H163=\"\",\"\",大会名簿!H163)","v":""},{"$f":"IF(大会名簿!J163=\"\",\"\",大会名簿!J163)","v":""},"","",null,null,null,null,null,null,null,null,null,null,null,null,"","","",""]
[160,"",{"$f":"大会名簿!C164","v":20},{"$f":"大会名簿!D164","v":"８"},{"$f":"IF(大会名簿!F164=\"\",\"\",大会名簿!F164)","v":""},{"$f":"IF(大会名簿!G164=\"\",\"\",大会名簿!G164)","v":""},{"$f":"IF(大会名簿!H164=\"\",\"\",大会名簿!H164)","v":""},{"$f":"IF(大会名簿!J164=\"\",\"\",大会名簿!J164)","v":""},"","",null,null,null,null,null,null,null,null,null,null,null,null,"","","",""]
[161,"",{"$f":"大会名簿!C165","v":21},{"$f":"大会名簿!D165","v":"１"},{"$f":"IF(大会名簿!F165=\"\",\"\",大会名簿!F165)","v":""},{"$f":"IF(大会名簿!G165=\"\",\"\",大会名簿!G165)","v":""},{"$f":"IF(大会名簿!H165=\"\",\"\",大会名簿!H165)","v":""},{"$f":"IF(大会名簿!J165=\"\",\"\",大会名簿!J165)","v":""},"","",null,null,null,null,null,null,null,null,null,null,null,null,"","","",""]
[162,"",{"$f":"大会名簿!C166","v":21},{"$f":"大会名簿!D166","v":"２"},{"$f":"IF(大会名簿!F166=\"\",\"\",大会名簿!F166)","v":""},{"$f":"IF(大会名簿!G166=\"\",\"\",大会名簿!G166)","v":""},{"$f":"IF(大会名簿!H166=\"\",\"\",大会名簿!H166)","v":""},{"$f":"IF(大会名簿!J166=\"\",\"\",大会名簿!J166)","v":""},"","",null,null,null,null,null,null,null,null,null,null,null,null,"","","",""]
[163,"",{"$f":"大会名簿!C167","v":21},{"$f":"大会名簿!D167","v":"３"},{"$f":"IF(大会名簿!F167=\"\",\"\",大会名簿!F167)","v":""},{"$f":"IF(大会名簿!G167=\"\",\"\",大会名簿!G167)","v":""},{"$f":"IF(大会名簿!H167=\"\",\"\",大会名簿!H167)","v":""},{"$f":"IF(大会名簿!J167=\"\",\"\",大会名簿!J167)","v":""},"","",null,null,null,null,null,null,null,null,null,null,null,null,"","","",""]
[164,"",{"$f":"大会名簿!C168","v":21},{"$f":"大会名簿!D168","v":"４"},{"$f":"IF(大会名簿!F168=\"\",\"\",大会名簿!F168)","v":""},{"$f":"IF(大会名簿!G168=\"\",\"\",大会名簿!G168)","v":""},{"$f":"IF(大会名簿!H168=\"\",\"\",大会名簿!H168)","v":""},{"$f":"IF(大会名簿!J168=\"\",\"\",大会名簿!J168)","v":""},"","",null,null,null,null,null,null,null,null,null,null,null,null,"","","",""]
[165,"",{"$f":"大会名簿!C169","v":21},{"$f":"大会名簿!D169","v":"５"},{"$f":"IF(大会名簿!F169=\"\",\"\",大会名簿!F169)","v":""},{"$f":"IF(大会名簿!G169=\"\",\"\",大会名簿!G169)","v":""},{"$f":"IF(大会名簿!H169=\"\",\"\",大会名簿!H169)","v":""},{"$f":"IF(大会名簿!J169=\"\",\"\",大会名簿!J169)","v":""},"","",null,null,null,null,null,null,null,null,null,null,null,null,"","","",""]
[166,"",{"$f":"大会名簿!C170","v":21},{"$f":"大会名簿!D170","v":"６"},{"$f":"IF(大会名簿!F170=\"\",\"\",大会名簿!F170)","v":""},{"$f":"IF(大会名簿!G170=\"\",\"\",大会名簿!G170)","v":""},{"$f":"IF(大会名簿!H170=\"\",\"\",大会名簿!H170)","v":""},{"$f":"IF(大会名簿!J170=\"\",\"\",大会名簿!J170)","v":""},"","",null,null,null,null,null,null,null,null,null,null,null,null,"","","",""]
[167,"",{"$f":"大会名簿!C171","v":21},{"$f":"大会名簿!D171","v":"７"},{"$f":"IF(大会名簿!F171=\"\",\"\",大会名簿!F171)","v":""},{"$f":"IF(大会名簿!G171=\"\",\"\",大会名簿!G171)","v":""},{"$f":"IF(大会名簿!H171=\"\",\"\",大会名簿!H171)","v":""},{"$f":"IF(大会名簿!J171=\"\",\"\",大会名簿!J171)","v":""},"","",null,null,null,null,null,null,null,null,null,null,null,null,"","","",""]
[168,"",{"$f":"大会名簿!C172","v":21},{"$f":"大会名簿!D172","v":"８"},{"$f":"IF(大会名簿!F172=\"\",\"\",大会名簿!F172)","v":""},{"$f":"IF(大会名簿!G172=\"\",\"\",大会名簿!G172)","v":""},{"$f":"IF(大会名簿!H172=\"\",\"\",大会名簿!H172)","v":""},{"$f":"IF(大会名簿!J172=\"\",\"\",大会名簿!J172)","v":""},"","",null,null,null,null,null,null,null,null,null,null,null,null,"","","",""]
[169,"",{"$f":"大会名簿!C173","v":22},{"$f":"大会名簿!D173","v":"１"},{"$f":"IF(大会名簿!F173=\"\",\"\",大会名簿!F173)","v":""},{"$f":"IF(大会名簿!G173=\"\",\"\",大会名簿!G173)","v":""},{"$f":"IF(大会名簿!H173=\"\",\"\",大会名簿!H173)","v":""},{"$f":"IF(大会名簿!J173=\"\",\"\",大会名簿!J173)","v":""},"","",null,null,null,null,null,null,null,null,null,null,null,null,"","","",""]
[170,"",{"$f":"大会名簿!C174","v":22},{"$f":"大会名簿!D174","v":"２"},{"$f":"IF(大会名簿!F174=\"\",\"\",大会名簿!F174)","v":""},{"$f":"IF(大会名簿!G174=\"\",\"\",大会名簿!G174)","v":""},{"$f":"IF(大会名簿!H174=\"\",\"\",大会名簿!H174)","v":""},{"$f":"IF(大会名簿!J174=\"\",\"\",大会名簿!J174)","v":""},"","",null,null,null,null,null,null,null,null,null,null,null,null,"","","",""]
[171,"",{"$f":"大会名簿!C175","v":22},{"$f":"大会名簿!D175","v":"３"},{"$f":"IF(大会名簿!F175=\"\",\"\",大会名簿!F175)","v":""},{"$f":"IF(大会名簿!G175=\"\",\"\",大会名簿!G175)","v":""},{"$f":"IF(大会名簿!H175=\"\",\"\",大会名簿!H175)","v":""},{"$f":"IF(大会名簿!J175=\"\",\"\",大会名簿!J175)","v":""},"","",null,null,null,null,null,null,null,null,null,null,null,null,"","","",""]
[172,"",{"$f":"大会名簿!C176","v":22},{"$f":"大会名簿!D176","v":"４"},{"$f":"IF(大会名簿!F176=\"\",\"\",大会名簿!F176)","v":""},{"$f":"IF(大会名簿!G176=\"\",\"\",大会名簿!G176)","v":""},{"$f":"IF(大会名簿!H176=\"\",\"\",大会名簿!H176)","v":""},{"$f":"IF(大会名簿!J176=\"\",\"\",大会名簿!J176)","v":""},"","",null,null,null,null,null,null,null,null,null,null,null,null,"","","",""]
[173,"",{"$f":"大会名簿!C177","v":22},{"$f":"大会名簿!D177","v":"５"},{"$f":"IF(大会名簿!F177=\"\",\"\",大会名簿!F177)","v":""},{"$f":"IF(大会名簿!G177=\"\",\"\",大会名簿!G177)","v":""},{"$f":"IF(大会名簿!H177=\"\",\"\",大会名簿!H177)","v":""},{"$f":"IF(大会名簿!J177=\"\",\"\",大会名簿!J177)","v":""},"","",null,null,null,null,null,null,null,null,null,null,null,null,"","","",""]
[174,"",{"$f":"大会名簿!C178","v":22},{"$f":"大会名簿!D178","v":"６"},{"$f":"IF(大会名簿!F178=\"\",\"\",大会名簿!F178)","v":""},{"$f":"IF(大会名簿!G178=\"\",\"\",大会名簿!G178)","v":""},{"$f":"IF(大会名簿!H178=\"\",\"\",大会名簿!H178)","v":""},{"$f":"IF(大会名簿!J178=\"\",\"\",大会名簿!J178)","v":""},"","",null,null,null,null,null,null,null,null,null,null,null,null,"","","",""]
[175,"",{"$f":"大会名簿!C179","v":22},{"$f":"大会名簿!D179","v":"７"},{"$f":"IF(大会名簿!F179=\"\",\"\",大会名簿!F179)","v":""},{"$f":"IF(大会名簿!G179=\"\",\"\",大会名簿!G179)","v":""},{"$f":"IF(大会名簿!H179=\"\",\"\",大会名簿!H179)","v":""},{"$f":"IF(大会名簿!J179=\"\",\"\",大会名簿!J179)","v":""},"","",null,null,null,null,null,null,null,null,null,null,null,null,"","","",""]
[176,"",{"$f":"大会名簿!C180","v":22},{"$f":"大会名簿!D180","v":"８"},{"$f":"IF(大会名簿!F180=\"\",\"\",大会名簿!F180)","v":""},{"$f":"IF(大会名簿!G180=\"\",\"\",大会名簿!G180)","v":""},{"$f":"IF(大会名簿!H180=\"\",\"\",大会名簿!H180)","v":""},{"$f":"IF(大会名簿!J180=\"\",\"\",大会名簿!J180)","v":""},"","",null,null,null,null,null,null,null,null,null,null,null,null,"","","",""]
[177,"",{"$f":"大会名簿!C181","v":23},{"$f":"大会名簿!D181","v":"１"},{"$f":"IF(大会名簿!F181=\"\",\"\",大会名簿!F181)","v":""},{"$f":"IF(大会名簿!G181=\"\",\"\",大会名簿!G181)","v":""},{"$f":"IF(大会名簿!H181=\"\",\"\",大会名簿!H181)","v":""},{"$f":"IF(大会名簿!J181=\"\",\"\",大会名簿!J181)","v":""},"","",null,null,null,null,null,null,null,null,null,null,null,null,"","","",""]
[178,"",{"$f":"大会名簿!C182","v":23},{"$f":"大会名簿!D182","v":"２"},{"$f":"IF(大会名簿!F182=\"\",\"\",大会名簿!F182)","v":""},{"$f":"IF(大会名簿!G182=\"\",\"\",大会名簿!G182)","v":""},{"$f":"IF(大会名簿!H182=\"\",\"\",大会名簿!H182)","v":""},{"$f":"IF(大会名簿!J182=\"\",\"\",大会名簿!J182)","v":""},"","",null,null,null,null,null,null,null,null,null,null,null,null,"","","",""]
[179,"",{"$f":"大会名簿!C183","v":23},{"$f":"大会名簿!D183","v":"３"},{"$f":"IF(大会名簿!F183=\"\",\"\",大会名簿!F183)","v":""},{"$f":"IF(大会名簿!G183=\"\",\"\",大会名簿!G183)","v":""},{"$f":"IF(大会名簿!H183=\"\",\"\",大会名簿!H183)","v":""},{"$f":"IF(大会名簿!J183=\"\",\"\",大会名簿!J183)","v":""},"","",null,null,null,null,null,null,null,null,null,null,null,null,"","","",""]
[180,"",{"$f":"大会名簿!C184","v":23},{"$f":"大会名簿!D184","v":"４"},{"$f":"IF(大会名簿!F184=\"\",\"\",大会名簿!F184)","v":""},{"$f":"IF(大会名簿!G184=\"\",\"\",大会名簿!G184)","v":""},{"$f":"IF(大会名簿!H184=\"\",\"\",大会名簿!H184)","v":""},{"$f":"IF(大会名簿!J184=\"\",\"\",大会名簿!J184)","v":""},"","",null,null,null,null,null,null,null,null,null,null,null,null,"","","",""]
[181,"",{"$f":"大会名簿!C185","v":23},{"$f":"大会名簿!D185","v":"５"},{"$f":"IF(大会名簿!F185=\"\",\"\",大会名簿!F185)","v":""},{"$f":"IF(大会名簿!G185=\"\",\"\",大会名簿!G185)","v":""},{"$f":"IF(大会名簿!H185=\"\",\"\",大会名簿!H185)","v":""},{"$f":"IF(大会名簿!J185=\"\",\"\",大会名簿!J185)","v":""},"","",null,null,null,null,null,null,null,null,null,null,null,null,"","","",""]
[182,"",{"$f":"大会名簿!C186","v":23},{"$f":"大会名簿!D186","v":"６"},{"$f":"IF(大会名簿!F186=\"\",\"\",大会名簿!F186)","v":""},{"$f":"IF(大会名簿!G186=\"\",\"\",大会名簿!G186)","v":""},{"$f":"IF(大会名簿!H186=\"\",\"\",大会名簿!H186)","v":""},{"$f":"IF(大会名簿!J186=\"\",\"\",大会名簿!J186)","v":""},"","",null,null,null,null,null,null,null,null,null,null,null,null,"","","",""]
[183,"",{"$f":"大会名簿!C187","v":23},{"$f":"大会名簿!D187","v":"７"},{"$f":"IF(大会名簿!F187=\"\",\"\",大会名簿!F187)","v":""},{"$f":"IF(大会名簿!G187=\"\",\"\",大会名簿!G187)","v":""},{"$f":"IF(大会名簿!H187=\"\",\"\",大会名簿!H187)","v":""},{"$f":"IF(大会名簿!J187=\"\",\"\",大会名簿!J187)","v":""},"","",null,null,null,null,null,null,null,null,null,null,null,null,"","","",""]
[184,"",{"$f":"大会名簿!C188","v":23},{"$f":"大会名簿!D188","v":"８"},{"$f":"IF(大会名簿!F188=\"\",\"\",大会名簿!F188)","v":""},{"$f":"IF(大会名簿!G188=\"\",\"\",大会名簿!G188)","v":""},{"$f":"IF(大会名簿!H188=\"\",\"\",大会名簿!H188)","v":""},{"$f":"IF(大会名簿!J188=\"\",\"\",大会名簿!J188)","v":""},"","",null,null,null,null,null,null,null,null,null,null,null,null,"","","",""]
[185,"",{"$f":"大会名簿!C189","v":24},{"$f":"大会名簿!D189","v":"１"},{"$f":"IF(大会名簿!F189=\"\",\"\",大会名簿!F189)","v":""},{"$f":"IF(大会名簿!G189=\"\",\"\",大会名簿!G189)","v":""},{"$f":"IF(大会名簿!H189=\"\",\"\",大会名簿!H189)","v":""},{"$f":"IF(大会名簿!J189=\"\",\"\",大会名簿!J189)","v":""},"","",null,null,null,null,null,null,null,null,null,null,null,null,"","","",""]
[186,"",{"$f":"大会名簿!C190","v":24},{"$f":"大会名簿!D190","v":"２"},{"$f":"IF(大会名簿!F190=\"\",\"\",大会名簿!F190)","v":""},{"$f":"IF(大会名簿!G190=\"\",\"\",大会名簿!G190)","v":""},{"$f":"IF(大会名簿!H190=\"\",\"\",大会名簿!H190)","v":""},{"$f":"IF(大会名簿!J190=\"\",\"\",大会名簿!J190)","v":""},"","",null,null,null,null,null,null,null,null,null,null,null,null,"","","",""]
[187,"",{"$f":"大会名簿!C191","v":24},{"$f":"大会名簿!D191","v":"３"},{"$f":"IF(大会名簿!F191=\"\",\"\",大会名簿!F191)","v":""},{"$f":"IF(大会名簿!G191=\"\",\"\",大会名簿!G191)","v":""},{"$f":"IF(大会名簿!H191=\"\",\"\",大会名簿!H191)","v":""},{"$f":"IF(大会名簿!J191=\"\",\"\",大会名簿!J191)","v":""},"","",null,null,null,null,null,null,null,null,null,null,null,null,"","","",""]
[188,"",{"$f":"大会名簿!C192","v":24},{"$f":"大会名簿!D192","v":"４"},{"$f":"IF(大会名簿!F192=\"\",\"\",大会名簿!F192)","v":""},{"$f":"IF(大会名簿!G192=\"\",\"\",大会名簿!G192)","v":""},{"$f":"IF(大会名簿!H192=\"\",\"\",大会名簿!H192)","v":""},{"$f":"IF(大会名簿!J192=\"\",\"\",大会名簿!J192)","v":""},"","",null,null,null,null,null,null,null,null,null,null,null,null,"","","",""]
[189,"",{"$f":"大会名簿!C193","v":24},{"$f":"大会名簿!D193","v":"５"},{"$f":"IF(大会名簿!F193=\"\",\"\",大会名簿!F193)","v":""},{"$f":"IF(大会名簿!G193=\"\",\"\",大会名簿!G193)","v":""},{"$f":"IF(大会名簿!H193=\"\",\"\",大会名簿!H193)","v":""},{"$f":"IF(大会名簿!J193=\"\",\"\",大会名簿!J193)","v":""},"","",null,null,null,null,null,null,null,null,null,null,null,null,"","","",""]
[190,"",{"$f":"大会名簿!C194","v":24},{"$f":"大会名簿!D194","v":"６"},{"$f":"IF(大会名簿!F194=\"\",\"\",大会名簿!F194)","v":""},{"$f":"IF(大会名簿!G194=\"\",\"\",大会名簿!G194)","v":""},{"$f":"IF(大会名簿!H194=\"\",\"\",大会名簿!H194)","v":""},{"$f":"IF(大会名簿!J194=\"\",\"\",大会名簿!J194)","v":""},"","",null,null,null,null,null,null,null,null,null,null,null,null,"","","",""]
[191,"",{"$f":"大会名簿!C195","v":24},{"$f":"大会名簿!D195","v":"７"},{"$f":"IF(大会名簿!F195=\"\",\"\",大会名簿!F195)","v":""},{"$f":"IF(大会名簿!G195=\"\",\"\",大会名簿!G195)","v":""},{"$f":"IF(大会名簿!H195=\"\",\"\",大会名簿!H195)","v":""},{"$f":"IF(大会名簿!J195=\"\",\"\",大会名簿!J195)","v":""},"","",null,null,null,null,null,null,null,null,null,null,null,null,"","","",""]
[192,"",{"$f":"大会名簿!C196","v":24},{"$f":"大会名簿!D196","v":"８"},{"$f":"IF(大会名簿!F196=\"\",\"\",大会名簿!F196)","v":""},{"$f":"IF(大会名簿!G196=\"\",\"\",大会名簿!G196)","v":""},{"$f":"IF(大会名簿!H196=\"\",\"\",大会名簿!H196)","v":""},{"$f":"IF(大会名簿!J196=\"\",\"\",大会名簿!J196)","v":""},"","",null,null,null,null,null,null,null,null,null,null,null,null,"","","",""]
[193,{"$f":"IF(W197=\"\",\"\",RANK(Z197,$Z$5:$Z$324,1))","v":""},{"$f":"大会名簿!C197","v":25},{"$f":"大会名簿!D197","v":"１"},{"$f":"IF(大会名簿!F197=\"\",\"\",大会名簿!F197)","v":""},{"$f":"IF(大会名簿!G197=\"\",\"\",大会名簿!G197)","v":""},{"$f":"IF(大会名簿!H197=\"\",\"\",大会名簿!H197)","v":""},{"$f":"IF(大会名簿!J197=\"\",\"\",大会名簿!J197)","v":""},{"$f":"IF(H197=\"\",\"\",DATEDIF(H197,TODAY(),\"y\"))","v":""},{"$f":"H197","v":""},null,null,null,null,null,null,null,null,null,null,null,null,{"$f":"IF(SUM(M197,P197,S197,V197)=0,\"\",(SUM(M197,P197,S197,V197)))","v":""},{"$f":"IF(F197=\"\",\"\",(SUM(K197,N197,Q197,T197)))","v":""},{"$f":"IF(F197=\"\",\"\",(SUM(L197,O197,R197,U197)))","v":""},{"$f":"IF(W197=\"\",\"\",(W197-X197*0.1-Y197*0.001+J197*0.00000001))","v":""}]
[194,"",{"$f":"大会名簿!C198","v":25},{"$f":"大会名簿!D198","v":"２"},{"$f":"IF(大会名簿!F198=\"\",\"\",大会名簿!F198)","v":""},{"$f":"IF(大会名簿!G198=\"\",\"\",大会名簿!G198)","v":""},{"$f":"IF(大会名簿!H198=\"\",\"\",大会名簿!H198)","v":""},{"$f":"IF(大会名簿!J198=\"\",\"\",大会名簿!J198)","v":""},"","",null,null,null,null,null,null,null,null,null,null,null,null,"","","",""]
[195,"",{"$f":"大会名簿!C199","v":25},{"$f":"大会名簿!D199","v":"３"},{"$f":"IF(大会名簿!F199=\"\",\"\",大会名簿!F199)","v":""},{"$f":"IF(大会名簿!G199=\"\",\"\",大会名簿!G199)","v":""},{"$f":"IF(大会名簿!H199=\"\",\"\",大会名簿!H199)","v":""},{"$f":"IF(大会名簿!J199=\"\",\"\",大会名簿!J199)","v":""},"","",null,null,null,null,null,null,null,null,null,null,null,null,"","","",""]
[196,"",{"$f":"大会名簿!C200","v":25},{"$f":"大会名簿!D200","v":"４"},{"$f":"IF(大会名簿!F200=\"\",\"\",大会名簿!F200)","v":""},{"$f":"IF(大会名簿!G200=\"\",\"\",大会名簿!G200)","v":""},{"$f":"IF(大会名簿!H200=\"\",\"\",大会名簿!H200)","v":""},{"$f":"IF(大会名簿!J200=\"\",\"\",大会名簿!J200)","v":""},"","",null,null,null,null,null,null,null,null,null,null,null,null,"","","",""]
[197,"",{"$f":"大会名簿!C201","v":25},{"$f":"大会名簿!D201","v":"５"},{"$f":"IF(大会名簿!F201=\"\",\"\",大会名簿!F201)","v":""},{"$f":"IF(大会名簿!G201=\"\",\"\",大会名簿!G201)","v":""},{"$f":"IF(大会名簿!H201=\"\",\"\",大会名簿!H201)","v":""},{"$f":"IF(大会名簿!J201=\"\",\"\",大会名簿!J201)","v":""},"","",null,null,null,null,null,null,null,null,null,null,null,null,"","","",""]
[198,"",{"$f":"大会名簿!C202","v":25},{"$f":"大会名簿!D202","v":"６"},{"$f":"IF(大会名簿!F202=\"\",\"\",大会名簿!F202)","v":""},{"$f":"IF(大会名簿!G202=\"\",\"\",大会名簿!G202)","v":""},{"$f":"IF(大会名簿!H202=\"\",\"\",大会名簿!H202)","v":""},{"$f":"IF(大会名簿!J202=\"\",\"\",大会名簿!J202)","v":""},"","",null,null,null,null,null,null,null,null,null,null,null,null,"","","",""]
[199,"",{"$f":"大会名簿!C203","v":25},{"$f":"大会名簿!D203","v":"７"},{"$f":"IF(大会名簿!F203=\"\",\"\",大会名簿!F203)","v":""},{"$f":"IF(大会名簿!G203=\"\",\"\",大会名簿!G203)","v":""},{"$f":"IF(大会名簿!H203=\"\",\"\",大会名簿!H203)","v":""},{"$f":"IF(大会名簿!J203=\"\",\"\",大会名簿!J203)","v":""},"","",null,null,null,null,null,null,null,null,null,null,null,null,"","","",""]
[200,"",{"$f":"大会名簿!C204","v":25},{"$f":"大会名簿!D204","v":"８"},{"$f":"IF(大会名簿!F204=\"\",\"\",大会名簿!F204)","v":""},{"$f":"IF(大会名簿!G204=\"\",\"\",大会名簿!G204)","v":""},{"$f":"IF(大会名簿!H204=\"\",\"\",大会名簿!H204)","v":""},{"$f":"IF(大会名簿!J204=\"\",\"\",大会名簿!J204)","v":""},"","",null,null,null,null,null,null,null,null,null,null,null,null,"","","",""]
[201,"",{"$f":"大会名簿!C205","v":26},{"$f":"大会名簿!D205","v":"１"},{"$f":"IF(大会名簿!F205=\"\",\"\",大会名簿!F205)","v":""},{"$f":"IF(大会名簿!G205=\"\",\"\",大会名簿!G205)","v":""},{"$f":"IF(大会名簿!H205=\"\",\"\",大会名簿!H205)","v":""},{"$f":"IF(大会名簿!J205=\"\",\"\",大会名簿!J205)","v":""},"","",null,null,null,null,null,null,null,null,null,null,null,null,"","","",""]
[202,"",{"$f":"大会名簿!C206","v":26},{"$f":"大会名簿!D206","v":"２"},{"$f":"IF(大会名簿!F206=\"\",\"\",大会名簿!F206)","v":""},{"$f":"IF(大会名簿!G206=\"\",\"\",大会名簿!G206)","v":""},{"$f":"IF(大会名簿!H206=\"\",\"\",大会名簿!H206)","v":""},{"$f":"IF(大会名簿!J206=\"\",\"\",大会名簿!J206)","v":""},"","",null,null,null,null,null,null,null,null,null,null,null,null,"","","",""]
[203,"",{"$f":"大会名簿!C207","v":26},{"$f":"大会名簿!D207","v":"３"},{"$f":"IF(大会名簿!F207=\"\",\"\",大会名簿!F207)","v":""},{"$f":"IF(大会名簿!G207=\"\",\"\",大会名簿!G207)","v":""},{"$f":"IF(大会名簿!H207=\"\",\"\",大会名簿!H207)","v":""},{"$f":"IF(大会名簿!J207=\"\",\"\",大会名簿!J207)","v":""},"","",null,null,null,null,null,null,null,null,null,null,null,null,"","","",""]
[204,"",{"$f":"大会名簿!C208","v":26},{"$f":"大会名簿!D208","v":"４"},{"$f":"IF(大会名簿!F208=\"\",\"\",大会名簿!F208)","v":""},{"$f":"IF(大会名簿!G208=\"\",\"\",大会名簿!G208)","v":""},{"$f":"IF(大会名簿!H208=\"\",\"\",大会名簿!H208)","v":""},{"$f":"IF(大会名簿!J208=\"\",\"\",大会名簿!J208)","v":""},"","",null,null,null,null,null,null,null,null,null,null,null,null,"","","",""]
[205,"",{"$f":"大会名簿!C209","v":26},{"$f":"大会名簿!D209","v":"５"},{"$f":"IF(大会名簿!F209=\"\",\"\",大会名簿!F209)","v":""},{"$f":"IF(大会名簿!G209=\"\",\"\",大会名簿!G209)","v":""},{"$f":"IF(大会名簿!H209=\"\",\"\",大会名簿!H209)","v":""},{"$f":"IF(大会名簿!J209=\"\",\"\",大会名簿!J209)","v":""},"","",null,null,null,null,null,null,null,null,null,null,null,null,"","","",""]
[206,"",{"$f":"大会名簿!C210","v":26},{"$f":"大会名簿!D210","v":"６"},{"$f":"IF(大会名簿!F210=\"\",\"\",大会名簿!F210)","v":""},{"$f":"IF(大会名簿!G210=\"\",\"\",大会名簿!G210)","v":""},{"$f":"IF(大会名簿!H210=\"\",\"\",大会名簿!H210)","v":""},{"$f":"IF(大会名簿!J210=\"\",\"\",大会名簿!J210)","v":""},"","",null,null,null,null,null,null,null,null,null,null,null,null,"","","",""]
[207,"",{"$f":"大会名簿!C211","v":26},{"$f":"大会名簿!D211","v":"７"},{"$f":"IF(大会名簿!F211=\"\",\"\",大会名簿!F211)","v":""},{"$f":"IF(大会名簿!G211=\"\",\"\",大会名簿!G211)","v":""},{"$f":"IF(大会名簿!H211=\"\",\"\",大会名簿!H211)","v":""},{"$f":"IF(大会名簿!J211=\"\",\"\",大会名簿!J211)","v":""},"","",null,null,null,null,null,null,null,null,null,null,null,null,"","","",""]
[208,"",{"$f":"大会名簿!C212","v":26},{"$f":"大会名簿!D212","v":"８"},{"$f":"IF(大会名簿!F212=\"\",\"\",大会名簿!F212)","v":""},{"$f":"IF(大会名簿!G212=\"\",\"\",大会名簿!G212)","v":""},{"$f":"IF(大会名簿!H212=\"\",\"\",大会名簿!H212)","v":""},{"$f":"IF(大会名簿!J212=\"\",\"\",大会名簿!J212)","v":""},"","",null,null,null,null,null,null,null,null,null,null,null,null,"","","",""]
[209,"",{"$f":"大会名簿!C213","v":27},{"$f":"大会名簿!D213","v":"１"},{"$f":"IF(大会名簿!F213=\"\",\"\",大会名簿!F213)","v":""},{"$f":"IF(大会名簿!G213=\"\",\"\",大会名簿!G213)","v":""},{"$f":"IF(大会名簿!H213=\"\",\"\",大会名簿!H213)","v":""},{"$f":"IF(大会名簿!J213=\"\",\"\",大会名簿!J213)","v":""},"","",null,null,null,null,null,null,null,null,null,null,null,null,"","","",""]
[210,"",{"$f":"大会名簿!C214","v":27},{"$f":"大会名簿!D214","v":"２"},{"$f":"IF(大会名簿!F214=\"\",\"\",大会名簿!F214)","v":""},{"$f":"IF(大会名簿!G214=\"\",\"\",大会名簿!G214)","v":""},{"$f":"IF(大会名簿!H214=\"\",\"\",大会名簿!H214)","v":""},{"$f":"IF(大会名簿!J214=\"\",\"\",大会名簿!J214)","v":""},"","",null,null,null,null,null,null,null,null,null,null,null,null,"","","",""]
[211,"",{"$f":"大会名簿!C215","v":27},{"$f":"大会名簿!D215","v":"３"},{"$f":"IF(大会名簿!F215=\"\",\"\",大会名簿!F215)","v":""},{"$f":"IF(大会名簿!G215=\"\",\"\",大会名簿!G215)","v":""},{"$f":"IF(大会名簿!H215=\"\",\"\",大会名簿!H215)","v":""},{"$f":"IF(大会名簿!J215=\"\",\"\",大会名簿!J215)","v":""},"","",null,null,null,null,null,null,null,null,null,null,null,null,"","","",""]
[212,"",{"$f":"大会名簿!C216","v":27},{"$f":"大会名簿!D216","v":"４"},{"$f":"IF(大会名簿!F216=\"\",\"\",大会名簿!F216)","v":""},{"$f":"IF(大会名簿!G216=\"\",\"\",大会名簿!G216)","v":""},{"$f":"IF(大会名簿!H216=\"\",\"\",大会名簿!H216)","v":""},{"$f":"IF(大会名簿!J216=\"\",\"\",大会名簿!J216)","v":""},"","",null,null,null,null,null,null,null,null,null,null,null,null,"","","",""]
[213,"",{"$f":"大会名簿!C217","v":27},{"$f":"大会名簿!D217","v":"５"},{"$f":"IF(大会名簿!F217=\"\",\"\",大会名簿!F217)","v":""},{"$f":"IF(大会名簿!G217=\"\",\"\",大会名簿!G217)","v":""},{"$f":"IF(大会名簿!H217=\"\",\"\",大会名簿!H217)","v":""},{"$f":"IF(大会名簿!J217=\"\",\"\",大会名簿!J217)","v":""},"","",null,null,null,null,null,null,null,null,null,null,null,null,"","","",""]
[214,"",{"$f":"大会名簿!C218","v":27},{"$f":"大会名簿!D218","v":"６"},{"$f":"IF(大会名簿!F218=\"\",\"\",大会名簿!F218)","v":""},{"$f":"IF(大会名簿!G218=\"\",\"\",大会名簿!G218)","v":""},{"$f":"IF(大会名簿!H218=\"\",\"\",大会名簿!H218)","v":""},{"$f":"IF(大会名簿!J218=\"\",\"\",大会名簿!J218)","v":""},"","",null,null,null,null,null,null,null,null,null,null,null,null,"","","",""]
[215,"",{"$f":"大会名簿!C219","v":27},{"$f":"大会名簿!D219","v":"７"},{"$f":"IF(大会名簿!F219=\"\",\"\",大会名簿!F219)","v":""},{"$f":"IF(大会名簿!G219=\"\",\"\",大会名簿!G219)","v":""},{"$f":"IF(大会名簿!H219=\"\",\"\",大会名簿!H219)","v":""},{"$f":"IF(大会名簿!J219=\"\",\"\",大会名簿!J219)","v":""},"","",null,null,null,null,null,null,null,null,null,null,null,null,"","","",""]
[216,"",{"$f":"大会名簿!C220","v":27},{"$f":"大会名簿!D220","v":"８"},{"$f":"IF(大会名簿!F220=\"\",\"\",大会名簿!F220)","v":""},{"$f":"IF(大会名簿!G220=\"\",\"\",大会名簿!G220)","v":""},{"$f":"IF(大会名簿!H220=\"\",\"\",大会名簿!H220)","v":""},{"$f":"IF(大会名簿!J220=\"\",\"\",大会名簿!J220)","v":""},"","",null,null,null,null,null,null,null,null,null,null,null,null,"","","",""]
[217,"",{"$f":"大会名簿!C221","v":28},{"$f":"大会名簿!D221","v":"１"},{"$f":"IF(大会名簿!F221=\"\",\"\",大会名簿!F221)","v":""},{"$f":"IF(大会名簿!G221=\"\",\"\",大会名簿!G221)","v":""},{"$f":"IF(大会名簿!H221=\"\",\"\",大会名簿!H221)","v":""},{"$f":"IF(大会名簿!J221=\"\",\"\",大会名簿!J221)","v":""},"","",null,null,null,null,null,null,null,null,null,null,null,null,"","","",""]
[218,"",{"$f":"大会名簿!C222","v":28},{"$f":"大会名簿!D222","v":"２"},{"$f":"IF(大会名簿!F222=\"\",\"\",大会名簿!F222)","v":""},{"$f":"IF(大会名簿!G222=\"\",\"\",大会名簿!G222)","v":""},{"$f":"IF(大会名簿!H222=\"\",\"\",大会名簿!H222)","v":""},{"$f":"IF(大会名簿!J222=\"\",\"\",大会名簿!J222)","v":""},"","",null,null,null,null,null,null,null,null,null,null,null,null,"","","",""]
[219,"",{"$f":"大会名簿!C223","v":28},{"$f":"大会名簿!D223","v":"３"},{"$f":"IF(大会名簿!F223=\"\",\"\",大会名簿!F223)","v":""},{"$f":"IF(大会名簿!G223=\"\",\"\",大会名簿!G223)","v":""},{"$f":"IF(大会名簿!H223=\"\",\"\",大会名簿!H223)","v":""},{"$f":"IF(大会名簿!J223=\"\",\"\",大会名簿!J223)","v":""},"","",null,null,null,null,null,null,null,null,null,null,null,null,"","","",""]
[220,"",{"$f":"大会名簿!C224","v":28},{"$f":"大会名簿!D224","v":"４"},{"$f":"IF(大会名簿!F224=\"\",\"\",大会名簿!F224)","v":""},{"$f":"IF(大会名簿!G224=\"\",\"\",大会名簿!G224)","v":""},{"$f":"IF(大会名簿!H224=\"\",\"\",大会名簿!H224)","v":""},{"$f":"IF(大会名簿!J224=\"\",\"\",大会名簿!J224)","v":""},"","",null,null,null,null,null,null,null,null,null,null,null,null,"","","",""]
[221,"",{"$f":"大会名簿!C225","v":28},{"$f":"大会名簿!D225","v":"５"},{"$f":"IF(大会名簿!F225=\"\",\"\",大会名簿!F225)","v":""},{"$f":"IF(大会名簿!G225=\"\",\"\",大会名簿!G225)","v":""},{"$f":"IF(大会名簿!H225=\"\",\"\",大会名簿!H225)","v":""},{"$f":"IF(大会名簿!J225=\"\",\"\",大会名簿!J225)","v":""},"","",null,null,null,null,null,null,null,null,null,null,null,null,"","","",""]
[222,"",{"$f":"大会名簿!C226","v":28},{"$f":"大会名簿!D226","v":"６"},{"$f":"IF(大会名簿!F226=\"\",\"\",大会名簿!F226)","v":""},{"$f":"IF(大会名簿!G226=\"\",\"\",大会名簿!G226)","v":""},{"$f":"IF(大会名簿!H226=\"\",\"\",大会名簿!H226)","v":""},{"$f":"IF(大会名簿!J226=\"\",\"\",大会名簿!J226)","v":""},"","",null,null,null,null,null,null,null,null,null,null,null,null,"","","",""]
[223,"",{"$f":"大会名簿!C227","v":28},{"$f":"大会名簿!D227","v":"７"},{"$f":"IF(大会名簿!F227=\"\",\"\",大会名簿!F227)","v":""},{"$f":"IF(大会名簿!G227=\"\",\"\",大会名簿!G227)","v":""},{"$f":"IF(大会名簿!H227=\"\",\"\",大会名簿!H227)","v":""},{"$f":"IF(大会名簿!J227=\"\",\"\",大会名簿!J227)","v":""},"","",null,null,null,null,null,null,null,null,null,null,null,null,"","","",""]
[224,"",{"$f":"大会名簿!C228","v":28},{"$f":"大会名簿!D228","v":"８"},{"$f":"IF(大会名簿!F228=\"\",\"\",大会名簿!F228)","v":""},{"$f":"IF(大会名簿!G228=\"\",\"\",大会名簿!G228)","v":""},{"$f":"IF(大会名簿!H228=\"\",\"\",大会名簿!H228)","v":""},{"$f":"IF(大会名簿!J228=\"\",\"\",大会名簿!J228)","v":""},"","",null,null,null,null,null,null,null,null,null,null,null,null,"","","",""]
[225,"",{"$f":"大会名簿!C229","v":29},{"$f":"大会名簿!D229","v":"１"},{"$f":"IF(大会名簿!F229=\"\",\"\",大会名簿!F229)","v":""},{"$f":"IF(大会名簿!G229=\"\",\"\",大会名簿!G229)","v":""},{"$f":"IF(大会名簿!H229=\"\",\"\",大会名簿!H229)","v":""},{"$f":"IF(大会名簿!J229=\"\",\"\",大会名簿!J229)","v":""},"","",null,null,null,null,null,null,null,null,null,null,null,null,"","","",""]
[226,"",{"$f":"大会名簿!C230","v":29},{"$f":"大会名簿!D230","v":"２"},{"$f":"IF(大会名簿!F230=\"\",\"\",大会名簿!F230)","v":""},{"$f":"IF(大会名簿!G230=\"\",\"\",大会名簿!G230)","v":""},{"$f":"IF(大会名簿!H230=\"\",\"\",大会名簿!H230)","v":""},{"$f":"IF(大会名簿!J230=\"\",\"\",大会名簿!J230)","v":""},"","",null,null,null,null,null,null,null,null,null,null,null,null,"","","",""]
[227,"",{"$f":"大会名簿!C231","v":29},{"$f":"大会名簿!D231","v":"３"},{"$f":"IF(大会名簿!F231=\"\",\"\",大会名簿!F231)","v":""},{"$f":"IF(大会名簿!G231=\"\",\"\",大会名簿!G231)","v":""},{"$f":"IF(大会名簿!H231=\"\",\"\",大会名簿!H231)","v":""},{"$f":"IF(大会名簿!J231=\"\",\"\",大会名簿!J231)","v":""},"","",null,null,null,null,null,null,null,null,null,null,null,null,"","","",""]
[228,"",{"$f":"大会名簿!C232","v":29},{"$f":"大会名簿!D232","v":"４"},{"$f":"IF(大会名簿!F232=\"\",\"\",大会名簿!F232)","v":""},{"$f":"IF(大会名簿!G232=\"\",\"\",大会名簿!G232)","v":""},{"$f":"IF(大会名簿!H232=\"\",\"\",大会名簿!H232)","v":""},{"$f":"IF(大会名簿!J232=\"\",\"\",大会名簿!J232)","v":""},"","",null,null,null,null,null,null,null,null,null,null,null,null,"","","",""]
[229,"",{"$f":"大会名簿!C233","v":29},{"$f":"大会名簿!D233","v":"５"},{"$f":"IF(大会名簿!F233=\"\",\"\",大会名簿!F233)","v":""},{"$f":"IF(大会名簿!G233=\"\",\"\",大会名簿!G233)","v":""},{"$f":"IF(大会名簿!H233=\"\",\"\",大会名簿!H233)","v":""},{"$f":"IF(大会名簿!J233=\"\",\"\",大会名簿!J233)","v":""},"","",null,null,null,null,null,null,null,null,null,null,null,null,"","","",""]
[230,"",{"$f":"大会名簿!C234","v":29},{"$f":"大会名簿!D234","v":"６"},{"$f":"IF(大会名簿!F234=\"\",\"\",大会名簿!F234)","v":""},{"$f":"IF(大会名簿!G234=\"\",\"\",大会名簿!G234)","v":""},{"$f":"IF(大会名簿!H234=\"\",\"\",大会名簿!H234)","v":""},{"$f":"IF(大会名簿!J234=\"\",\"\",大会名簿!J234)","v":""},"","",null,null,null,null,null,null,null,null,null,null,null,null,"","","",""]
[231,"",{"$f":"大会名簿!C235","v":29},{"$f":"大会名簿!D235","v":"７"},{"$f":"IF(大会名簿!F235=\"\",\"\",大会名簿!F235)","v":""},{"$f":"IF(大会名簿!G235=\"\",\"\",大会名簿!G235)","v":""},{"$f":"IF(大会名簿!H235=\"\",\"\",大会名簿!H235)","v":""},{"$f":"IF(大会名簿!J235=\"\",\"\",大会名簿!J235)","v":""},"","",null,null,null,null,null,null,null,null,null,null,null,null,"","","",""]
[232,"",{"$f":"大会名簿!C236","v":29},{"$f":"大会名簿!D236","v":"８"},{"$f":"IF(大会名簿!F236=\"\",\"\",大会名簿!F236)","v":""},{"$f":"IF(大会名簿!G236=\"\",\"\",大会名簿!G236)","v":""},{"$f":"IF(大会名簿!H236=\"\",\"\",大会名簿!H236)","v":""},{"$f":"IF(大会名簿!J236=\"\",\"\",大会名簿!J236)","v":""},"","",null,null,null,null,null,null,null,null,null,null,null,null,"","","",""]
[233,"",{"$f":"大会名簿!C237","v":30},{"$f":"大会名簿!D237","v":"１"},{"$f":"IF(大会名簿!F237=\"\",\"\",大会名簿!F237)","v":""},{"$f":"IF(大会名簿!G237=\"\",\"\",大会名簿!G237)","v":""},{"$f":"IF(大会名簿!H237=\"\",\"\",大会名簿!H237)","v":""},{"$f":"IF(大会名簿!J237=\"\",\"\",大会名簿!J237)","v":""},"","",null,null,null,null,null,null,null,null,null,null,null,null,"","","",""]
[234,"",{"$f":"大会名簿!C238","v":30},{"$f":"大会名簿!D238","v":"２"},{"$f":"IF(大会名簿!F238=\"\",\"\",大会名簿!F238)","v":""},{"$f":"IF(大会名簿!G238=\"\",\"\",大会名簿!G238)","v":""},{"$f":"IF(大会名簿!H238=\"\",\"\",大会名簿!H238)","v":""},{"$f":"IF(大会名簿!J238=\"\",\"\",大会名簿!J238)","v":""},"","",null,null,null,null,null,null,null,null,null,null,null,null,"","","",""]
[235,"",{"$f":"大会名簿!C239","v":30},{"$f":"大会名簿!D239","v":"３"},{"$f":"IF(大会名簿!F239=\"\",\"\",大会名簿!F239)","v":""},{"$f":"IF(大会名簿!G239=\"\",\"\",大会名簿!G239)","v":""},{"$f":"IF(大会名簿!H239=\"\",\"\",大会名簿!H239)","v":""},{"$f":"IF(大会名簿!J239=\"\",\"\",大会名簿!J239)","v":""},"","",null,null,null,null,null,null,null,null,null,null,null,null,"","","",""]
[236,"",{"$f":"大会名簿!C240","v":30},{"$f":"大会名簿!D240","v":"４"},{"$f":"IF(大会名簿!F240=\"\",\"\",大会名簿!F240)","v":""},{"$f":"IF(大会名簿!G240=\"\",\"\",大会名簿!G240)","v":""},{"$f":"IF(大会名簿!H240=\"\",\"\",大会名簿!H240)","v":""},{"$f":"IF(大会名簿!J240=\"\",\"\",大会名簿!J240)","v":""},"","",null,null,null,null,null,null,null,null,null,null,null,null,"","","",""]
[237,"",{"$f":"大会名簿!C241","v":30},{"$f":"大会名簿!D241","v":"５"},{"$f":"IF(大会名簿!F241=\"\",\"\",大会名簿!F241)","v":""},{"$f":"IF(大会名簿!G241=\"\",\"\",大会名簿!G241)","v":""},{"$f":"IF(大会名簿!H241=\"\",\"\",大会名簿!H241)","v":""},{"$f":"IF(大会名簿!J241=\"\",\"\",大会名簿!J241)","v":""},"","",null,null,null,null,null,null,null,null,null,null,null,null,"","","",""]
[238,"",{"$f":"大会名簿!C242","v":30},{"$f":"大会名簿!D242","v":"６"},{"$f":"IF(大会名簿!F242=\"\",\"\",大会名簿!F242)","v":""},{"$f":"IF(大会名簿!G242=\"\",\"\",大会名簿!G242)","v":""},{"$f":"IF(大会名簿!H242=\"\",\"\",大会名簿!H242)","v":""},{"$f":"IF(大会名簿!J242=\"\",\"\",大会名簿!J242)","v":""},"","",null,null,null,null,null,null,null,null,null,null,null,null,"","","",""]
[239,"",{"$f":"大会名簿!C243","v":30},{"$f":"大会名簿!D243","v":"７"},{"$f":"IF(大会名簿!F243=\"\",\"\",大会名簿!F243)","v":""},{"$f":"IF(大会名簿!G243=\"\",\"\",大会名簿!G243)","v":""},{"$f":"IF(大会名簿!H243=\"\",\"\",大会名簿!H243)","v":""},{"$f":"IF(大会名簿!J243=\"\",\"\",大会名簿!J243)","v":""},"","",null,null,null,null,null,null,null,null,null,null,null,null,"","","",""]
[240,"",{"$f":"大会名簿!C244","v":30},{"$f":"大会名簿!D244","v":"８"},{"$f":"IF(大会名簿!F244=\"\",\"\",大会名簿!F244)","v":""},{"$f":"IF(大会名簿!G244=\"\",\"\",大会名簿!G244)","v":""},{"$f":"IF(大会名簿!H244=\"\",\"\",大会名簿!H244)","v":""},{"$f":"IF(大会名簿!J244=\"\",\"\",大会名簿!J244)","v":""},"","",null,null,null,null,null,null,null,null,null,null,null,null,"","","",""]
[241,"",{"$f":"大会名簿!C245","v":31},{"$f":"大会名簿!D245","v":"１"},{"$f":"IF(大会名簿!F245=\"\",\"\",大会名簿!F245)","v":""},{"$f":"IF(大会名簿!G245=\"\",\"\",大会名簿!G245)","v":""},{"$f":"IF(大会名簿!H245=\"\",\"\",大会名簿!H245)","v":""},{"$f":"IF(大会名簿!J245=\"\",\"\",大会名簿!J245)","v":""},"","",null,null,null,null,null,null,null,null,null,null,null,null,"","","",""]
[242,"",{"$f":"大会名簿!C246","v":31},{"$f":"大会名簿!D246","v":"２"},{"$f":"IF(大会名簿!F246=\"\",\"\",大会名簿!F246)","v":""},{"$f":"IF(大会名簿!G246=\"\",\"\",大会名簿!G246)","v":""},{"$f":"IF(大会名簿!H246=\"\",\"\",大会名簿!H246)","v":""},{"$f":"IF(大会名簿!J246=\"\",\"\",大会名簿!J246)","v":""},"","",null,null,null,null,null,null,null,null,null,null,null,null,"","","",""]
[243,"",{"$f":"大会名簿!C247","v":31},{"$f":"大会名簿!D247","v":"３"},{"$f":"IF(大会名簿!F247=\"\",\"\",大会名簿!F247)","v":""},{"$f":"IF(大会名簿!G247=\"\",\"\",大会名簿!G247)","v":""},{"$f":"IF(大会名簿!H247=\"\",\"\",大会名簿!H247)","v":""},{"$f":"IF(大会名簿!J247=\"\",\"\",大会名簿!J247)","v":""},"","",null,null,null,null,null,null,null,null,null,null,null,null,"","","",""]
[244,"",{"$f":"大会名簿!C248","v":31},{"$f":"大会名簿!D248","v":"４"},{"$f":"IF(大会名簿!F248=\"\",\"\",大会名簿!F248)","v":""},{"$f":"IF(大会名簿!G248=\"\",\"\",大会名簿!G248)","v":""},{"$f":"IF(大会名簿!H248=\"\",\"\",大会名簿!H248)","v":""},{"$f":"IF(大会名簿!J248=\"\",\"\",大会名簿!J248)","v":""},"","",null,null,null,null,null,null,null,null,null,null,null,null,"","","",""]
[245,"",{"$f":"大会名簿!C249","v":31},{"$f":"大会名簿!D249","v":"５"},{"$f":"IF(大会名簿!F249=\"\",\"\",大会名簿!F249)","v":""},{"$f":"IF(大会名簿!G249=\"\",\"\",大会名簿!G249)","v":""},{"$f":"IF(大会名簿!H249=\"\",\"\",大会名簿!H249)","v":""},{"$f":"IF(大会名簿!J249=\"\",\"\",大会名簿!J249)","v":""},"","",null,null,null,null,null,null,null,null,null,null,null,null,"","","",""]
[246,"",{"$f":"大会名簿!C250","v":31},{"$f":"大会名簿!D250","v":"６"},{"$f":"IF(大会名簿!F250=\"\",\"\",大会名簿!F250)","v":""},{"$f":"IF(大会名簿!G250=\"\",\"\",大会名簿!G250)","v":""},{"$f":"IF(大会名簿!H250=\"\",\"\",大会名簿!H250)","v":""},{"$f":"IF(大会名簿!J250=\"\",\"\",大会名簿!J250)","v":""},"","",null,null,null,null,null,null,null,null,null,null,null,null,"","","",""]
[247,"",{"$f":"大会名簿!C251","v":31},{"$f":"大会名簿!D251","v":"７"},{"$f":"IF(大会名簿!F251=\"\",\"\",大会名簿!F251)","v":""},{"$f":"IF(大会名簿!G251=\"\",\"\",大会名簿!G251)","v":""},{"$f":"IF(大会名簿!H251=\"\",\"\",大会名簿!H251)","v":""},{"$f":"IF(大会名簿!J251=\"\",\"\",大会名簿!J251)","v":""},"","",null,null,null,null,null,null,null,null,null,null,null,null,"","","",""]
[248,"",{"$f":"大会名簿!C252","v":31},{"$f":"大会名簿!D252","v":"８"},{"$f":"IF(大会名簿!F252=\"\",\"\",大会名簿!F252)","v":""},{"$f":"IF(大会名簿!G252=\"\",\"\",大会名簿!G252)","v":""},{"$f":"IF(大会名簿!H252=\"\",\"\",大会名簿!H252)","v":""},{"$f":"IF(大会名簿!J252=\"\",\"\",大会名簿!J252)","v":""},"","",null,null,null,null,null,null,null,null,null,null,null,null,"","","",""]
[249,"",{"$f":"大会名簿!C253","v":32},{"$f":"大会名簿!D253","v":"１"},{"$f":"IF(大会名簿!F253=\"\",\"\",大会名簿!F253)","v":""},{"$f":"IF(大会名簿!G253=\"\",\"\",大会名簿!G253)","v":""},{"$f":"IF(大会名簿!H253=\"\",\"\",大会名簿!H253)","v":""},{"$f":"IF(大会名簿!J253=\"\",\"\",大会名簿!J253)","v":""},"","",null,null,null,null,null,null,null,null,null,null,null,null,"","","",""]
[250,"",{"$f":"大会名簿!C254","v":32},{"$f":"大会名簿!D254","v":"２"},{"$f":"IF(大会名簿!F254=\"\",\"\",大会名簿!F254)","v":""},{"$f":"IF(大会名簿!G254=\"\",\"\",大会名簿!G254)","v":""},{"$f":"IF(大会名簿!H254=\"\",\"\",大会名簿!H254)","v":""},{"$f":"IF(大会名簿!J254=\"\",\"\",大会名簿!J254)","v":""},"","",null,null,null,null,null,null,null,null,null,null,null,null,"","","",""]
[251,"",{"$f":"大会名簿!C255","v":32},{"$f":"大会名簿!D255","v":"３"},{"$f":"IF(大会名簿!F255=\"\",\"\",大会名簿!F255)","v":""},{"$f":"IF(大会名簿!G255=\"\",\"\",大会名簿!G255)","v":""},{"$f":"IF(大会名簿!H255=\"\",\"\",大会名簿!H255)","v":""},{"$f":"IF(大会名簿!J255=\"\",\"\",大会名簿!J255)","v":""},"","",null,null,null,null,null,null,null,null,null,null,null,null,"","","",""]
[252,"",{"$f":"大会名簿!C256","v":32},{"$f":"大会名簿!D256","v":"４"},{"$f":"IF(大会名簿!F256=\"\",\"\",大会名簿!F256)","v":""},{"$f":"IF(大会名簿!G256=\"\",\"\",大会名簿!G256)","v":""},{"$f":"IF(大会名簿!H256=\"\",\"\",大会名簿!H256)","v":""},{"$f":"IF(大会名簿!J256=\"\",\"\",大会名簿!J256)","v":""},"","",null,null,null,null,null,null,null,null,null,null,null,null,"","","",""]
[253,"",{"$f":"大会名簿!C257","v":32},{"$f":"大会名簿!D257","v":"５"},{"$f":"IF(大会名簿!F257=\"\",\"\",大会名簿!F257)","v":""},{"$f":"IF(大会名簿!G257=\"\",\"\",大会名簿!G257)","v":""},{"$f":"IF(大会名簿!H257=\"\",\"\",大会名簿!H257)","v":""},{"$f":"IF(大会名簿!J257=\"\",\"\",大会名簿!J257)","v":""},"","",null,null,null,null,null,null,null,null,null,null,null,null,"","","",""]
[254,"",{"$f":"大会名簿!C258","v":32},{"$f":"大会名簿!D258","v":"６"},{"$f":"IF(大会名簿!F258=\"\",\"\",大会名簿!F258)","v":""},{"$f":"IF(大会名簿!G258=\"\",\"\",大会名簿!G258)","v":""},{"$f":"IF(大会名簿!H258=\"\",\"\",大会名簿!H258)","v":""},{"$f":"IF(大会名簿!J258=\"\",\"\",大会名簿!J258)","v":""},"","",null,null,null,null,null,null,null,null,null,null,null,null,"","","",""]
[255,"",{"$f":"大会名簿!C259","v":32},{"$f":"大会名簿!D259","v":"７"},{"$f":"IF(大会名簿!F259=\"\",\"\",大会名簿!F259)","v":""},{"$f":"IF(大会名簿!G259=\"\",\"\",大会名簿!G259)","v":""},{"$f":"IF(大会名簿!H259=\"\",\"\",大会名簿!H259)","v":""},{"$f":"IF(大会名簿!J259=\"\",\"\",大会名簿!J259)","v":""},"","",null,null,null,null,null,null,null,null,null,null,null,null,"","","",""]
[256,"",{"$f":"大会名簿!C260","v":32},{"$f":"大会名簿!D260","v":"８"},{"$f":"IF(大会名簿!F260=\"\",\"\",大会名簿!F260)","v":""},{"$f":"IF(大会名簿!G260=\"\",\"\",大会名簿!G260)","v":""},{"$f":"IF(大会名簿!H260=\"\",\"\",大会名簿!H260)","v":""},{"$f":"IF(大会名簿!J260=\"\",\"\",大会名簿!J260)","v":""},"","",null,null,null,null,null,null,null,null,null,null,null,null,"","","",""]
[257,{"$f":"IF(W261=\"\",\"\",RANK(Z261,$Z$5:$Z$324,1))","v":""},{"$f":"大会名簿!C261","v":33},{"$f":"大会名簿!D261","v":"１"},{"$f":"IF(大会名簿!F261=\"\",\"\",大会名簿!F261)","v":""},{"$f":"IF(大会名簿!G261=\"\",\"\",大会名簿!G261)","v":""},{"$f":"IF(大会名簿!H261=\"\",\"\",大会名簿!H261)","v":""},{"$f":"IF(大会名簿!J261=\"\",\"\",大会名簿!J261)","v":""},{"$f":"IF(H261=\"\",\"\",DATEDIF(H261,TODAY(),\"y\"))","v":""},{"$f":"H261","v":""},null,null,null,null,null,null,null,null,null,null,null,null,{"$f":"IF(SUM(M261,P261,S261,V261)=0,\"\",(SUM(M261,P261,S261,V261)))","v":""},{"$f":"IF(F261=\"\",\"\",(SUM(K261,N261,Q261,T261)))","v":""},{"$f":"IF(F261=\"\",\"\",(SUM(L261,O261,R261,U261)))","v":""},{"$f":"IF(W261=\"\",\"\",(W261-X261*0.1-Y261*0.001+J261*0.00000001))","v":""}]
[258,"",{"$f":"大会名簿!C262","v":33},{"$f":"大会名簿!D262","v":"２"},{"$f":"IF(大会名簿!F262=\"\",\"\",大会名簿!F262)","v":""},{"$f":"IF(大会名簿!G262=\"\",\"\",大会名簿!G262)","v":""},{"$f":"IF(大会名簿!H262=\"\",\"\",大会名簿!H262)","v":""},{"$f":"IF(大会名簿!J262=\"\",\"\",大会名簿!J262)","v":""},"","",null,null,null,null,null,null,null,null,null,null,null,null,"","","",""]
[259,"",{"$f":"大会名簿!C263","v":33},{"$f":"大会名簿!D263","v":"３"},{"$f":"IF(大会名簿!F263=\"\",\"\",大会名簿!F263)","v":""},{"$f":"IF(大会名簿!G263=\"\",\"\",大会名簿!G263)","v":""},{"$f":"IF(大会名簿!H263=\"\",\"\",大会名簿!H263)","v":""},{"$f":"IF(大会名簿!J263=\"\",\"\",大会名簿!J263)","v":""},"","",null,null,null,null,null,null,null,null,null,null,null,null,"","","",""]
[260,"",{"$f":"大会名簿!C264","v":33},{"$f":"大会名簿!D264","v":"４"},{"$f":"IF(大会名簿!F264=\"\",\"\",大会名簿!F264)","v":""},{"$f":"IF(大会名簿!G264=\"\",\"\",大会名簿!G264)","v":""},{"$f":"IF(大会名簿!H264=\"\",\"\",大会名簿!H264)","v":""},{"$f":"IF(大会名簿!J264=\"\",\"\",大会名簿!J264)","v":""},"","",null,null,null,null,null,null,null,null,null,null,null,null,"","","",""]
[261,"",{"$f":"大会名簿!C265","v":33},{"$f":"大会名簿!D265","v":"５"},{"$f":"IF(大会名簿!F265=\"\",\"\",大会名簿!F265)","v":""},{"$f":"IF(大会名簿!G265=\"\",\"\",大会名簿!G265)","v":""},{"$f":"IF(大会名簿!H265=\"\",\"\",大会名簿!H265)","v":""},{"$f":"IF(大会名簿!J265=\"\",\"\",大会名簿!J265)","v":""},"","",null,null,null,null,null,null,null,null,null,null,null,null,"","","",""]
[262,"",{"$f":"大会名簿!C266","v":33},{"$f":"大会名簿!D266","v":"６"},{"$f":"IF(大会名簿!F266=\"\",\"\",大会名簿!F266)","v":""},{"$f":"IF(大会名簿!G266=\"\",\"\",大会名簿!G266)","v":""},{"$f":"IF(大会名簿!H266=\"\",\"\",大会名簿!H266)","v":""},{"$f":"IF(大会名簿!J266=\"\",\"\",大会名簿!J266)","v":""},"","",null,null,null,null,null,null,null,null,null,null,null,null,"","","",""]
[263,"",{"$f":"大会名簿!C267","v":33},{"$f":"大会名簿!D267","v":"７"},{"$f":"IF(大会名簿!F267=\"\",\"\",大会名簿!F267)","v":""},{"$f":"IF(大会名簿!G267=\"\",\"\",大会名簿!G267)","v":""},{"$f":"IF(大会名簿!H267=\"\",\"\",大会名簿!H267)","v":""},{"$f":"IF(大会名簿!J267=\"\",\"\",大会名簿!J267)","v":""},"","",null,null,null,null,null,null,null,null,null,null,null,null,"","","",""]
[264,"",{"$f":"大会名簿!C268","v":33},{"$f":"大会名簿!D268","v":"８"},{"$f":"IF(大会名簿!F268=\"\",\"\",大会名簿!F268)","v":""},{"$f":"IF(大会名簿!G268=\"\",\"\",大会名簿!G268)","v":""},{"$f":"IF(大会名簿!H268=\"\",\"\",大会名簿!H268)","v":""},{"$f":"IF(大会名簿!J268=\"\",\"\",大会名簿!J268)","v":""},"","",null,null,null,null,null,null,null,null,null,null,null,null,"","","",""]
[265,"",{"$f":"大会名簿!C269","v":34},{"$f":"大会名簿!D269","v":"１"},{"$f":"IF(大会名簿!F269=\"\",\"\",大会名簿!F269)","v":""},{"$f":"IF(大会名簿!G269=\"\",\"\",大会名簿!G269)","v":""},{"$f":"IF(大会名簿!H269=\"\",\"\",大会名簿!H269)","v":""},{"$f":"IF(大会名簿!J269=\"\",\"\",大会名簿!J269)","v":""},"","",null,null,null,null,null,null,null,null,null,null,null,null,"","","",""]
[266,"",{"$f":"大会名簿!C270","v":34},{"$f":"大会名簿!D270","v":"２"},{"$f":"IF(大会名簿!F270=\"\",\"\",大会名簿!F270)","v":""},{"$f":"IF(大会名簿!G270=\"\",\"\",大会名簿!G270)","v":""},{"$f":"IF(大会名簿!H270=\"\",\"\",大会名簿!H270)","v":""},{"$f":"IF(大会名簿!J270=\"\",\"\",大会名簿!J270)","v":""},"","",null,null,null,null,null,null,null,null,null,null,null,null,"","","",""]
[267,"",{"$f":"大会名簿!C271","v":34},{"$f":"大会名簿!D271","v":"３"},{"$f":"IF(大会名簿!F271=\"\",\"\",大会名簿!F271)","v":""},{"$f":"IF(大会名簿!G271=\"\",\"\",大会名簿!G271)","v":""},{"$f":"IF(大会名簿!H271=\"\",\"\",大会名簿!H271)","v":""},{"$f":"IF(大会名簿!J271=\"\",\"\",大会名簿!J271)","v":""},"","",null,null,null,null,null,null,null,null,null,null,null,null,"","","",""]
[268,"",{"$f":"大会名簿!C272","v":34},{"$f":"大会名簿!D272","v":"４"},{"$f":"IF(大会名簿!F272=\"\",\"\",大会名簿!F272)","v":""},{"$f":"IF(大会名簿!G272=\"\",\"\",大会名簿!G272)","v":""},{"$f":"IF(大会名簿!H272=\"\",\"\",大会名簿!H272)","v":""},{"$f":"IF(大会名簿!J272=\"\",\"\",大会名簿!J272)","v":""},"","",null,null,null,null,null,null,null,null,null,null,null,null,"","","",""]
[269,"",{"$f":"大会名簿!C273","v":34},{"$f":"大会名簿!D273","v":"５"},{"$f":"IF(大会名簿!F273=\"\",\"\",大会名簿!F273)","v":""},{"$f":"IF(大会名簿!G273=\"\",\"\",大会名簿!G273)","v":""},{"$f":"IF(大会名簿!H273=\"\",\"\",大会名簿!H273)","v":""},{"$f":"IF(大会名簿!J273=\"\",\"\",大会名簿!J273)","v":""},"","",null,null,null,null,null,null,null,null,null,null,null,null,"","","",""]
[270,"",{"$f":"大会名簿!C274","v":34},{"$f":"大会名簿!D274","v":"６"},{"$f":"IF(大会名簿!F274=\"\",\"\",大会名簿!F274)","v":""},{"$f":"IF(大会名簿!G274=\"\",\"\",大会名簿!G274)","v":""},{"$f":"IF(大会名簿!H274=\"\",\"\",大会名簿!H274)","v":""},{"$f":"IF(大会名簿!J274=\"\",\"\",大会名簿!J274)","v":""},"","",null,null,null,null,null,null,null,null,null,null,null,null,"","","",""]
[271,"",{"$f":"大会名簿!C275","v":34},{"$f":"大会名簿!D275","v":"７"},{"$f":"IF(大会名簿!F275=\"\",\"\",大会名簿!F275)","v":""},{"$f":"IF(大会名簿!G275=\"\",\"\",大会名簿!G275)","v":""},{"$f":"IF(大会名簿!H275=\"\",\"\",大会名簿!H275)","v":""},{"$f":"IF(大会名簿!J275=\"\",\"\",大会名簿!J275)","v":""},"","",null,null,null,null,null,null,null,null,null,null,null,null,"","","",""]
[272,"",{"$f":"大会名簿!C276","v":34},{"$f":"大会名簿!D276","v":"８"},{"$f":"IF(大会名簿!F276=\"\",\"\",大会名簿!F276)","v":""},{"$f":"IF(大会名簿!G276=\"\",\"\",大会名簿!G276)","v":""},{"$f":"IF(大会名簿!H276=\"\",\"\",大会名簿!H276)","v":""},{"$f":"IF(大会名簿!J276=\"\",\"\",大会名簿!J276)","v":""},"","",null,null,null,null,null,null,null,null,null,null,null,null,"","","",""]
[273,"",{"$f":"大会名簿!C277","v":35},{"$f":"大会名簿!D277","v":"１"},{"$f":"IF(大会名簿!F277=\"\",\"\",大会名簿!F277)","v":""},{"$f":"IF(大会名簿!G277=\"\",\"\",大会名簿!G277)","v":""},{"$f":"IF(大会名簿!H277=\"\",\"\",大会名簿!H277)","v":""},{"$f":"IF(大会名簿!J277=\"\",\"\",大会名簿!J277)","v":""},"","",null,null,null,null,null,null,null,null,null,null,null,null,"","","",""]
[274,"",{"$f":"大会名簿!C278","v":35},{"$f":"大会名簿!D278","v":"２"},{"$f":"IF(大会名簿!F278=\"\",\"\",大会名簿!F278)","v":""},{"$f":"IF(大会名簿!G278=\"\",\"\",大会名簿!G278)","v":""},{"$f":"IF(大会名簿!H278=\"\",\"\",大会名簿!H278)","v":""},{"$f":"IF(大会名簿!J278=\"\",\"\",大会名簿!J278)","v":""},"","",null,null,null,null,null,null,null,null,null,null,null,null,"","","",""]
[275,"",{"$f":"大会名簿!C279","v":35},{"$f":"大会名簿!D279","v":"３"},{"$f":"IF(大会名簿!F279=\"\",\"\",大会名簿!F279)","v":""},{"$f":"IF(大会名簿!G279=\"\",\"\",大会名簿!G279)","v":""},{"$f":"IF(大会名簿!H279=\"\",\"\",大会名簿!H279)","v":""},{"$f":"IF(大会名簿!J279=\"\",\"\",大会名簿!J279)","v":""},"","",null,null,null,null,null,null,null,null,null,null,null,null,"","","",""]
[276,"",{"$f":"大会名簿!C280","v":35},{"$f":"大会名簿!D280","v":"４"},{"$f":"IF(大会名簿!F280=\"\",\"\",大会名簿!F280)","v":""},{"$f":"IF(大会名簿!G280=\"\",\"\",大会名簿!G280)","v":""},{"$f":"IF(大会名簿!H280=\"\",\"\",大会名簿!H280)","v":""},{"$f":"IF(大会名簿!J280=\"\",\"\",大会名簿!J280)","v":""},"","",null,null,null,null,null,null,null,null,null,null,null,null,"","","",""]
[277,"",{"$f":"大会名簿!C281","v":35},{"$f":"大会名簿!D281","v":"５"},{"$f":"IF(大会名簿!F281=\"\",\"\",大会名簿!F281)","v":""},{"$f":"IF(大会名簿!G281=\"\",\"\",大会名簿!G281)","v":""},{"$f":"IF(大会名簿!H281=\"\",\"\",大会名簿!H281)","v":""},{"$f":"IF(大会名簿!J281=\"\",\"\",大会名簿!J281)","v":""},"","",null,null,null,null,null,null,null,null,null,null,null,null,"","","",""]
[278,"",{"$f":"大会名簿!C282","v":35},{"$f":"大会名簿!D282","v":"６"},{"$f":"IF(大会名簿!F282=\"\",\"\",大会名簿!F282)","v":""},{"$f":"IF(大会名簿!G282=\"\",\"\",大会名簿!G282)","v":""},{"$f":"IF(大会名簿!H282=\"\",\"\",大会名簿!H282)","v":""},{"$f":"IF(大会名簿!J282=\"\",\"\",大会名簿!J282)","v":""},"","",null,null,null,null,null,null,null,null,null,null,null,null,"","","",""]
[279,"",{"$f":"大会名簿!C283","v":35},{"$f":"大会名簿!D283","v":"７"},{"$f":"IF(大会名簿!F283=\"\",\"\",大会名簿!F283)","v":""},{"$f":"IF(大会名簿!G283=\"\",\"\",大会名簿!G283)","v":""},{"$f":"IF(大会名簿!H283=\"\",\"\",大会名簿!H283)","v":""},{"$f":"IF(大会名簿!J283=\"\",\"\",大会名簿!J283)","v":""},"","",null,null,null,null,null,null,null,null,null,null,null,null,"","","",""]
[280,"",{"$f":"大会名簿!C284","v":35},{"$f":"大会名簿!D284","v":"８"},{"$f":"IF(大会名簿!F284=\"\",\"\",大会名簿!F284)","v":""},{"$f":"IF(大会名簿!G284=\"\",\"\",大会名簿!G284)","v":""},{"$f":"IF(大会名簿!H284=\"\",\"\",大会名簿!H284)","v":""},{"$f":"IF(大会名簿!J284=\"\",\"\",大会名簿!J284)","v":""},"","",null,null,null,null,null,null,null,null,null,null,null,null,"","","",""]
[281,"",{"$f":"大会名簿!C285","v":36},{"$f":"大会名簿!D285","v":"１"},{"$f":"IF(大会名簿!F285=\"\",\"\",大会名簿!F285)","v":""},{"$f":"IF(大会名簿!G285=\"\",\"\",大会名簿!G285)","v":""},{"$f":"IF(大会名簿!H285=\"\",\"\",大会名簿!H285)","v":""},{"$f":"IF(大会名簿!J285=\"\",\"\",大会名簿!J285)","v":""},"","",null,null,null,null,null,null,null,null,null,null,null,null,"","","",""]
[282,"",{"$f":"大会名簿!C286","v":36},{"$f":"大会名簿!D286","v":"２"},{"$f":"IF(大会名簿!F286=\"\",\"\",大会名簿!F286)","v":""},{"$f":"IF(大会名簿!G286=\"\",\"\",大会名簿!G286)","v":""},{"$f":"IF(大会名簿!H286=\"\",\"\",大会名簿!H286)","v":""},{"$f":"IF(大会名簿!J286=\"\",\"\",大会名簿!J286)","v":""},"","",null,null,null,null,null,null,null,null,null,null,null,null,"","","",""]
[283,"",{"$f":"大会名簿!C287","v":36},{"$f":"大会名簿!D287","v":"３"},{"$f":"IF(大会名簿!F287=\"\",\"\",大会名簿!F287)","v":""},{"$f":"IF(大会名簿!G287=\"\",\"\",大会名簿!G287)","v":""},{"$f":"IF(大会名簿!H287=\"\",\"\",大会名簿!H287)","v":""},{"$f":"IF(大会名簿!J287=\"\",\"\",大会名簿!J287)","v":""},"","",null,null,null,null,null,null,null,null,null,null,null,null,"","","",""]
[284,"",{"$f":"大会名簿!C288","v":36},{"$f":"大会名簿!D288","v":"４"},{"$f":"IF(大会名簿!F288=\"\",\"\",大会名簿!F288)","v":""},{"$f":"IF(大会名簿!G288=\"\",\"\",大会名簿!G288)","v":""},{"$f":"IF(大会名簿!H288=\"\",\"\",大会名簿!H288)","v":""},{"$f":"IF(大会名簿!J288=\"\",\"\",大会名簿!J288)","v":""},"","",null,null,null,null,null,null,null,null,null,null,null,null,"","","",""]
[285,"",{"$f":"大会名簿!C289","v":36},{"$f":"大会名簿!D289","v":"５"},{"$f":"IF(大会名簿!F289=\"\",\"\",大会名簿!F289)","v":""},{"$f":"IF(大会名簿!G289=\"\",\"\",大会名簿!G289)","v":""},{"$f":"IF(大会名簿!H289=\"\",\"\",大会名簿!H289)","v":""},{"$f":"IF(大会名簿!J289=\"\",\"\",大会名簿!J289)","v":""},"","",null,null,null,null,null,null,null,null,null,null,null,null,"","","",""]
[286,"",{"$f":"大会名簿!C290","v":36},{"$f":"大会名簿!D290","v":"６"},{"$f":"IF(大会名簿!F290=\"\",\"\",大会名簿!F290)","v":""},{"$f":"IF(大会名簿!G290=\"\",\"\",大会名簿!G290)","v":""},{"$f":"IF(大会名簿!H290=\"\",\"\",大会名簿!H290)","v":""},{"$f":"IF(大会名簿!J290=\"\",\"\",大会名簿!J290)","v":""},"","",null,null,null,null,null,null,null,null,null,null,null,null,"","","",""]
[287,"",{"$f":"大会名簿!C291","v":36},{"$f":"大会名簿!D291","v":"７"},{"$f":"IF(大会名簿!F291=\"\",\"\",大会名簿!F291)","v":""},{"$f":"IF(大会名簿!G291=\"\",\"\",大会名簿!G291)","v":""},{"$f":"IF(大会名簿!H291=\"\",\"\",大会名簿!H291)","v":""},{"$f":"IF(大会名簿!J291=\"\",\"\",大会名簿!J291)","v":""},"","",null,null,null,null,null,null,null,null,null,null,null,null,"","","",""]
[288,"",{"$f":"大会名簿!C292","v":36},{"$f":"大会名簿!D292","v":"８"},{"$f":"IF(大会名簿!F292=\"\",\"\",大会名簿!F292)","v":""},{"$f":"IF(大会名簿!G292=\"\",\"\",大会名簿!G292)","v":""},{"$f":"IF(大会名簿!H292=\"\",\"\",大会名簿!H292)","v":""},{"$f":"IF(大会名簿!J292=\"\",\"\",大会名簿!J292)","v":""},"","",null,null,null,null,null,null,null,null,null,null,null,null,"","","",""]
[289,"",{"$f":"大会名簿!C293","v":37},{"$f":"大会名簿!D293","v":"１"},{"$f":"IF(大会名簿!F293=\"\",\"\",大会名簿!F293)","v":""},{"$f":"IF(大会名簿!G293=\"\",\"\",大会名簿!G293)","v":""},{"$f":"IF(大会名簿!H277=\"\",\"\",大会名簿!H277)","v":""},{"$f":"IF(大会名簿!J277=\"\",\"\",大会名簿!J277)","v":""},"","",null,null,null,null,null,null,null,null,null,null,null,null,"","","",""]
[290,"",{"$f":"大会名簿!C294","v":37},{"$f":"大会名簿!D294","v":"２"},{"$f":"IF(大会名簿!F294=\"\",\"\",大会名簿!F294)","v":""},{"$f":"IF(大会名簿!G294=\"\",\"\",大会名簿!G294)","v":""},{"$f":"IF(大会名簿!H278=\"\",\"\",大会名簿!H278)","v":""},{"$f":"IF(大会名簿!J278=\"\",\"\",大会名簿!J278)","v":""},"","",null,null,null,null,null,null,null,null,null,null,null,null,"","","",""]
[291,"",{"$f":"大会名簿!C295","v":37},{"$f":"大会名簿!D295","v":"３"},{"$f":"IF(大会名簿!F295=\"\",\"\",大会名簿!F295)","v":""},{"$f":"IF(大会名簿!G295=\"\",\"\",大会名簿!G295)","v":""},{"$f":"IF(大会名簿!H279=\"\",\"\",大会名簿!H279)","v":""},{"$f":"IF(大会名簿!J279=\"\",\"\",大会名簿!J279)","v":""},"","",null,null,null,null,null,null,null,null,null,null,null,null,"","","",""]
[292,"",{"$f":"大会名簿!C296","v":37},{"$f":"大会名簿!D296","v":"４"},{"$f":"IF(大会名簿!F296=\"\",\"\",大会名簿!F296)","v":""},{"$f":"IF(大会名簿!G296=\"\",\"\",大会名簿!G296)","v":""},{"$f":"IF(大会名簿!H280=\"\",\"\",大会名簿!H280)","v":""},{"$f":"IF(大会名簿!J280=\"\",\"\",大会名簿!J280)","v":""},"","",null,null,null,null,null,null,null,null,null,null,null,null,"","","",""]
[293,"",{"$f":"大会名簿!C297","v":37},{"$f":"大会名簿!D297","v":"５"},{"$f":"IF(大会名簿!F297=\"\",\"\",大会名簿!F297)","v":""},{"$f":"IF(大会名簿!G297=\"\",\"\",大会名簿!G297)","v":""},{"$f":"IF(大会名簿!H281=\"\",\"\",大会名簿!H281)","v":""},{"$f":"IF(大会名簿!J281=\"\",\"\",大会名簿!J281)","v":""},"","",null,null,null,null,null,null,null,null,null,null,null,null,"","","",""]
[294,"",{"$f":"大会名簿!C298","v":37},{"$f":"大会名簿!D298","v":"６"},{"$f":"IF(大会名簿!F298=\"\",\"\",大会名簿!F298)","v":""},{"$f":"IF(大会名簿!G298=\"\",\"\",大会名簿!G298)","v":""},{"$f":"IF(大会名簿!H282=\"\",\"\",大会名簿!H282)","v":""},{"$f":"IF(大会名簿!J282=\"\",\"\",大会名簿!J282)","v":""},"","",null,null,null,null,null,null,null,null,null,null,null,null,"","","",""]
[295,"",{"$f":"大会名簿!C299","v":37},{"$f":"大会名簿!D299","v":"７"},{"$f":"IF(大会名簿!F299=\"\",\"\",大会名簿!F299)","v":""},{"$f":"IF(大会名簿!G299=\"\",\"\",大会名簿!G299)","v":""},{"$f":"IF(大会名簿!H283=\"\",\"\",大会名簿!H283)","v":""},{"$f":"IF(大会名簿!J283=\"\",\"\",大会名簿!J283)","v":""},"","",null,null,null,null,null,null,null,null,null,null,null,null,"","","",""]
[296,"",{"$f":"大会名簿!C300","v":37},{"$f":"大会名簿!D300","v":"８"},{"$f":"IF(大会名簿!F300=\"\",\"\",大会名簿!F300)","v":""},{"$f":"IF(大会名簿!G300=\"\",\"\",大会名簿!G300)","v":""},{"$f":"IF(大会名簿!H284=\"\",\"\",大会名簿!H284)","v":""},{"$f":"IF(大会名簿!J284=\"\",\"\",大会名簿!J284)","v":""},"","",null,null,null,null,null,null,null,null,null,null,null,null,"","","",""]
[297,"",{"$f":"大会名簿!C301","v":38},{"$f":"大会名簿!D301","v":"１"},{"$f":"IF(大会名簿!F301=\"\",\"\",大会名簿!F301)","v":""},{"$f":"IF(大会名簿!G301=\"\",\"\",大会名簿!G301)","v":""},{"$f":"IF(大会名簿!H285=\"\",\"\",大会名簿!H285)","v":""},{"$f":"IF(大会名簿!J285=\"\",\"\",大会名簿!J285)","v":""},"","",null,null,null,null,null,null,null,null,null,null,null,null,"","","",""]
[298,"",{"$f":"大会名簿!C302","v":38},{"$f":"大会名簿!D302","v":"２"},{"$f":"IF(大会名簿!F302=\"\",\"\",大会名簿!F302)","v":""},{"$f":"IF(大会名簿!G302=\"\",\"\",大会名簿!G302)","v":""},{"$f":"IF(大会名簿!H286=\"\",\"\",大会名簿!H286)","v":""},{"$f":"IF(大会名簿!J286=\"\",\"\",大会名簿!J286)","v":""},"","",null,null,null,null,null,null,null,null,null,null,null,null,"","","",""]
[299,"",{"$f":"大会名簿!C303","v":38},{"$f":"大会名簿!D303","v":"３"},{"$f":"IF(大会名簿!F303=\"\",\"\",大会名簿!F303)","v":""},{"$f":"IF(大会名簿!G303=\"\",\"\",大会名簿!G303)","v":""},{"$f":"IF(大会名簿!H287=\"\",\"\",大会名簿!H287)","v":""},{"$f":"IF(大会名簿!J287=\"\",\"\",大会名簿!J287)","v":""},"","",null,null,null,null,null,null,null,null,null,null,null,null,"","","",""]
[300,"",{"$f":"大会名簿!C304","v":38},{"$f":"大会名簿!D304","v":"４"},{"$f":"IF(大会名簿!F304=\"\",\"\",大会名簿!F304)","v":""},{"$f":"IF(大会名簿!G304=\"\",\"\",大会名簿!G304)","v":""},{"$f":"IF(大会名簿!H288=\"\",\"\",大会名簿!H288)","v":""},{"$f":"IF(大会名簿!J288=\"\",\"\",大会名簿!J288)","v":""},"","",null,null,null,null,null,null,null,null,null,null,null,null,"","","",""]
[301,"",{"$f":"大会名簿!C305","v":38},{"$f":"大会名簿!D305","v":"５"},{"$f":"IF(大会名簿!F305=\"\",\"\",大会名簿!F305)","v":""},{"$f":"IF(大会名簿!G305=\"\",\"\",大会名簿!G305)","v":""},{"$f":"IF(大会名簿!H289=\"\",\"\",大会名簿!H289)","v":""},{"$f":"IF(大会名簿!J289=\"\",\"\",大会名簿!J289)","v":""},"","",null,null,null,null,null,null,null,null,null,null,null,null,"","","",""]
[302,"",{"$f":"大会名簿!C306","v":38},{"$f":"大会名簿!D306","v":"６"},{"$f":"IF(大会名簿!F306=\"\",\"\",大会名簿!F306)","v":""},{"$f":"IF(大会名簿!G306=\"\",\"\",大会名簿!G306)","v":""},{"$f":"IF(大会名簿!H290=\"\",\"\",大会名簿!H290)","v":""},{"$f":"IF(大会名簿!J290=\"\",\"\",大会名簿!J290)","v":""},"","",null,null,null,null,null,null,null,null,null,null,null,null,"","","",""]
[303,"",{"$f":"大会名簿!C307","v":38},{"$f":"大会名簿!D307","v":"７"},{"$f":"IF(大会名簿!F307=\"\",\"\",大会名簿!F307)","v":""},{"$f":"IF(大会名簿!G307=\"\",\"\",大会名簿!G307)","v":""},{"$f":"IF(大会名簿!H291=\"\",\"\",大会名簿!H291)","v":""},{"$f":"IF(大会名簿!J291=\"\",\"\",大会名簿!J291)","v":""},"","",null,null,null,null,null,null,null,null,null,null,null,null,"","","",""]
[304,"",{"$f":"大会名簿!C308","v":38},{"$f":"大会名簿!D308","v":"８"},{"$f":"IF(大会名簿!F308=\"\",\"\",大会名簿!F308)","v":""},{"$f":"IF(大会名簿!G308=\"\",\"\",大会名簿!G308)","v":""},{"$f":"IF(大会名簿!H292=\"\",\"\",大会名簿!H292)","v":""},{"$f":"IF(大会名簿!J292=\"\",\"\",大会名簿!J292)","v":""},"","",null,null,null,null,null,null,null,null,null,null,null,null,"","","",""]
[305,"",{"$f":"大会名簿!C309","v":39},{"$f":"大会名簿!D309","v":"１"},{"$f":"IF(大会名簿!F309=\"\",\"\",大会名簿!F309)","v":""},{"$f":"IF(大会名簿!G309=\"\",\"\",大会名簿!G309)","v":""},{"$f":"IF(大会名簿!H293=\"\",\"\",大会名簿!H293)","v":""},{"$f":"IF(大会名簿!J293=\"\",\"\",大会名簿!J293)","v":""},"","",null,null,null,null,null,null,null,null,null,null,null,null,"","","",""]
[306,"",{"$f":"大会名簿!C310","v":39},{"$f":"大会名簿!D310","v":"２"},{"$f":"IF(大会名簿!F310=\"\",\"\",大会名簿!F310)","v":""},{"$f":"IF(大会名簿!G310=\"\",\"\",大会名簿!G310)","v":""},{"$f":"IF(大会名簿!H294=\"\",\"\",大会名簿!H294)","v":""},{"$f":"IF(大会名簿!J294=\"\",\"\",大会名簿!J294)","v":""},"","",null,null,null,null,null,null,null,null,null,null,null,null,"","","",""]
[307,"",{"$f":"大会名簿!C311","v":39},{"$f":"大会名簿!D311","v":"３"},{"$f":"IF(大会名簿!F311=\"\",\"\",大会名簿!F311)","v":""},{"$f":"IF(大会名簿!G311=\"\",\"\",大会名簿!G311)","v":""},{"$f":"IF(大会名簿!H295=\"\",\"\",大会名簿!H295)","v":""},{"$f":"IF(大会名簿!J295=\"\",\"\",大会名簿!J295)","v":""},"","",null,null,null,null,null,null,null,null,null,null,null,null,"","","",""]
[308,"",{"$f":"大会名簿!C312","v":39},{"$f":"大会名簿!D312","v":"４"},{"$f":"IF(大会名簿!F312=\"\",\"\",大会名簿!F312)","v":""},{"$f":"IF(大会名簿!G312=\"\",\"\",大会名簿!G312)","v":""},{"$f":"IF(大会名簿!H296=\"\",\"\",大会名簿!H296)","v":""},{"$f":"IF(大会名簿!J296=\"\",\"\",大会名簿!J296)","v":""},"","",null,null,null,null,null,null,null,null,null,null,null,null,"","","",""]
[309,"",{"$f":"大会名簿!C313","v":39},{"$f":"大会名簿!D313","v":"５"},{"$f":"IF(大会名簿!F313=\"\",\"\",大会名簿!F313)","v":""},{"$f":"IF(大会名簿!G313=\"\",\"\",大会名簿!G313)","v":""},{"$f":"IF(大会名簿!H297=\"\",\"\",大会名簿!H297)","v":""},{"$f":"IF(大会名簿!J297=\"\",\"\",大会名簿!J297)","v":""},"","",null,null,null,null,null,null,null,null,null,null,null,null,"","","",""]
[310,"",{"$f":"大会名簿!C314","v":39},{"$f":"大会名簿!D314","v":"６"},{"$f":"IF(大会名簿!F314=\"\",\"\",大会名簿!F314)","v":""},{"$f":"IF(大会名簿!G314=\"\",\"\",大会名簿!G314)","v":""},{"$f":"IF(大会名簿!H298=\"\",\"\",大会名簿!H298)","v":""},{"$f":"IF(大会名簿!J298=\"\",\"\",大会名簿!J298)","v":""},"","",null,null,null,null,null,null,null,null,null,null,null,null,"","","",""]
[311,"",{"$f":"大会名簿!C315","v":39},{"$f":"大会名簿!D315","v":"７"},{"$f":"IF(大会名簿!F315=\"\",\"\",大会名簿!F315)","v":""},{"$f":"IF(大会名簿!G315=\"\",\"\",大会名簿!G315)","v":""},{"$f":"IF(大会名簿!H299=\"\",\"\",大会名簿!H299)","v":""},{"$f":"IF(大会名簿!J299=\"\",\"\",大会名簿!J299)","v":""},"","",null,null,null,null,null,null,null,null,null,null,null,null,"","","",""]
[312,"",{"$f":"大会名簿!C316","v":39},{"$f":"大会名簿!D316","v":"８"},{"$f":"IF(大会名簿!F316=\"\",\"\",大会名簿!F316)","v":""},{"$f":"IF(大会名簿!G316=\"\",\"\",大会名簿!G316)","v":""},{"$f":"IF(大会名簿!H300=\"\",\"\",大会名簿!H300)","v":""},{"$f":"IF(大会名簿!J300=\"\",\"\",大会名簿!J300)","v":""},"","",null,null,null,null,null,null,null,null,null,null,null,null,"","","",""]
[313,"",{"$f":"大会名簿!C317","v":40},{"$f":"大会名簿!D317","v":"１"},{"$f":"IF(大会名簿!F317=\"\",\"\",大会名簿!F317)","v":""},{"$f":"IF(大会名簿!G317=\"\",\"\",大会名簿!G317)","v":""},{"$f":"IF(大会名簿!H301=\"\",\"\",大会名簿!H301)","v":""},{"$f":"IF(大会名簿!J301=\"\",\"\",大会名簿!J301)","v":""},"","",null,null,null,null,null,null,null,null,null,null,null,null,"","","",""]
[314,"",{"$f":"大会名簿!C318","v":40},{"$f":"大会名簿!D318","v":"２"},{"$f":"IF(大会名簿!F318=\"\",\"\",大会名簿!F318)","v":""},{"$f":"IF(大会名簿!G318=\"\",\"\",大会名簿!G318)","v":""},{"$f":"IF(大会名簿!H302=\"\",\"\",大会名簿!H302)","v":""},{"$f":"IF(大会名簿!J302=\"\",\"\",大会名簿!J302)","v":""},"","",null,null,null,null,null,null,null,null,null,null,null,null,"","","",""]
[315,"",{"$f":"大会名簿!C319","v":40},{"$f":"大会名簿!D319","v":"３"},{"$f":"IF(大会名簿!F319=\"\",\"\",大会名簿!F319)","v":""},{"$f":"IF(大会名簿!G319=\"\",\"\",大会名簿!G319)","v":""},{"$f":"IF(大会名簿!H303=\"\",\"\",大会名簿!H303)","v":""},{"$f":"IF(大会名簿!J303=\"\",\"\",大会名簿!J303)","v":""},"","",null,null,null,null,null,null,null,null,null,null,null,null,"","","",""]
[316,"",{"$f":"大会名簿!C320","v":40},{"$f":"大会名簿!D320","v":"４"},{"$f":"IF(大会名簿!F320=\"\",\"\",大会名簿!F320)","v":""},{"$f":"IF(大会名簿!G320=\"\",\"\",大会名簿!G320)","v":""},{"$f":"IF(大会名簿!H304=\"\",\"\",大会名簿!H304)","v":""},{"$f":"IF(大会名簿!J304=\"\",\"\",大会名簿!J304)","v":""},"","",null,null,null,null,null,null,null,null,null,null,null,null,"","","",""]
[317,"",{"$f":"大会名簿!C321","v":40},{"$f":"大会名簿!D321","v":"５"},{"$f":"IF(大会名簿!F321=\"\",\"\",大会名簿!F321)","v":""},{"$f":"IF(大会名簿!G321=\"\",\"\",大会名簿!G321)","v":""},{"$f":"IF(大会名簿!H305=\"\",\"\",大会名簿!H305)","v":""},{"$f":"IF(大会名簿!J305=\"\",\"\",大会名簿!J305)","v":""},"","",null,null,null,null,null,null,null,null,null,null,null,null,"","","",""]
[318,"",{"$f":"大会名簿!C322","v":40},{"$f":"大会名簿!D322","v":"６"},{"$f":"IF(大会名簿!F322=\"\",\"\",大会名簿!F322)","v":""},{"$f":"IF(大会名簿!G322=\"\",\"\",大会名簿!G322)","v":""},{"$f":"IF(大会名簿!H306=\"\",\"\",大会名簿!H306)","v":""},{"$f":"IF(大会名簿!J306=\"\",\"\",大会名簿!J306)","v":""},"","",null,null,null,null,null,null,null,null,null,null,null,null,"","","",""]
[319,"",{"$f":"大会名簿!C323","v":40},{"$f":"大会名簿!D323","v":"７"},{"$f":"IF(大会名簿!F323=\"\",\"\",大会名簿!F323)","v":""},{"$f":"IF(大会名簿!G323=\"\",\"\",大会名簿!G323)","v":""},{"$f":"IF(大会名簿!H307=\"\",\"\",大会名簿!H307)","v":""},{"$f":"IF(大会名簿!J307=\"\",\"\",大会名簿!J307)","v":""},"","",null,null,null,null,null,null,null,null,null,null,null,null,"","","",""]
[320,"",{"$f":"大会名簿!C324","v":40},{"$f":"大会名簿!D324","v":"８"},{"$f":"IF(大会名簿!F324=\"\",\"\",大会名簿!F324)","v":""},{"$f":"IF(大会名簿!G324=\"\",\"\",大会名簿!G324)","v":""},{"$f":"IF(大会名簿!H308=\"\",\"\",大会名簿!H308)","v":""},{"$f":"IF(大会名簿!J308=\"\",\"\",大会名簿!J308)","v":""},"","",null,null,null,null,null,null,null,null,null,null,null,null,"","","",""]

{"sheet":"操作説明","index":5,"n_rows":0,"n_cols":0,"rows_kept":0,"cut":false,"hidden":false,"merged":[[69,2,69,4]]}